BEGIN:VCALENDAR
VERSION:2.0
PRODID:-//KofC12532 - ECPv6.15.20//NONSGML v1.0//EN
CALSCALE:GREGORIAN
METHOD:PUBLISH
X-ORIGINAL-URL:https://www.knights12532.com
X-WR-CALDESC:Events for KofC12532
REFRESH-INTERVAL;VALUE=DURATION:PT1H
X-Robots-Tag:noindex
X-PUBLISHED-TTL:PT1H
BEGIN:VTIMEZONE
TZID:America/New_York
BEGIN:DAYLIGHT
TZOFFSETFROM:-0500
TZOFFSETTO:-0400
TZNAME:EDT
DTSTART:20200308T070000
END:DAYLIGHT
BEGIN:STANDARD
TZOFFSETFROM:-0400
TZOFFSETTO:-0500
TZNAME:EST
DTSTART:20201101T060000
END:STANDARD
BEGIN:DAYLIGHT
TZOFFSETFROM:-0500
TZOFFSETTO:-0400
TZNAME:EDT
DTSTART:20210314T070000
END:DAYLIGHT
BEGIN:STANDARD
TZOFFSETFROM:-0400
TZOFFSETTO:-0500
TZNAME:EST
DTSTART:20211107T060000
END:STANDARD
BEGIN:DAYLIGHT
TZOFFSETFROM:-0500
TZOFFSETTO:-0400
TZNAME:EDT
DTSTART:20220313T070000
END:DAYLIGHT
BEGIN:STANDARD
TZOFFSETFROM:-0400
TZOFFSETTO:-0500
TZNAME:EST
DTSTART:20221106T060000
END:STANDARD
END:VTIMEZONE
BEGIN:VEVENT
DTSTART;TZID=America/New_York:20210815T120000
DTEND;TZID=America/New_York:20210815T150000
DTSTAMP:20260421T125006
CREATED:20210506T110416Z
LAST-MODIFIED:20210810T001859Z
UID:2391-1629028800-1629039600@www.knights12532.com
SUMMARY:21st Annual Pig & Corn Roast
DESCRIPTION:August 15\, 2021\n12:00 p.m. – 3:00 p.m.\nTickets: $12.00/per person\nCash or credit cards accepted at pickup. \nMenu\nPork Sandwich\nBaked Beans\nRoasted Corn on the Cob\nDrink\nIce Cream \nProceeds benefit Knights of Columbus Council 12532 Charities and Saint John Neumann Catholic Church. \nAdvance purchase available through 8/13/21.\nReceipt required for pickup.\n\nDay of event purchases will be available (cash or credit card). \nFor additional information info@knights12532.com.
URL:https://www.knights12532.com/event/pig-roast-2021/
LOCATION:Saint John Neumann Church\, 601 East Delp Road\, Lancaster\, PA\, 17601\, United States
ATTACH;FMTTYPE=image/jpeg:https://www.knights12532.com/wp-content/uploads/2021/05/bbq-sandwiches.jpeg
END:VEVENT
END:VCALENDAR