BEGIN:VCALENDAR
VERSION:2.0
PRODID:-//KofC12532 - ECPv6.15.20//NONSGML v1.0//EN
CALSCALE:GREGORIAN
METHOD:PUBLISH
X-ORIGINAL-URL:https://www.knights12532.com
X-WR-CALDESC:Events for KofC12532
REFRESH-INTERVAL;VALUE=DURATION:PT1H
X-Robots-Tag:noindex
X-PUBLISHED-TTL:PT1H
BEGIN:VTIMEZONE
TZID:America/New_York
BEGIN:DAYLIGHT
TZOFFSETFROM:-0500
TZOFFSETTO:-0400
TZNAME:EDT
DTSTART:20200308T070000
END:DAYLIGHT
BEGIN:STANDARD
TZOFFSETFROM:-0400
TZOFFSETTO:-0500
TZNAME:EST
DTSTART:20201101T060000
END:STANDARD
BEGIN:DAYLIGHT
TZOFFSETFROM:-0500
TZOFFSETTO:-0400
TZNAME:EDT
DTSTART:20210314T070000
END:DAYLIGHT
BEGIN:STANDARD
TZOFFSETFROM:-0400
TZOFFSETTO:-0500
TZNAME:EST
DTSTART:20211107T060000
END:STANDARD
BEGIN:DAYLIGHT
TZOFFSETFROM:-0500
TZOFFSETTO:-0400
TZNAME:EDT
DTSTART:20220313T070000
END:DAYLIGHT
BEGIN:STANDARD
TZOFFSETFROM:-0400
TZOFFSETTO:-0500
TZNAME:EST
DTSTART:20221106T060000
END:STANDARD
END:VTIMEZONE
BEGIN:VEVENT
DTSTART;TZID=America/New_York:20210817T191500
DTEND;TZID=America/New_York:20210817T210000
DTSTAMP:20260421T124958
CREATED:20210624T101051Z
LAST-MODIFIED:20210624T101520Z
UID:2433-1629227700-1629234000@www.knights12532.com
SUMMARY:Assembly Meeting
DESCRIPTION:Rosary at 7:15 meeting follows this month held at Lancaster 867 Home.
URL:https://www.knights12532.com/event/assembly-meeting-15/
LOCATION:Knights of Columbus 867\, 1575 New Danville Pike\, Lancaster\, PA\, 17603\, United States
END:VEVENT
END:VCALENDAR