BEGIN:VCALENDAR
VERSION:2.0
PRODID:-//KofC12532 - ECPv6.15.20//NONSGML v1.0//EN
CALSCALE:GREGORIAN
METHOD:PUBLISH
X-WR-CALNAME:KofC12532
X-ORIGINAL-URL:https://www.knights12532.com
X-WR-CALDESC:Events for KofC12532
REFRESH-INTERVAL;VALUE=DURATION:PT1H
X-Robots-Tag:noindex
X-PUBLISHED-TTL:PT1H
BEGIN:VTIMEZONE
TZID:America/New_York
BEGIN:DAYLIGHT
TZOFFSETFROM:-0500
TZOFFSETTO:-0400
TZNAME:EDT
DTSTART:20210314T070000
END:DAYLIGHT
BEGIN:STANDARD
TZOFFSETFROM:-0400
TZOFFSETTO:-0500
TZNAME:EST
DTSTART:20211107T060000
END:STANDARD
BEGIN:DAYLIGHT
TZOFFSETFROM:-0500
TZOFFSETTO:-0400
TZNAME:EDT
DTSTART:20220313T070000
END:DAYLIGHT
BEGIN:STANDARD
TZOFFSETFROM:-0400
TZOFFSETTO:-0500
TZNAME:EST
DTSTART:20221106T060000
END:STANDARD
BEGIN:DAYLIGHT
TZOFFSETFROM:-0500
TZOFFSETTO:-0400
TZNAME:EDT
DTSTART:20230312T070000
END:DAYLIGHT
BEGIN:STANDARD
TZOFFSETFROM:-0400
TZOFFSETTO:-0500
TZNAME:EST
DTSTART:20231105T060000
END:STANDARD
END:VTIMEZONE
BEGIN:VEVENT
DTSTART;TZID=America/New_York:20220608T160000
DTEND;TZID=America/New_York:20220608T210000
DTSTAMP:20260420T223246
CREATED:20220522T193858Z
LAST-MODIFIED:20220522T193858Z
UID:3400-1654704000-1654722000@www.knights12532.com
SUMMARY:Special Olympics Fundraiser
DESCRIPTION:Come out to Funks in Leola\, have dinner and tip generously.  All tips go to Lancaster County Special Olympians to send them to State College for the State Games.  This event is put on by the Lancaster County Police officers in conjunction with the PA state police.
URL:https://www.knights12532.com/event/special-olympics-fundraiser-2/
LOCATION:Funck’s Restaurant 365 W Main St\, Leola\, PA 17540\, 365 West Main St\, Leola\, PA\, 17540\, United States
END:VEVENT
END:VCALENDAR