BEGIN:VCALENDAR
VERSION:2.0
PRODID:-//KofC12532 - ECPv6.15.20//NONSGML v1.0//EN
CALSCALE:GREGORIAN
METHOD:PUBLISH
X-WR-CALNAME:KofC12532
X-ORIGINAL-URL:https://www.knights12532.com
X-WR-CALDESC:Events for KofC12532
REFRESH-INTERVAL;VALUE=DURATION:PT1H
X-Robots-Tag:noindex
X-PUBLISHED-TTL:PT1H
BEGIN:VTIMEZONE
TZID:America/New_York
BEGIN:DAYLIGHT
TZOFFSETFROM:-0500
TZOFFSETTO:-0400
TZNAME:EDT
DTSTART:20220313T070000
END:DAYLIGHT
BEGIN:STANDARD
TZOFFSETFROM:-0400
TZOFFSETTO:-0500
TZNAME:EST
DTSTART:20221106T060000
END:STANDARD
BEGIN:DAYLIGHT
TZOFFSETFROM:-0500
TZOFFSETTO:-0400
TZNAME:EDT
DTSTART:20230312T070000
END:DAYLIGHT
BEGIN:STANDARD
TZOFFSETFROM:-0400
TZOFFSETTO:-0500
TZNAME:EST
DTSTART:20231105T060000
END:STANDARD
BEGIN:DAYLIGHT
TZOFFSETFROM:-0500
TZOFFSETTO:-0400
TZNAME:EDT
DTSTART:20240310T070000
END:DAYLIGHT
BEGIN:STANDARD
TZOFFSETFROM:-0400
TZOFFSETTO:-0500
TZNAME:EST
DTSTART:20241103T060000
END:STANDARD
END:VTIMEZONE
BEGIN:VEVENT
DTSTART;TZID=America/New_York:20230819T080000
DTEND;TZID=America/New_York:20230819T110000
DTSTAMP:20260420T015600
CREATED:20230416T163251Z
LAST-MODIFIED:20230416T163251Z
UID:3664-1692432000-1692442800@www.knights12532.com
SUMMARY:Pig Roast Set Up
DESCRIPTION:
URL:https://www.knights12532.com/event/pig-roast-set-up-4/
END:VEVENT
BEGIN:VEVENT
DTSTART;TZID=America/New_York:20230819T160000
DTEND;TZID=America/New_York:20230819T170000
DTSTAMP:20260420T015600
CREATED:20230724T212123Z
LAST-MODIFIED:20230724T212123Z
UID:3752-1692460800-1692464400@www.knights12532.com
SUMMARY:Pig Roast Ticket Sales
DESCRIPTION:Help Sell tickets after Mass
URL:https://www.knights12532.com/event/pig-roast-ticket-sales-8/
END:VEVENT
END:VCALENDAR