BEGIN:VCALENDAR
VERSION:2.0
PRODID:-//KofC12532 - ECPv6.15.20//NONSGML v1.0//EN
CALSCALE:GREGORIAN
METHOD:PUBLISH
X-ORIGINAL-URL:https://www.knights12532.com
X-WR-CALDESC:Events for KofC12532
REFRESH-INTERVAL;VALUE=DURATION:PT1H
X-Robots-Tag:noindex
X-PUBLISHED-TTL:PT1H
BEGIN:VTIMEZONE
TZID:America/New_York
BEGIN:DAYLIGHT
TZOFFSETFROM:-0500
TZOFFSETTO:-0400
TZNAME:EDT
DTSTART:20210314T070000
END:DAYLIGHT
BEGIN:STANDARD
TZOFFSETFROM:-0400
TZOFFSETTO:-0500
TZNAME:EST
DTSTART:20211107T060000
END:STANDARD
BEGIN:DAYLIGHT
TZOFFSETFROM:-0500
TZOFFSETTO:-0400
TZNAME:EDT
DTSTART:20220313T070000
END:DAYLIGHT
BEGIN:STANDARD
TZOFFSETFROM:-0400
TZOFFSETTO:-0500
TZNAME:EST
DTSTART:20221106T060000
END:STANDARD
BEGIN:DAYLIGHT
TZOFFSETFROM:-0500
TZOFFSETTO:-0400
TZNAME:EDT
DTSTART:20230312T070000
END:DAYLIGHT
BEGIN:STANDARD
TZOFFSETFROM:-0400
TZOFFSETTO:-0500
TZNAME:EST
DTSTART:20231105T060000
END:STANDARD
BEGIN:DAYLIGHT
TZOFFSETFROM:-0500
TZOFFSETTO:-0400
TZNAME:EDT
DTSTART:20240310T070000
END:DAYLIGHT
BEGIN:STANDARD
TZOFFSETFROM:-0400
TZOFFSETTO:-0500
TZNAME:EST
DTSTART:20241103T060000
END:STANDARD
BEGIN:DAYLIGHT
TZOFFSETFROM:-0500
TZOFFSETTO:-0400
TZNAME:EDT
DTSTART:20250309T070000
END:DAYLIGHT
BEGIN:STANDARD
TZOFFSETFROM:-0400
TZOFFSETTO:-0500
TZNAME:EST
DTSTART:20251102T060000
END:STANDARD
BEGIN:DAYLIGHT
TZOFFSETFROM:-0500
TZOFFSETTO:-0400
TZNAME:EDT
DTSTART:20260308T070000
END:DAYLIGHT
BEGIN:STANDARD
TZOFFSETFROM:-0400
TZOFFSETTO:-0500
TZNAME:EST
DTSTART:20261101T060000
END:STANDARD
BEGIN:DAYLIGHT
TZOFFSETFROM:-0500
TZOFFSETTO:-0400
TZNAME:EDT
DTSTART:20270314T070000
END:DAYLIGHT
BEGIN:STANDARD
TZOFFSETFROM:-0400
TZOFFSETTO:-0500
TZNAME:EST
DTSTART:20271107T060000
END:STANDARD
END:VTIMEZONE
BEGIN:VEVENT
DTSTART;TZID=America/New_York:20260324T190000
DTEND;TZID=America/New_York:20260324T200000
DTSTAMP:20260419T090844
CREATED:20260214T143035Z
LAST-MODIFIED:20260214T143035Z
UID:4813-1774378800-1774382400@www.knights12532.com
SUMMARY:Officers Meeting
DESCRIPTION:Any Brother Knight is welcome to join this meeting.
URL:https://www.knights12532.com/event/officers-meeting-51/
CATEGORIES:Officers Meeting
END:VEVENT
BEGIN:VEVENT
DTSTART;TZID=America/New_York:20251125T190000
DTEND;TZID=America/New_York:20251125T203000
DTSTAMP:20260419T090844
CREATED:20250407T220127Z
LAST-MODIFIED:20250407T220127Z
UID:4629-1764097200-1764102600@www.knights12532.com
SUMMARY:Officer Meeting
DESCRIPTION:All Brothers Knights are invited to attend these meeting and help guide the council
URL:https://www.knights12532.com/event/officer-meeting-67/
CATEGORIES:Officers Meeting
END:VEVENT
BEGIN:VEVENT
DTSTART;TZID=America/New_York:20251028T080000
DTEND;TZID=America/New_York:20251028T170000
DTSTAMP:20260419T090844
CREATED:20250407T215723Z
LAST-MODIFIED:20250407T215723Z
UID:4623-1761638400-1761670800@www.knights12532.com
SUMMARY:Officer Meeting
DESCRIPTION:All Brothers Knights are invited to attend these meeting and help guide the council
URL:https://www.knights12532.com/event/officer-meeting-66/
CATEGORIES:Officers Meeting
END:VEVENT
BEGIN:VEVENT
DTSTART;TZID=America/New_York:20250923T190000
DTEND;TZID=America/New_York:20250923T203000
DTSTAMP:20260419T090844
CREATED:20250407T215224Z
LAST-MODIFIED:20250407T215224Z
UID:4619-1758654000-1758659400@www.knights12532.com
SUMMARY:Officer Meeting
DESCRIPTION:All Brothers Knights are invited to attend these meeting and help guide the council
URL:https://www.knights12532.com/event/officer-meeting-65/
CATEGORIES:Officers Meeting
END:VEVENT
BEGIN:VEVENT
DTSTART;TZID=America/New_York:20250826T190000
DTEND;TZID=America/New_York:20250826T203000
DTSTAMP:20260419T090844
CREATED:20250407T214746Z
LAST-MODIFIED:20250407T214746Z
UID:4611-1756234800-1756240200@www.knights12532.com
SUMMARY:Officer Meeting
DESCRIPTION:All Brothers Knights are invited to attend these meeting and help guide the council
URL:https://www.knights12532.com/event/officer-meeting-64/
CATEGORIES:Officers Meeting
END:VEVENT
BEGIN:VEVENT
DTSTART;TZID=America/New_York:20250722T190000
DTEND;TZID=America/New_York:20250722T203000
DTSTAMP:20260419T090844
CREATED:20250407T214410Z
LAST-MODIFIED:20250706T173500Z
UID:4606-1753210800-1753216200@www.knights12532.com
SUMMARY:Officers meeting Cancelled
DESCRIPTION:All Brother Knights are invited to attend this meeting and help guide the council
URL:https://www.knights12532.com/event/officers-meeting-49/
CATEGORIES:Officers Meeting
END:VEVENT
BEGIN:VEVENT
DTSTART;TZID=America/New_York:20250624T190000
DTEND;TZID=America/New_York:20250624T203000
DTSTAMP:20260419T090844
CREATED:20250406T161611Z
LAST-MODIFIED:20250406T161611Z
UID:4602-1750791600-1750797000@www.knights12532.com
SUMMARY:Officers Meeting
DESCRIPTION:All Brother Knights are welcome to attend.
URL:https://www.knights12532.com/event/officers-meeting-48/
CATEGORIES:Officers Meeting
END:VEVENT
BEGIN:VEVENT
DTSTART;TZID=America/New_York:20250325T190000
DTEND;TZID=America/New_York:20250325T210000
DTSTAMP:20260419T090844
CREATED:20250221T140533Z
LAST-MODIFIED:20250221T140533Z
UID:4457-1742929200-1742936400@www.knights12532.com
SUMMARY:Officers Meeting
DESCRIPTION:All Knights are welcome to attend
URL:https://www.knights12532.com/event/officers-meeting-45/
CATEGORIES:Officers Meeting
END:VEVENT
BEGIN:VEVENT
DTSTART;TZID=America/New_York:20250128T190000
DTEND;TZID=America/New_York:20250128T200000
DTSTAMP:20260419T090844
CREATED:20241212T145038Z
LAST-MODIFIED:20241212T145038Z
UID:4394-1738090800-1738094400@www.knights12532.com
SUMMARY:Officers Meeting
DESCRIPTION:All brothers are invited to join us for this meeting.
URL:https://www.knights12532.com/event/officers-meeting-44/
CATEGORIES:Officers Meeting
END:VEVENT
BEGIN:VEVENT
DTSTART;TZID=America/New_York:20231024T190000
DTEND;TZID=America/New_York:20231024T203000
DTSTAMP:20260419T090844
CREATED:20230724T214629Z
LAST-MODIFIED:20230724T214629Z
UID:3772-1698174000-1698179400@www.knights12532.com
SUMMARY:Officer Meeting
DESCRIPTION:All are welcome to attend
URL:https://www.knights12532.com/event/officer-meeting-57/
CATEGORIES:Officers Meeting
END:VEVENT
BEGIN:VEVENT
DTSTART;TZID=America/New_York:20221122T190000
DTEND;TZID=America/New_York:20221122T200000
DTSTAMP:20260419T090844
CREATED:20220909T124949Z
LAST-MODIFIED:20220909T124949Z
UID:3503-1669143600-1669147200@www.knights12532.com
SUMMARY:Officer Meeting
DESCRIPTION:All members are welcome to join us
URL:https://www.knights12532.com/event/officer-meeting-50/
CATEGORIES:Officers Meeting
END:VEVENT
BEGIN:VEVENT
DTSTART;TZID=America/New_York:20221025T190000
DTEND;TZID=America/New_York:20221025T200000
DTSTAMP:20260419T090844
CREATED:20220909T124750Z
LAST-MODIFIED:20220909T124750Z
UID:3499-1666724400-1666728000@www.knights12532.com
SUMMARY:Officer Meeting
DESCRIPTION:All members are welcome to join us.
URL:https://www.knights12532.com/event/officer-meeting-49/
CATEGORIES:Officers Meeting
END:VEVENT
BEGIN:VEVENT
DTSTART;TZID=America/New_York:20220628T190000
DTEND;TZID=America/New_York:20220628T203000
DTSTAMP:20260419T090844
CREATED:20220522T194313Z
LAST-MODIFIED:20220522T194313Z
UID:3406-1656442800-1656448200@www.knights12532.com
SUMMARY:Officers Meeting
DESCRIPTION:All members are welcome
URL:https://www.knights12532.com/event/officers-meeting-33/
CATEGORIES:Officers Meeting
END:VEVENT
BEGIN:VEVENT
DTSTART;TZID=America/New_York:20220524T190000
DTEND;TZID=America/New_York:20220524T200000
DTSTAMP:20260419T090844
CREATED:20220311T030431Z
LAST-MODIFIED:20220314T022917Z
UID:3339-1653418800-1653422400@www.knights12532.com
SUMMARY:Officers' Meeting
DESCRIPTION:
URL:https://www.knights12532.com/event/officers-meeting-32/
LOCATION:Saint John Neumann Church\, 601 East Delp Road\, Lancaster\, PA\, 17601\, United States
CATEGORIES:Officers Meeting
END:VEVENT
BEGIN:VEVENT
DTSTART;TZID=America/New_York:20220426T190000
DTEND;TZID=America/New_York:20220426T200000
DTSTAMP:20260419T090844
CREATED:20220311T025723Z
LAST-MODIFIED:20220314T022927Z
UID:3333-1650999600-1651003200@www.knights12532.com
SUMMARY:Officers' Meeting
DESCRIPTION:
URL:https://www.knights12532.com/event/officers-meeting-31/
LOCATION:Saint John Neumann Church\, 601 East Delp Road\, Lancaster\, PA\, 17601\, United States
CATEGORIES:Officers Meeting
END:VEVENT
END:VCALENDAR