BEGIN:VCALENDAR
VERSION:2.0
PRODID:-//KofC12532 - ECPv6.15.20//NONSGML v1.0//EN
CALSCALE:GREGORIAN
METHOD:PUBLISH
X-WR-CALNAME:KofC12532
X-ORIGINAL-URL:https://www.knights12532.com
X-WR-CALDESC:Events for KofC12532
REFRESH-INTERVAL;VALUE=DURATION:PT1H
X-Robots-Tag:noindex
X-PUBLISHED-TTL:PT1H
BEGIN:VTIMEZONE
TZID:America/New_York
BEGIN:DAYLIGHT
TZOFFSETFROM:-0500
TZOFFSETTO:-0400
TZNAME:EDT
DTSTART:20190310T070000
END:DAYLIGHT
BEGIN:STANDARD
TZOFFSETFROM:-0400
TZOFFSETTO:-0500
TZNAME:EST
DTSTART:20191103T060000
END:STANDARD
BEGIN:DAYLIGHT
TZOFFSETFROM:-0500
TZOFFSETTO:-0400
TZNAME:EDT
DTSTART:20200308T070000
END:DAYLIGHT
BEGIN:STANDARD
TZOFFSETFROM:-0400
TZOFFSETTO:-0500
TZNAME:EST
DTSTART:20201101T060000
END:STANDARD
BEGIN:DAYLIGHT
TZOFFSETFROM:-0500
TZOFFSETTO:-0400
TZNAME:EDT
DTSTART:20210314T070000
END:DAYLIGHT
BEGIN:STANDARD
TZOFFSETFROM:-0400
TZOFFSETTO:-0500
TZNAME:EST
DTSTART:20211107T060000
END:STANDARD
END:VTIMEZONE
BEGIN:VEVENT
DTSTART;TZID=America/New_York:20200825T190000
DTEND;TZID=America/New_York:20200825T200000
DTSTAMP:20260420T213934
CREATED:20200820T115751Z
LAST-MODIFIED:20200820T115751Z
UID:2004-1598382000-1598385600@www.knights12532.com
SUMMARY:Officer Meeting
DESCRIPTION:Meeting at SJN pavilion
URL:https://www.knights12532.com/event/officer-meeting-42/
END:VEVENT
BEGIN:VEVENT
DTSTART;TZID=America/New_York:20200818T190000
DTEND;TZID=America/New_York:20200818T210000
DTSTAMP:20260420T213934
CREATED:20200722T135902Z
LAST-MODIFIED:20200722T135902Z
UID:1759-1597777200-1597784400@www.knights12532.com
SUMMARY:Assembly Meeting
DESCRIPTION:All 4th degree members… Meetings will be at St. Phillip the Apostle church outside in pavilion UFN\nBring your own lawn chair
URL:https://www.knights12532.com/event/assembly-meeting-8/
LOCATION:St Phillip church\, 2111 Millersville Pike\, Lancaster\, PA\, 17603\, United States
END:VEVENT
BEGIN:VEVENT
DTSTART;TZID=America/New_York:20200816T120000
DTEND;TZID=America/New_York:20200816T150000
DTSTAMP:20260420T213934
CREATED:20200713T000506Z
LAST-MODIFIED:20200713T161845Z
UID:1697-1597579200-1597590000@www.knights12532.com
SUMMARY:20th Annual Pig & Corn Roast
DESCRIPTION:12:00 p.m. – 3:00 p.m.\nTickets: $10.00/per person\nDrive Thru / Takeout Only\nCash or credit cards accepted at pickup. \nMenu\nPork Sandwich\nBaked Beans\nRoasted Corn on the Cob\nDrink\nIce Cream \nProceeds benefit Knights of Columbus Council 12532 Charities and Saint John Neumann Catholic Church. \nAdvance purchase available through 8/10/20. Receipt required for pickup. \nDay of event purchases will be available (cash or credit card). \nFor additional information info@knights12532.com.
URL:https://www.knights12532.com/event/pigroast2020/
LOCATION:Saint John Neumann Church\, 601 East Delp Road\, Lancaster\, PA\, 17601\, United States
END:VEVENT
BEGIN:VEVENT
DTSTART;TZID=America/New_York:20200714T190000
DTEND;TZID=America/New_York:20200714T210000
DTSTAMP:20260420T213934
CREATED:20200212T221905Z
LAST-MODIFIED:20200212T222205Z
UID:1548-1594753200-1594760400@www.knights12532.com
SUMMARY:General Council Meeting
DESCRIPTION:Rosary at 7:15\, meeting follows.
URL:https://www.knights12532.com/event/general-council-meeting-60/
END:VEVENT
BEGIN:VEVENT
DTSTART;TZID=America/New_York:20200711T083000
DTEND;TZID=America/New_York:20200711T103000
DTSTAMP:20260420T213934
CREATED:20200706T133651Z
LAST-MODIFIED:20200706T133651Z
UID:1602-1594456200-1594463400@www.knights12532.com
SUMMARY:Church Grounds Work Day
DESCRIPTION:Mulching and Bush trimming\, please bring appropriate tools  8:30 am Sat 11 July
URL:https://www.knights12532.com/event/church-grounds-work-day/
END:VEVENT
BEGIN:VEVENT
DTSTART;TZID=America/New_York:20200623T190000
DTEND;TZID=America/New_York:20200623T210000
DTSTAMP:20260420T213934
CREATED:20200212T221758Z
LAST-MODIFIED:20200212T221758Z
UID:1546-1592938800-1592946000@www.knights12532.com
SUMMARY:Officer Meeting
DESCRIPTION:All are welcome\, help us plan the future direction of the council
URL:https://www.knights12532.com/event/officer-meeting-41/
END:VEVENT
BEGIN:VEVENT
DTSTART;TZID=America/New_York:20200609T190000
DTEND;TZID=America/New_York:20200609T210000
DTSTAMP:20260420T213934
CREATED:20200212T221709Z
LAST-MODIFIED:20200212T221709Z
UID:1544-1591729200-1591736400@www.knights12532.com
SUMMARY:General Council Meeting
DESCRIPTION:Rosary at 7:15 meeting Follows
URL:https://www.knights12532.com/event/general-council-meeting-59/
END:VEVENT
BEGIN:VEVENT
DTSTART;TZID=America/New_York:20200526T190000
DTEND;TZID=America/New_York:20200526T210000
DTSTAMP:20260420T213934
CREATED:20200212T221549Z
LAST-MODIFIED:20200212T221549Z
UID:1542-1590519600-1590526800@www.knights12532.com
SUMMARY:Officer Meeting
DESCRIPTION:All members are welcome at this meeting\, help us plan the future direction of the council.  Meeting starts at 7:15
URL:https://www.knights12532.com/event/officer-meeting-40/
END:VEVENT
BEGIN:VEVENT
DTSTART;VALUE=DATE:20200518
DTEND;VALUE=DATE:20200519
DTSTAMP:20260420T213934
CREATED:20200212T221026Z
LAST-MODIFIED:20200212T221026Z
UID:1536-1589760000-1589846399@www.knights12532.com
SUMMARY:PA March for Life
DESCRIPTION:Couldn’t make the DC March for Life? Join us as we March for Life in Harrisburg
URL:https://www.knights12532.com/event/pa-march-for-life/
END:VEVENT
BEGIN:VEVENT
DTSTART;VALUE=DATE:20200514
DTEND;VALUE=DATE:20200518
DTSTAMP:20260420T213934
CREATED:20200212T224742Z
LAST-MODIFIED:20200212T224742Z
UID:1564-1589414400-1589759999@www.knights12532.com
SUMMARY:State Convention
DESCRIPTION:State Convention in Pittsburg
URL:https://www.knights12532.com/event/state-convention-4/
END:VEVENT
BEGIN:VEVENT
DTSTART;TZID=America/New_York:20200512T190000
DTEND;TZID=America/New_York:20200512T210000
DTSTAMP:20260420T213934
CREATED:20200212T221403Z
LAST-MODIFIED:20200212T221403Z
UID:1540-1589310000-1589317200@www.knights12532.com
SUMMARY:General Council Meeting
DESCRIPTION:Rosary at 7:15 meeting follows
URL:https://www.knights12532.com/event/general-council-meeting-58/
END:VEVENT
BEGIN:VEVENT
DTSTART;TZID=America/New_York:20200428T190000
DTEND;TZID=America/New_York:20200428T210000
DTSTAMP:20260420T213934
CREATED:20200212T220349Z
LAST-MODIFIED:20200212T220349Z
UID:1530-1588100400-1588107600@www.knights12532.com
SUMMARY:Officer meeting
DESCRIPTION:All are welcome to help guide the council…
URL:https://www.knights12532.com/event/officer-meeting-39/
END:VEVENT
BEGIN:VEVENT
DTSTART;TZID=America/New_York:20200421T080000
DTEND;TZID=America/New_York:20200421T170000
DTSTAMP:20260420T213934
CREATED:20200212T225424Z
LAST-MODIFIED:20200212T225424Z
UID:1570-1587456000-1587488400@www.knights12532.com
SUMMARY:Assembly Meeting
DESCRIPTION:Meeting at St. Leo’s Starts 7:15
URL:https://www.knights12532.com/event/assembly-meeting-7/
LOCATION:St. Leo the Great\,  2427 Marietta Ave\, Lancaster\, PA\, 17601\, United States
END:VEVENT
BEGIN:VEVENT
DTSTART;TZID=America/New_York:20200419T070000
DTEND;TZID=America/New_York:20200419T113000
DTSTAMP:20260420T213934
CREATED:20200212T220549Z
LAST-MODIFIED:20200212T220549Z
UID:1532-1587279600-1587295800@www.knights12532.com
SUMMARY:Corporate Communion Mass and Breakfast
DESCRIPTION:Join us as we celebrate another year of accomplishments.  Breakfast at the eden following Mass.
URL:https://www.knights12532.com/event/corporate-communion-mass-and-breakfast-2/
LOCATION:Eden Resort\, 222 Eden Rd\, Lancaster \, PA\, 17601\, United States
END:VEVENT
BEGIN:VEVENT
DTSTART;TZID=America/New_York:20200414T190000
DTEND;TZID=America/New_York:20200414T210000
DTSTAMP:20260420T213934
CREATED:20200212T220254Z
LAST-MODIFIED:20200212T220254Z
UID:1528-1586890800-1586898000@www.knights12532.com
SUMMARY:General Council Meeting
DESCRIPTION:Rosary at 7:15 meeting follows.
URL:https://www.knights12532.com/event/general-council-meeting-57/
END:VEVENT
BEGIN:VEVENT
DTSTART;VALUE=DATE:20200403
DTEND;VALUE=DATE:20200404
DTSTAMP:20260420T213934
CREATED:20200212T215846Z
LAST-MODIFIED:20200212T215846Z
UID:1523-1585872000-1585958399@www.knights12532.com
SUMMARY:Lenten Meal
DESCRIPTION:Join us prior to Stations for a lenten meal.  Help is always welcome\, if you can’t help\, come share a meal.
URL:https://www.knights12532.com/event/lenten-meal-6/
END:VEVENT
BEGIN:VEVENT
DTSTART;VALUE=DATE:20200328
DTEND;VALUE=DATE:20200329
DTSTAMP:20260420T213934
CREATED:20200212T222440Z
LAST-MODIFIED:20200212T222440Z
UID:1552-1585353600-1585439999@www.knights12532.com
SUMMARY:Annual Men's Conference
DESCRIPTION:Join us in Harrisburg for the Annual Men’s Conference
URL:https://www.knights12532.com/event/annual-mens-conference/
LOCATION:Bishop McDevitt High School\, 1 Crusader Way\, Harrisburg\, PA\, 17111\, United States
END:VEVENT
BEGIN:VEVENT
DTSTART;VALUE=DATE:20200327
DTEND;VALUE=DATE:20200328
DTSTAMP:20260420T213934
CREATED:20200212T215806Z
LAST-MODIFIED:20200212T215806Z
UID:1521-1585267200-1585353599@www.knights12532.com
SUMMARY:Lenten Meal
DESCRIPTION:Join us prior to Stations for a lenten meal.  Help is always welcome\, if you can’t help\, come share a meal.
URL:https://www.knights12532.com/event/lenten-meal-5/
END:VEVENT
BEGIN:VEVENT
DTSTART;TZID=America/New_York:20200324T190000
DTEND;TZID=America/New_York:20200324T210000
DTSTAMP:20260420T213934
CREATED:20200212T225323Z
LAST-MODIFIED:20200212T225503Z
UID:1568-1585076400-1585083600@www.knights12532.com
SUMMARY:Assembly Meeting
DESCRIPTION:meeting at OMPH Ephrata Starts 7:15
URL:https://www.knights12532.com/event/assembly-meeting-6/
LOCATION:OMPH Church\, 320 Church Av\, Ephrata\, PA\, 17522\, United States
END:VEVENT
BEGIN:VEVENT
DTSTART;TZID=America/New_York:20200324T190000
DTEND;TZID=America/New_York:20200324T210000
DTSTAMP:20260420T213934
CREATED:20191205T134506Z
LAST-MODIFIED:20191205T134506Z
UID:1499-1585076400-1585083600@www.knights12532.com
SUMMARY:Officers Meeting
DESCRIPTION:All are welcome to attend – meeting at 7:15
URL:https://www.knights12532.com/event/officers-meeting-27/
END:VEVENT
BEGIN:VEVENT
DTSTART;VALUE=DATE:20200322
DTEND;VALUE=DATE:20200323
DTSTAMP:20260420T213934
CREATED:20200212T220714Z
LAST-MODIFIED:20200212T220714Z
UID:1534-1584835200-1584921599@www.knights12532.com
SUMMARY:Donut Sunday
DESCRIPTION:Join us as we host Donuts and Coffee!
URL:https://www.knights12532.com/event/donut-sunday/
END:VEVENT
BEGIN:VEVENT
DTSTART;TZID=America/New_York:20200311T190000
DTEND;TZID=America/New_York:20200311T210000
DTSTAMP:20260420T213934
CREATED:20191205T134418Z
LAST-MODIFIED:20200212T215254Z
UID:1497-1583953200-1583960400@www.knights12532.com
SUMMARY:General Council Meeting
DESCRIPTION:Rosary 7:15\, meeting at 7:30
URL:https://www.knights12532.com/event/general-council-meeting-56/
END:VEVENT
BEGIN:VEVENT
DTSTART;VALUE=DATE:20200306
DTEND;VALUE=DATE:20200307
DTSTAMP:20260420T213934
CREATED:20191205T134259Z
LAST-MODIFIED:20200212T215921Z
UID:1495-1583452800-1583539199@www.knights12532.com
SUMMARY:Lenten Meal
DESCRIPTION:Join us prior to Stations for a lenten meal.  Help is always welcome\, if you can’t help\, come share a meal.
URL:https://www.knights12532.com/event/lenten-meal-4/
END:VEVENT
BEGIN:VEVENT
DTSTART;TZID=America/New_York:20200229T180000
DTEND;TZID=America/New_York:20200229T210000
DTSTAMP:20260420T213934
CREATED:20191205T134709Z
LAST-MODIFIED:20191205T134709Z
UID:1501-1582999200-1583010000@www.knights12532.com
SUMMARY:St. James Trivia Night
DESCRIPTION:Join the St. James council 10827 for a trivia night.
URL:https://www.knights12532.com/event/st-james-trivia-night/
END:VEVENT
BEGIN:VEVENT
DTSTART;VALUE=DATE:20200228
DTEND;VALUE=DATE:20200229
DTSTAMP:20260420T213934
CREATED:20191205T134235Z
LAST-MODIFIED:20191205T134235Z
UID:1493-1582848000-1582934399@www.knights12532.com
SUMMARY:Lenten Meal
DESCRIPTION:
URL:https://www.knights12532.com/event/lenten-meal-3/
END:VEVENT
BEGIN:VEVENT
DTSTART;VALUE=DATE:20200226
DTEND;VALUE=DATE:20200227
DTSTAMP:20260420T213934
CREATED:20191205T134212Z
LAST-MODIFIED:20191205T134212Z
UID:1491-1582675200-1582761599@www.knights12532.com
SUMMARY:Ash Wednesday
DESCRIPTION:
URL:https://www.knights12532.com/event/ash-wednesday/
END:VEVENT
BEGIN:VEVENT
DTSTART;TZID=America/New_York:20200225T190000
DTEND;TZID=America/New_York:20200225T210000
DTSTAMP:20260420T213934
CREATED:20191205T133702Z
LAST-MODIFIED:20191205T133702Z
UID:1489-1582657200-1582664400@www.knights12532.com
SUMMARY:Officers Meeting
DESCRIPTION:All are welcome to attend\, meeting starts at 7:15
URL:https://www.knights12532.com/event/officers-meeting-26/
END:VEVENT
BEGIN:VEVENT
DTSTART;TZID=America/New_York:20200223T130000
DTEND;TZID=America/New_York:20200223T170000
DTSTAMP:20260420T213934
CREATED:20200212T221220Z
LAST-MODIFIED:20200212T221220Z
UID:1538-1582462800-1582477200@www.knights12532.com
SUMMARY:Knighthood Degree
DESCRIPTION:Come to what is likely the final 3rd degree in this format!  Candidates at 1 pm Degree at 1:30 Dinner follows.
URL:https://www.knights12532.com/event/knighthood-degree-5/
END:VEVENT
BEGIN:VEVENT
DTSTART;TZID=America/New_York:20200218T190000
DTEND;TZID=America/New_York:20200218T210000
DTSTAMP:20260420T213934
CREATED:20200212T225143Z
LAST-MODIFIED:20200212T225144Z
UID:1566-1582052400-1582059600@www.knights12532.com
SUMMARY:Assembly Meeting
DESCRIPTION:Meeting at council 867 home
URL:https://www.knights12532.com/event/assembly-meeting-5/
LOCATION:Knights of Columbus 867\, 1575 New Danville Pike\, Lancaster\, PA\, 17603\, United States
END:VEVENT
BEGIN:VEVENT
DTSTART;TZID=America/New_York:20200215T090000
DTEND;TZID=America/New_York:20200215T110000
DTSTAMP:20260420T213934
CREATED:20200212T220108Z
LAST-MODIFIED:20200212T220108Z
UID:1526-1581757200-1581764400@www.knights12532.com
SUMMARY:Closet Clean out and relocation
DESCRIPTION:Help is needed to relocate our stuff\, due to construction!
URL:https://www.knights12532.com/event/closet-clean-out-and-relocation/
END:VEVENT
END:VCALENDAR