BEGIN:VCALENDAR
VERSION:2.0
PRODID:-//KofC12532 - ECPv6.15.20//NONSGML v1.0//EN
CALSCALE:GREGORIAN
METHOD:PUBLISH
X-WR-CALNAME:KofC12532
X-ORIGINAL-URL:https://www.knights12532.com
X-WR-CALDESC:Events for KofC12532
REFRESH-INTERVAL;VALUE=DURATION:PT1H
X-Robots-Tag:noindex
X-PUBLISHED-TTL:PT1H
BEGIN:VTIMEZONE
TZID:America/New_York
BEGIN:DAYLIGHT
TZOFFSETFROM:-0500
TZOFFSETTO:-0400
TZNAME:EDT
DTSTART:20170312T070000
END:DAYLIGHT
BEGIN:STANDARD
TZOFFSETFROM:-0400
TZOFFSETTO:-0500
TZNAME:EST
DTSTART:20171105T060000
END:STANDARD
BEGIN:DAYLIGHT
TZOFFSETFROM:-0500
TZOFFSETTO:-0400
TZNAME:EDT
DTSTART:20180311T070000
END:DAYLIGHT
BEGIN:STANDARD
TZOFFSETFROM:-0400
TZOFFSETTO:-0500
TZNAME:EST
DTSTART:20181104T060000
END:STANDARD
BEGIN:DAYLIGHT
TZOFFSETFROM:-0500
TZOFFSETTO:-0400
TZNAME:EDT
DTSTART:20190310T070000
END:DAYLIGHT
BEGIN:STANDARD
TZOFFSETFROM:-0400
TZOFFSETTO:-0500
TZNAME:EST
DTSTART:20191103T060000
END:STANDARD
BEGIN:DAYLIGHT
TZOFFSETFROM:-0500
TZOFFSETTO:-0400
TZNAME:EDT
DTSTART:20200308T070000
END:DAYLIGHT
BEGIN:STANDARD
TZOFFSETFROM:-0400
TZOFFSETTO:-0500
TZNAME:EST
DTSTART:20201101T060000
END:STANDARD
END:VTIMEZONE
BEGIN:VEVENT
DTSTART;TZID=America/New_York:20190423T191500
DTEND;TZID=America/New_York:20190423T210000
DTSTAMP:20260419T232559
CREATED:20181127T144833Z
LAST-MODIFIED:20181127T144833Z
UID:1293-1556046900-1556053200@www.knights12532.com
SUMMARY:Officer Meeting
DESCRIPTION:Meeting starts at 7:15pm all are welcome to attend
URL:https://www.knights12532.com/event/officer-meeting-32/
END:VEVENT
BEGIN:VEVENT
DTSTART;TZID=America/New_York:20190412T170000
DTEND;TZID=America/New_York:20190412T190000
DTSTAMP:20260419T232559
CREATED:20190226T194643Z
LAST-MODIFIED:20190226T194643Z
UID:1333-1555088400-1555095600@www.knights12532.com
SUMMARY:Lenten Meal to benefit Bridges
DESCRIPTION:Volunteers needed throughout the day\, proceeds will benefit Bridges ministry.
URL:https://www.knights12532.com/event/lenten-meal-to-benefit-bridges/
END:VEVENT
BEGIN:VEVENT
DTSTART;TZID=America/New_York:20190411T180000
DTEND;TZID=America/New_York:20190411T210000
DTSTAMP:20260419T232559
CREATED:20190404T194401Z
LAST-MODIFIED:20190404T194401Z
UID:1371-1555005600-1555016400@www.knights12532.com
SUMMARY:A Woman's Concern Banquet
DESCRIPTION:
URL:https://www.knights12532.com/event/a-womans-concern-banquet-4/
END:VEVENT
BEGIN:VEVENT
DTSTART;TZID=America/New_York:20190409T191500
DTEND;TZID=America/New_York:20190409T210000
DTSTAMP:20260419T232559
CREATED:20181127T144739Z
LAST-MODIFIED:20181127T145411Z
UID:1291-1554837300-1554843600@www.knights12532.com
SUMMARY:General Council Meeting
DESCRIPTION:Rosary at 7:15pm meeting follows
URL:https://www.knights12532.com/event/general-council-meeting-45/
END:VEVENT
BEGIN:VEVENT
DTSTART;VALUE=DATE:20190406
DTEND;VALUE=DATE:20190408
DTSTAMP:20260419T232559
CREATED:20190404T194213Z
LAST-MODIFIED:20190404T194213Z
UID:1369-1554508800-1554681599@www.knights12532.com
SUMMARY:Final Candy Sale Weekend
DESCRIPTION:Help is needed before and after all Masses Sat and Sun.
URL:https://www.knights12532.com/event/final-candy-sale-weekend/
END:VEVENT
BEGIN:VEVENT
DTSTART;TZID=America/New_York:20190326T191500
DTEND;TZID=America/New_York:20190326T210000
DTSTAMP:20260419T232559
CREATED:20181127T144638Z
LAST-MODIFIED:20181127T144638Z
UID:1289-1553627700-1553634000@www.knights12532.com
SUMMARY:Officer Meeting
DESCRIPTION:Meeting starts at 7:15pm  all are welcome to attend
URL:https://www.knights12532.com/event/officer-meeting-31/
END:VEVENT
BEGIN:VEVENT
DTSTART;TZID=America/New_York:20190322T080000
DTEND;TZID=America/New_York:20190322T170000
DTSTAMP:20260419T232559
CREATED:20190226T194417Z
LAST-MODIFIED:20190226T194417Z
UID:1330-1553241600-1553274000@www.knights12532.com
SUMMARY:Lenten Meal
DESCRIPTION:Volunteers needed throughout the day\, enjoy a meal stay for Stations of the Cross
URL:https://www.knights12532.com/event/lenten-meal-2/
END:VEVENT
BEGIN:VEVENT
DTSTART;TZID=America/New_York:20190315T170000
DTEND;TZID=America/New_York:20190315T190000
DTSTAMP:20260419T232559
CREATED:20190226T194302Z
LAST-MODIFIED:20190226T194302Z
UID:1328-1552669200-1552676400@www.knights12532.com
SUMMARY:Lenten Meal
DESCRIPTION:Join us for our 1st Fish Bake.  Volunteers needed throughout the day.  Stay for Stations of the Cross
URL:https://www.knights12532.com/event/lenten-meal/
END:VEVENT
BEGIN:VEVENT
DTSTART;TZID=America/New_York:20190312T191500
DTEND;TZID=America/New_York:20190312T210000
DTSTAMP:20260419T232559
CREATED:20181127T144545Z
LAST-MODIFIED:20181127T144545Z
UID:1287-1552418100-1552424400@www.knights12532.com
SUMMARY:General Council Meeting
DESCRIPTION:Rosary at 7:15pm meeting follows
URL:https://www.knights12532.com/event/general-council-meeting-44/
END:VEVENT
BEGIN:VEVENT
DTSTART;TZID=America/New_York:20190305T190000
DTEND;TZID=America/New_York:20190305T200000
DTSTAMP:20260419T232559
CREATED:20190226T195442Z
LAST-MODIFIED:20190226T195442Z
UID:1341-1551812400-1551816000@www.knights12532.com
SUMMARY:Golf Committee Meeting
DESCRIPTION:come help us plan our next outing!
URL:https://www.knights12532.com/event/golf-committee-meeting-2/
END:VEVENT
BEGIN:VEVENT
DTSTART;TZID=America/New_York:20190226T191500
DTEND;TZID=America/New_York:20190226T210000
DTSTAMP:20260419T232559
CREATED:20181127T144442Z
LAST-MODIFIED:20181127T144442Z
UID:1285-1551208500-1551214800@www.knights12532.com
SUMMARY:Officer Meeting
DESCRIPTION:Meeting starts at 7:15 pm all are welcome to attend
URL:https://www.knights12532.com/event/officer-meeting-30/
END:VEVENT
BEGIN:VEVENT
DTSTART;TZID=America/New_York:20190212T191500
DTEND;TZID=America/New_York:20190212T210000
DTSTAMP:20260419T232559
CREATED:20181127T144343Z
LAST-MODIFIED:20181127T144343Z
UID:1283-1549998900-1550005200@www.knights12532.com
SUMMARY:General Council Meeting
DESCRIPTION:Rosary at 7:15 meeting follows
URL:https://www.knights12532.com/event/general-council-meeting-43/
END:VEVENT
BEGIN:VEVENT
DTSTART;TZID=America/New_York:20190123T190000
DTEND;TZID=America/New_York:20190123T210000
DTSTAMP:20260419T232559
CREATED:20181212T212659Z
LAST-MODIFIED:20181212T212659Z
UID:1312-1548270000-1548277200@www.knights12532.com
SUMMARY:Admission Degree
DESCRIPTION:Degree will be held in Saint John XXIII building.  Candidates at 7 p.m. Degree at 7:30 p.m. Observers always welcome\, help us welcome our new brother Knights!
URL:https://www.knights12532.com/event/admission-degree-7/
LOCATION:Saint John Neumann Church\, 601 East Delp Road\, Lancaster\, PA\, 17601\, United States
END:VEVENT
BEGIN:VEVENT
DTSTART;TZID=America/New_York:20190122T191500
DTEND;TZID=America/New_York:20190122T210000
DTSTAMP:20260419T232559
CREATED:20180724T200724Z
LAST-MODIFIED:20180724T200724Z
UID:1164-1548184500-1548190800@www.knights12532.com
SUMMARY:Officers Meeting
DESCRIPTION:Meeting at 7:15 p.m. all Knights are invited to attend.
URL:https://www.knights12532.com/event/officers-meeting-22/
END:VEVENT
BEGIN:VEVENT
DTSTART;VALUE=DATE:20190118
DTEND;VALUE=DATE:20190119
DTSTAMP:20260419T232559
CREATED:20180724T201611Z
LAST-MODIFIED:20190103T213744Z
UID:1167-1547769600-1547855999@www.knights12532.com
SUMMARY:March for Life
DESCRIPTION:Join us for the annual March for Life
URL:https://www.knights12532.com/event/march-for-life-3/
END:VEVENT
BEGIN:VEVENT
DTSTART;TZID=America/New_York:20190111T080000
DTEND;TZID=America/New_York:20190111T170000
DTSTAMP:20260419T232559
CREATED:20180724T200628Z
LAST-MODIFIED:20181111T160227Z
UID:1162-1547193600-1547226000@www.knights12532.com
SUMMARY:Council Holiday Ball
DESCRIPTION:Join us at the Eden for an fun evening!
URL:https://www.knights12532.com/event/council-holiday-ball/
LOCATION:Eden Resort\, 222 Eden Rd\, Lancaster \, PA\, 17601\, United States
END:VEVENT
BEGIN:VEVENT
DTSTART;TZID=America/New_York:20190108T191500
DTEND;TZID=America/New_York:20190108T210000
DTSTAMP:20260419T232559
CREATED:20180724T200505Z
LAST-MODIFIED:20180724T200505Z
UID:1160-1546974900-1546981200@www.knights12532.com
SUMMARY:General Council Meeting
DESCRIPTION:Rosary at 7:15 p.m. meeting immediately after
URL:https://www.knights12532.com/event/general-council-meeting-42/
END:VEVENT
BEGIN:VEVENT
DTSTART;VALUE=DATE:20181229
DTEND;VALUE=DATE:20181231
DTSTAMP:20260419T232559
CREATED:20181211T173134Z
LAST-MODIFIED:20181211T173134Z
UID:1310-1546041600-1546214399@www.knights12532.com
SUMMARY:5th Sunday Rosary
DESCRIPTION:Knights lead the parish in the Rosary prior to all Masses.  To volunteer see Ron Eluk
URL:https://www.knights12532.com/event/5th-sunday-rosary-12/
END:VEVENT
BEGIN:VEVENT
DTSTART;TZID=America/New_York:20181225T191500
DTEND;TZID=America/New_York:20181225T210000
DTSTAMP:20260419T232559
CREATED:20180724T200126Z
LAST-MODIFIED:20181127T143315Z
UID:1156-1545765300-1545771600@www.knights12532.com
SUMMARY:Officers Meeting No meeting Next meeting in January
DESCRIPTION:Meeting at 7:15 all Knights are invited to attend
URL:https://www.knights12532.com/event/officers-meeting-21/
END:VEVENT
BEGIN:VEVENT
DTSTART;TZID=America/New_York:20181214T180000
DTEND;TZID=America/New_York:20181214T233000
DTSTAMP:20260419T232559
CREATED:20181127T143726Z
LAST-MODIFIED:20181127T143726Z
UID:1279-1544810400-1544830200@www.knights12532.com
SUMMARY:SMA Christmas Party
DESCRIPTION:Join the Assembly for their annual Christmas Party at the Eden Resort. Information can be found on the 4191 website link…look under SMA tab at top
URL:https://www.knights12532.com/event/sma-christmas-party/
LOCATION:Eden Resort\, 222 Eden Rd\, Lancaster \, PA\, 17601\, United States
END:VEVENT
BEGIN:VEVENT
DTSTART;TZID=America/New_York:20181211T191500
DTEND;TZID=America/New_York:20181211T210000
DTSTAMP:20260419T232559
CREATED:20180724T200018Z
LAST-MODIFIED:20180724T200018Z
UID:1154-1544555700-1544562000@www.knights12532.com
SUMMARY:General Council meeting
DESCRIPTION:Rosary 7:15 p.m. meeting follows immediately after
URL:https://www.knights12532.com/event/general-council-meeting-41/
END:VEVENT
BEGIN:VEVENT
DTSTART;TZID=America/New_York:20181205T190000
DTEND;TZID=America/New_York:20181205T210000
DTSTAMP:20260419T232559
CREATED:20181111T160114Z
LAST-MODIFIED:20181111T160114Z
UID:1271-1544036400-1544043600@www.knights12532.com
SUMMARY:Formation Degree
DESCRIPTION:Set up 6:30\, candidates 7:00\, degree starts at 7:30 p.m. Join us as an observer
URL:https://www.knights12532.com/event/formation-degree-6/
LOCATION:Council 2294 Columbia\, 400 Maple St\, Columbia\, PA\, 17512\, United States
END:VEVENT
BEGIN:VEVENT
DTSTART;TZID=America/New_York:20181127T191500
DTEND;TZID=America/New_York:20181127T210000
DTSTAMP:20260419T232559
CREATED:20180724T195914Z
LAST-MODIFIED:20180724T195914Z
UID:1152-1543346100-1543352400@www.knights12532.com
SUMMARY:Officers Meeting
DESCRIPTION:Meeting starts at 7:15 p.m. All Knights are invited to attend
URL:https://www.knights12532.com/event/officers-meeting-20/
END:VEVENT
BEGIN:VEVENT
DTSTART;TZID=America/New_York:20181115T190000
DTEND;TZID=America/New_York:20181115T210000
DTSTAMP:20260419T232559
CREATED:20181111T155935Z
LAST-MODIFIED:20181111T155935Z
UID:1268-1542308400-1542315600@www.knights12532.com
SUMMARY:Admission Degree
DESCRIPTION:Set up 6:30\, Candidates 7:00\, degree starts 7:30 p.m.  Join us as an observer
URL:https://www.knights12532.com/event/admission-degree-6/
LOCATION:Saint John Neumann Church\, 601 East Delp Road\, Lancaster\, PA\, 17601\, United States
END:VEVENT
BEGIN:VEVENT
DTSTART;TZID=America/New_York:20181113T191500
DTEND;TZID=America/New_York:20181113T210000
DTSTAMP:20260419T232559
CREATED:20180724T195808Z
LAST-MODIFIED:20180724T195808Z
UID:1150-1542136500-1542142800@www.knights12532.com
SUMMARY:General Council Meeting
DESCRIPTION:Rosary 7:15 p.m. meeting follows immediately after
URL:https://www.knights12532.com/event/general-council-meeting-40/
END:VEVENT
BEGIN:VEVENT
DTSTART;TZID=America/New_York:20181101T100000
DTEND;TZID=America/New_York:20181101T160000
DTSTAMP:20260419T232559
CREATED:20180915T144459Z
LAST-MODIFIED:20180915T144459Z
UID:1227-1541066400-1541088000@www.knights12532.com
SUMMARY:40 Days for Life Vigil
DESCRIPTION:Join us in Prayer outside Planned Parenthood in Lancaster. Vigil will be every Monday\, Wednesday\, and Thursday from 10 a.m to 4 p.m.\nDay Captains\nMondays – Dave 717-569-7677 \nWednesdays – Tom 717-468-3822 \nThursdays – open need help
URL:https://www.knights12532.com/event/40-days-for-life-vigil-15/
LOCATION:Planned Parenthood\, 31 South Lime St\, Lancaster\, PA\, United States
END:VEVENT
BEGIN:VEVENT
DTSTART;TZID=America/New_York:20181031T080000
DTEND;TZID=America/New_York:20181031T170000
DTSTAMP:20260419T232559
CREATED:20180915T144314Z
LAST-MODIFIED:20180915T144314Z
UID:1223-1540972800-1541005200@www.knights12532.com
SUMMARY:40 Days for Life Vigil
DESCRIPTION:Join us in Prayer outside Planned Parenthood in Lancaster. Vigil will be every Monday\, Wednesday\, and Thursday from 10 a.m to 4 p.m.\nDay Captains\nMondays – Dave 717-569-7677 \nWednesdays – Tom 717-468-3822 \nThursdays – open need help
URL:https://www.knights12532.com/event/40-days-for-life-vigil-13/
LOCATION:Planned Parenthood\, 31 South Lime St\, Lancaster\, PA\, United States
END:VEVENT
BEGIN:VEVENT
DTSTART;TZID=America/New_York:20181029T100000
DTEND;TZID=America/New_York:20181029T160000
DTSTAMP:20260419T232559
CREATED:20180915T144237Z
LAST-MODIFIED:20180915T144237Z
UID:1221-1540807200-1540828800@www.knights12532.com
SUMMARY:40 Days for Life Vigil
DESCRIPTION:Join us in Prayer outside Planned Parenthood in Lancaster. Vigil will be every Monday\, Wednesday\, and Thursday from 10 a.m to 4 p.m.\nDay Captains\nMondays – Dave 717-569-7677 \nWednesdays – Tom 717-468-3822 \nThursdays – open need help
URL:https://www.knights12532.com/event/40-days-for-life-vigil-12/
LOCATION:Planned Parenthood\, 31 South Lime St\, Lancaster\, PA\, United States
END:VEVENT
BEGIN:VEVENT
DTSTART;TZID=America/New_York:20181025T100000
DTEND;TZID=America/New_York:20181025T160000
DTSTAMP:20260419T232559
CREATED:20180915T144126Z
LAST-MODIFIED:20180915T144126Z
UID:1219-1540461600-1540483200@www.knights12532.com
SUMMARY:40 Days for Life Vigil
DESCRIPTION:Join us in Prayer outside Planned Parenthood in Lancaster. Vigil will be every Monday\, Wednesday\, and Thursday from 10 a.m to 4 p.m.\nDay Captains\nMondays – Dave 717-569-7677 \nWednesdays – Tom 717-468-3822 \nThursdays – open need help
URL:https://www.knights12532.com/event/40-days-for-life-vigil-11/
LOCATION:Planned Parenthood\, 31 South Lime St\, Lancaster\, PA\, United States
END:VEVENT
BEGIN:VEVENT
DTSTART;TZID=America/New_York:20181024T100000
DTEND;TZID=America/New_York:20181024T160000
DTSTAMP:20260419T232559
CREATED:20180915T144032Z
LAST-MODIFIED:20180915T144032Z
UID:1217-1540375200-1540396800@www.knights12532.com
SUMMARY:40 Days for Life Vigil
DESCRIPTION:Join us in Prayer outside Planned Parenthood in Lancaster. Vigil will be every Monday\, Wednesday\, and Thursday from 10 a.m to 4 p.m.\nDay Captains\nMondays – Dave 717-569-7677 \nWednesdays – Tom 717-468-3822 \nThursdays – open need help
URL:https://www.knights12532.com/event/40-days-for-life-vigil-10/
LOCATION:Planned Parenthood\, 31 South Lime St\, Lancaster\, PA\, United States
END:VEVENT
END:VCALENDAR