BEGIN:VCALENDAR
VERSION:2.0
PRODID:-//KofC12532 - ECPv6.15.20//NONSGML v1.0//EN
CALSCALE:GREGORIAN
METHOD:PUBLISH
X-WR-CALNAME:KofC12532
X-ORIGINAL-URL:https://www.knights12532.com
X-WR-CALDESC:Events for KofC12532
REFRESH-INTERVAL;VALUE=DURATION:PT1H
X-Robots-Tag:noindex
X-PUBLISHED-TTL:PT1H
BEGIN:VTIMEZONE
TZID:America/New_York
BEGIN:DAYLIGHT
TZOFFSETFROM:-0500
TZOFFSETTO:-0400
TZNAME:EDT
DTSTART:20170312T070000
END:DAYLIGHT
BEGIN:STANDARD
TZOFFSETFROM:-0400
TZOFFSETTO:-0500
TZNAME:EST
DTSTART:20171105T060000
END:STANDARD
BEGIN:DAYLIGHT
TZOFFSETFROM:-0500
TZOFFSETTO:-0400
TZNAME:EDT
DTSTART:20180311T070000
END:DAYLIGHT
BEGIN:STANDARD
TZOFFSETFROM:-0400
TZOFFSETTO:-0500
TZNAME:EST
DTSTART:20181104T060000
END:STANDARD
BEGIN:DAYLIGHT
TZOFFSETFROM:-0500
TZOFFSETTO:-0400
TZNAME:EDT
DTSTART:20190310T070000
END:DAYLIGHT
BEGIN:STANDARD
TZOFFSETFROM:-0400
TZOFFSETTO:-0500
TZNAME:EST
DTSTART:20191103T060000
END:STANDARD
END:VTIMEZONE
BEGIN:VEVENT
DTSTART;TZID=America/New_York:20181023T191500
DTEND;TZID=America/New_York:20181023T210000
DTSTAMP:20260420T034917
CREATED:20180724T195703Z
LAST-MODIFIED:20180724T195703Z
UID:1148-1540322100-1540328400@www.knights12532.com
SUMMARY:Officers meeting
DESCRIPTION:Meeting begins at 7:15 p.m. all knights may attend
URL:https://www.knights12532.com/event/officers-meeting-19/
END:VEVENT
BEGIN:VEVENT
DTSTART;TZID=America/New_York:20181022T100000
DTEND;TZID=America/New_York:20181022T160000
DTSTAMP:20260420T034918
CREATED:20180915T143936Z
LAST-MODIFIED:20180915T143936Z
UID:1215-1540202400-1540224000@www.knights12532.com
SUMMARY:40 Days for Life Vigil
DESCRIPTION:Join us in Prayer outside Planned Parenthood in Lancaster. Vigil will be every Monday\, Wednesday\, and Thursday from 10 a.m to 4 p.m.\nDay Captains\nMondays – Dave 717-569-7677 \nWednesdays – Tom 717-468-3822 \nThursdays – open need help
URL:https://www.knights12532.com/event/40-days-for-life-vigil-9/
LOCATION:Planned Parenthood\, 31 South Lime St\, Lancaster\, PA\, United States
END:VEVENT
BEGIN:VEVENT
DTSTART;VALUE=DATE:20181020
DTEND;VALUE=DATE:20181022
DTSTAMP:20260420T034918
CREATED:20180724T200247Z
LAST-MODIFIED:20180724T200247Z
UID:1158-1539993600-1540166399@www.knights12532.com
SUMMARY:Patriotic Degree
DESCRIPTION:Become a member of the Patriotic degree and join us for a fun filled weekend
URL:https://www.knights12532.com/event/patriotic-degree-2/
END:VEVENT
BEGIN:VEVENT
DTSTART;TZID=America/New_York:20181018T080000
DTEND;TZID=America/New_York:20181018T170000
DTSTAMP:20260420T034918
CREATED:20180915T143855Z
LAST-MODIFIED:20180915T143855Z
UID:1213-1539849600-1539882000@www.knights12532.com
SUMMARY:40 Days for Life
DESCRIPTION:Join us in Prayer outside Planned Parenthood in Lancaster. Vigil will be every Monday\, Wednesday\, and Thursday from 10 a.m to 4 p.m.\nDay Captains\nMondays – Dave 717-569-7677 \nWednesdays – Tom 717-468-3822 \nThursdays – open need help
URL:https://www.knights12532.com/event/40-days-for-life-4/
LOCATION:Planned Parenthood\, 31 South Lime St\, Lancaster\, PA\, United States
END:VEVENT
BEGIN:VEVENT
DTSTART;TZID=America/New_York:20181017T100000
DTEND;TZID=America/New_York:20181017T160000
DTSTAMP:20260420T034918
CREATED:20180915T143808Z
LAST-MODIFIED:20180915T143808Z
UID:1211-1539770400-1539792000@www.knights12532.com
SUMMARY:40 Days for Life
DESCRIPTION:Join us in Prayer outside Planned Parenthood in Lancaster. Vigil will be every Monday\, Wednesday\, and Thursday from 10 a.m to 4 p.m.\nDay Captains\nMondays – Dave 717-569-7677 \nWednesdays – Tom 717-468-3822 \nThursdays – open need help
URL:https://www.knights12532.com/event/40-days-for-life-3/
LOCATION:Planned Parenthood\, 31 South Lime St\, Lancaster\, PA\, United States
END:VEVENT
BEGIN:VEVENT
DTSTART;TZID=America/New_York:20181015T100000
DTEND;TZID=America/New_York:20181015T160000
DTSTAMP:20260420T034918
CREATED:20180915T143720Z
LAST-MODIFIED:20180915T143720Z
UID:1209-1539597600-1539619200@www.knights12532.com
SUMMARY:40 Days for Life Vigil
DESCRIPTION:Join us in Prayer outside Planned Parenthood in Lancaster. Vigil will be every Monday\, Wednesday\, and Thursday from 10 a.m to 4 p.m.\nDay Captains\nMondays – Dave 717-569-7677 \nWednesdays – Tom 717-468-3822 \nThursdays – open need help
URL:https://www.knights12532.com/event/40-days-for-life-vigil-8/
LOCATION:Planned Parenthood\, 31 South Lime St\, Lancaster\, PA\, United States
END:VEVENT
BEGIN:VEVENT
DTSTART;TZID=America/New_York:20181011T100000
DTEND;TZID=America/New_York:20181011T160000
DTSTAMP:20260420T034918
CREATED:20180915T143632Z
LAST-MODIFIED:20180915T143632Z
UID:1207-1539252000-1539273600@www.knights12532.com
SUMMARY:40 Days for Life Vigil
DESCRIPTION:Join us in Prayer outside Planned Parenthood in Lancaster. Vigil will be every Monday\, Wednesday\, and Thursday from 10 a.m to 4 p.m.\nDay Captains\nMondays – Dave 717-569-7677 \nWednesdays – Tom 717-468-3822 \nThursdays – open need help
URL:https://www.knights12532.com/event/40-days-for-life-vigil-7/
LOCATION:Planned Parenthood\, 31 South Lime St\, Lancaster\, PA\, United States
END:VEVENT
BEGIN:VEVENT
DTSTART;TZID=America/New_York:20181010T100000
DTEND;TZID=America/New_York:20181010T160000
DTSTAMP:20260420T034918
CREATED:20180915T143547Z
LAST-MODIFIED:20180915T143547Z
UID:1205-1539165600-1539187200@www.knights12532.com
SUMMARY:40 Days for Life Vigil
DESCRIPTION:Join us in Prayer outside Planned Parenthood in Lancaster. Vigil will be every Monday\, Wednesday\, and Thursday from 10 a.m to 4 p.m.\nDay Captains\nMondays – Dave 717-569-7677 \nWednesdays – Tom 717-468-3822 \nThursdays – open need help
URL:https://www.knights12532.com/event/40-days-for-life-vigil-6/
LOCATION:Planned Parenthood\, 31 South Lime St\, Lancaster\, PA\, United States
END:VEVENT
BEGIN:VEVENT
DTSTART;TZID=America/New_York:20181009T190000
DTEND;TZID=America/New_York:20181009T210000
DTSTAMP:20260420T034918
CREATED:20180724T195554Z
LAST-MODIFIED:20180724T195554Z
UID:1146-1539111600-1539118800@www.knights12532.com
SUMMARY:General Council Meeting
DESCRIPTION:Rosary at 7:15 meeting immediately after
URL:https://www.knights12532.com/event/general-council-meeting-39/
END:VEVENT
BEGIN:VEVENT
DTSTART;TZID=America/New_York:20181009T093000
DTEND;TZID=America/New_York:20181009T110000
DTSTAMP:20260420T034918
CREATED:20180915T144929Z
LAST-MODIFIED:20180915T144929Z
UID:1233-1539077400-1539082800@www.knights12532.com
SUMMARY:Mom's house supply delivery
DESCRIPTION:need 6-10 people to help deliver donation to Mom’s house\, we’ll begin after Morning Mass and be back before 12:00.  Many hands make quick work!
URL:https://www.knights12532.com/event/moms-house-supply-delivery/
END:VEVENT
BEGIN:VEVENT
DTSTART;TZID=America/New_York:20181008T100000
DTEND;TZID=America/New_York:20181008T160000
DTSTAMP:20260420T034918
CREATED:20180915T143441Z
LAST-MODIFIED:20180915T143441Z
UID:1203-1538992800-1539014400@www.knights12532.com
SUMMARY:40 Days for Life Vigil
DESCRIPTION:Join us in Prayer outside Planned Parenthood in Lancaster. Vigil will be every Monday\, Wednesday\, and Thursday from 10 a.m to 4 p.m.\nDay Captains\nMondays – Dave 717-569-7677 \nWednesdays – Tom 717-468-3822 \nThursdays – open need help
URL:https://www.knights12532.com/event/40-days-for-life-vigil-5/
LOCATION:Planned Parenthood\, 31 South Lime St\, Lancaster\, PA\, United States
END:VEVENT
BEGIN:VEVENT
DTSTART;VALUE=DATE:20181006
DTEND;VALUE=DATE:20181008
DTSTAMP:20260420T034918
CREATED:20180915T144754Z
LAST-MODIFIED:20180915T144754Z
UID:1231-1538784000-1538956799@www.knights12532.com
SUMMARY:Mom's house Supply Bag return
DESCRIPTION:Need help collecting all donations\, before and after all Masses
URL:https://www.knights12532.com/event/moms-house-supply-bag-return/
END:VEVENT
BEGIN:VEVENT
DTSTART;TZID=America/New_York:20181004T100000
DTEND;TZID=America/New_York:20181004T160000
DTSTAMP:20260420T034918
CREATED:20180915T143318Z
LAST-MODIFIED:20180915T143318Z
UID:1201-1538647200-1538668800@www.knights12532.com
SUMMARY:40 Days for Life Vigil
DESCRIPTION:Join us in Prayer outside Planned Parenthood in Lancaster. Vigil will be every Monday\, Wednesday\, and Thursday from 10 a.m to 4 p.m.\nDay Captains\nMondays – Dave 717-569-7677 \nWednesdays – Tom 717-468-3822 \nThursdays – open need help
URL:https://www.knights12532.com/event/40-days-for-life-vigil-4/
LOCATION:Planned Parenthood\, 31 South Lime St\, Lancaster\, PA\, United States
END:VEVENT
BEGIN:VEVENT
DTSTART;TZID=America/New_York:20181003T100000
DTEND;TZID=America/New_York:20181003T160000
DTSTAMP:20260420T034918
CREATED:20180915T142859Z
LAST-MODIFIED:20180915T142922Z
UID:1198-1538560800-1538582400@www.knights12532.com
SUMMARY:40 Days for Life Vigil
DESCRIPTION:Join us in Prayer outside Planned Parenthood in Lancaster. Vigil will be every Monday\, Wednesday\, and Thursday from 10 a.m to 4 p.m.\nDay Captains\nMondays – Dave 717-569-7677 \nWednesdays – Tom 717-468-3822 \nThursdays – open need help
URL:https://www.knights12532.com/event/40-days-for-life-vigil-3/
LOCATION:Planned Parenthood\, 31 South Lime St\, Lancaster\, PA\, United States
END:VEVENT
BEGIN:VEVENT
DTSTART;TZID=America/New_York:20181001T100000
DTEND;TZID=America/New_York:20181001T160000
DTSTAMP:20260420T034918
CREATED:20180915T142821Z
LAST-MODIFIED:20180915T142821Z
UID:1196-1538388000-1538409600@www.knights12532.com
SUMMARY:40 days for Life Vigil
DESCRIPTION:Join us in Prayer outside Planned Parenthood in Lancaster. Vigil will be every Monday\, Wednesday\, and Thursday from 10 a.m to 4 p.m.\nDay Captains\nMondays – Dave 717-569-7677 \nWednesdays – Tom 717-468-3822 \nThursdays – open need help
URL:https://www.knights12532.com/event/40-days-for-life-vigil-2/
LOCATION:Planned Parenthood\, 31 South Lime St\, Lancaster\, PA\, United States
END:VEVENT
BEGIN:VEVENT
DTSTART;TZID=America/New_York:20180929T083000
DTEND;TZID=America/New_York:20180929T103000
DTSTAMP:20260420T034918
CREATED:20180915T135955Z
LAST-MODIFIED:20180920T124122Z
UID:1179-1538209800-1538217000@www.knights12532.com
SUMMARY:Road Clean and Ground Crew
DESCRIPTION:Join us for a quick road clean up on Valley Road\, then we are going to finish placing stone along the side of SJXXIII
URL:https://www.knights12532.com/event/road-clean-and-ground-crew/
END:VEVENT
BEGIN:VEVENT
DTSTART;VALUE=DATE:20180929
DTEND;VALUE=DATE:20181001
DTSTAMP:20260420T034918
CREATED:20180915T145136Z
LAST-MODIFIED:20180915T145136Z
UID:1235-1538179200-1538351999@www.knights12532.com
SUMMARY:5th Sunday Rosary
DESCRIPTION:Please join (or lead) us in the Rosary prior to all Masses this weekend.  We will start 30 minutes prior to Mass.
URL:https://www.knights12532.com/event/5th-sunday-rosary-11/
END:VEVENT
BEGIN:VEVENT
DTSTART;VALUE=DATE:20180929
DTEND;VALUE=DATE:20181001
DTSTAMP:20260420T034918
CREATED:20180915T144657Z
LAST-MODIFIED:20180915T144657Z
UID:1229-1538179200-1538351999@www.knights12532.com
SUMMARY:Mom's House Supply Bag Handout
DESCRIPTION:Need help handing out bags after all Masses
URL:https://www.knights12532.com/event/moms-house-supply-bag-handout/
END:VEVENT
BEGIN:VEVENT
DTSTART;TZID=America/New_York:20180927T190000
DTEND;TZID=America/New_York:20180927T210000
DTSTAMP:20260420T034918
CREATED:20180915T145410Z
LAST-MODIFIED:20180915T145410Z
UID:1237-1538074800-1538082000@www.knights12532.com
SUMMARY:MCP Training
DESCRIPTION:Former State Deputy Eric Johnson will be conducting this training.  All officers are encouraged to attend\, any member is welcome.  Meeting will be at St. Phillip the Apostle Church in Millersville.
URL:https://www.knights12532.com/event/mcp-training/
LOCATION:St Phillip church\, 2111 Millersville Pike\, Lancaster\, PA\, 17603\, United States
END:VEVENT
BEGIN:VEVENT
DTSTART;TZID=America/New_York:20180927T100000
DTEND;TZID=America/New_York:20180927T160000
DTSTAMP:20260420T034918
CREATED:20180915T142655Z
LAST-MODIFIED:20180915T142655Z
UID:1194-1538042400-1538064000@www.knights12532.com
SUMMARY:40 Days for Life Vigil
DESCRIPTION:Join us in Prayer outside Planned Parenthood in Lancaster. Vigil will be every Monday\, Wednesday\, and Thursday from 10 a.m to 4 p.m.\nDay Captains\nMondays – Dave 717-569-7677 \nWednesdays – Tom 717-468-3822 \nThursdays – open need help
URL:https://www.knights12532.com/event/40-days-for-life-vigil/
LOCATION:Planned Parenthood\, 31 South Lime St\, Lancaster\, PA\, United States
END:VEVENT
BEGIN:VEVENT
DTSTART;TZID=America/New_York:20180926T100000
DTEND;TZID=America/New_York:20180926T160000
DTSTAMP:20260420T034918
CREATED:20180915T142329Z
LAST-MODIFIED:20180915T142329Z
UID:1190-1537956000-1537977600@www.knights12532.com
SUMMARY:40 Days for Life
DESCRIPTION:Join us in Prayer outside Planned Parenthood in Lancaster. Vigil will be every Monday\, Wednesday\, and Thursday from 10 a.m to 4 p.m.\nDay Captains\nMondays – Dave 717-569-7677 \nWednesdays – Tom 717-468-3822 \nThursdays – open need help
URL:https://www.knights12532.com/event/40-days-for-life-2/
LOCATION:Planned Parenthood\, 31 South Lime St\, Lancaster\, PA\, United States
END:VEVENT
BEGIN:VEVENT
DTSTART;TZID=America/New_York:20180925T190000
DTEND;TZID=America/New_York:20180925T210000
DTSTAMP:20260420T034918
CREATED:20180601T162135Z
LAST-MODIFIED:20180601T162135Z
UID:1126-1537902000-1537909200@www.knights12532.com
SUMMARY:Officer meeting
DESCRIPTION:meeting at 7:15\, all are welcome to attend
URL:https://www.knights12532.com/event/officer-meeting-29/
END:VEVENT
BEGIN:VEVENT
DTSTART;TZID=America/New_York:20180920T183000
DTEND;TZID=America/New_York:20180920T210000
DTSTAMP:20260420T034918
CREATED:20180915T141155Z
LAST-MODIFIED:20180915T141155Z
UID:1184-1537468200-1537477200@www.knights12532.com
SUMMARY:Admission degree
DESCRIPTION:Set up 6:30 p.m. candidates 7:00 p.m. degree starts promptly at 7:30.  Consider attending as an observer\, show your support of our new brother Knights.
URL:https://www.knights12532.com/event/admission-degree-5/
LOCATION:Saint John Neumann Church\, 601 East Delp Road\, Lancaster\, PA\, 17601\, United States
END:VEVENT
BEGIN:VEVENT
DTSTART;TZID=America/New_York:20180920T160000
DTEND;TZID=America/New_York:20180920T180000
DTSTAMP:20260420T034918
CREATED:20180915T141726Z
LAST-MODIFIED:20180915T141726Z
UID:1186-1537459200-1537466400@www.knights12532.com
SUMMARY:A Womens Concern Open House
DESCRIPTION:A Womens concern is having an open house to show their new facility
URL:https://www.knights12532.com/event/a-womens-concern-open-house/
LOCATION:A Womens Concern\, 1102 Millersville Pike\, Lancaster\, PA\, 17603\, United States
END:VEVENT
BEGIN:VEVENT
DTSTART;TZID=America/New_York:20180919T190000
DTEND;TZID=America/New_York:20180919T200000
DTSTAMP:20260420T034918
CREATED:20180915T141003Z
LAST-MODIFIED:20180915T141003Z
UID:1182-1537383600-1537387200@www.knights12532.com
SUMMARY:Admission Degree Practice
DESCRIPTION:Interested in participating on the degree team\, come to our practice and see what is involved!
URL:https://www.knights12532.com/event/admission-degree-practice-2/
LOCATION:Saint John Neumann Church\, 601 East Delp Road\, Lancaster\, PA\, 17601\, United States
END:VEVENT
BEGIN:VEVENT
DTSTART;TZID=America/New_York:20180911T190000
DTEND;TZID=America/New_York:20180911T210000
DTSTAMP:20260420T034918
CREATED:20180601T162046Z
LAST-MODIFIED:20180601T162046Z
UID:1124-1536692400-1536699600@www.knights12532.com
SUMMARY:General Council meeting
DESCRIPTION:Rosary at 7:15 p.m. meeting after
URL:https://www.knights12532.com/event/general-council-meeting-38/
END:VEVENT
BEGIN:VEVENT
DTSTART;TZID=America/New_York:20180828T191500
DTEND;TZID=America/New_York:20180828T210000
DTSTAMP:20260420T034918
CREATED:20170930T132432Z
LAST-MODIFIED:20170930T132432Z
UID:1049-1535483700-1535490000@www.knights12532.com
SUMMARY:Officer Meeting
DESCRIPTION:meeting at 7:15 pm. all members welcome\, held in SN XXIII building
URL:https://www.knights12532.com/event/officer-meeting-28/
END:VEVENT
BEGIN:VEVENT
DTSTART;VALUE=DATE:20180819
DTEND;VALUE=DATE:20180820
DTSTAMP:20260420T034918
CREATED:20170930T132541Z
LAST-MODIFIED:20170930T132541Z
UID:1051-1534636800-1534723199@www.knights12532.com
SUMMARY:Council Pig Roast
DESCRIPTION:Join us for the annual Pig Roast!  help will be needed all day and weekend
URL:https://www.knights12532.com/event/council-pig-roast/
END:VEVENT
BEGIN:VEVENT
DTSTART;TZID=America/New_York:20180818T090000
DTEND;TZID=America/New_York:20180818T140000
DTSTAMP:20260420T034918
CREATED:20180724T194815Z
LAST-MODIFIED:20180724T194815Z
UID:1136-1534582800-1534600800@www.knights12532.com
SUMMARY:Pig Roast set up
DESCRIPTION:Help prepare for the big day
URL:https://www.knights12532.com/event/pig-roast-set-up/
END:VEVENT
BEGIN:VEVENT
DTSTART;TZID=America/New_York:20180814T191500
DTEND;TZID=America/New_York:20180814T210000
DTSTAMP:20260420T034918
CREATED:20170930T132327Z
LAST-MODIFIED:20170930T132327Z
UID:1047-1534274100-1534280400@www.knights12532.com
SUMMARY:General council meeting
DESCRIPTION:Rosary at 7:15 pm\, meeting follows\, held in SJ XXIII building
URL:https://www.knights12532.com/event/general-council-meeting-37/
END:VEVENT
END:VCALENDAR