BEGIN:VCALENDAR
VERSION:2.0
PRODID:-//KofC12532 - ECPv6.15.20//NONSGML v1.0//EN
CALSCALE:GREGORIAN
METHOD:PUBLISH
X-WR-CALNAME:KofC12532
X-ORIGINAL-URL:https://www.knights12532.com
X-WR-CALDESC:Events for KofC12532
REFRESH-INTERVAL;VALUE=DURATION:PT1H
X-Robots-Tag:noindex
X-PUBLISHED-TTL:PT1H
BEGIN:VTIMEZONE
TZID:America/New_York
BEGIN:DAYLIGHT
TZOFFSETFROM:-0500
TZOFFSETTO:-0400
TZNAME:EDT
DTSTART:20160313T070000
END:DAYLIGHT
BEGIN:STANDARD
TZOFFSETFROM:-0400
TZOFFSETTO:-0500
TZNAME:EST
DTSTART:20161106T060000
END:STANDARD
BEGIN:DAYLIGHT
TZOFFSETFROM:-0500
TZOFFSETTO:-0400
TZNAME:EDT
DTSTART:20170312T070000
END:DAYLIGHT
BEGIN:STANDARD
TZOFFSETFROM:-0400
TZOFFSETTO:-0500
TZNAME:EST
DTSTART:20171105T060000
END:STANDARD
BEGIN:DAYLIGHT
TZOFFSETFROM:-0500
TZOFFSETTO:-0400
TZNAME:EDT
DTSTART:20180311T070000
END:DAYLIGHT
BEGIN:STANDARD
TZOFFSETFROM:-0400
TZOFFSETTO:-0500
TZNAME:EST
DTSTART:20181104T060000
END:STANDARD
BEGIN:DAYLIGHT
TZOFFSETFROM:-0500
TZOFFSETTO:-0400
TZNAME:EDT
DTSTART:20190310T070000
END:DAYLIGHT
BEGIN:STANDARD
TZOFFSETFROM:-0400
TZOFFSETTO:-0500
TZNAME:EST
DTSTART:20191103T060000
END:STANDARD
END:VTIMEZONE
BEGIN:VEVENT
DTSTART;TZID=America/New_York:20180424T191500
DTEND;TZID=America/New_York:20180424T210000
DTSTAMP:20260420T020851
CREATED:20170930T131316Z
LAST-MODIFIED:20170930T131316Z
UID:1031-1524597300-1524603600@www.knights12532.com
SUMMARY:Officer meeting
DESCRIPTION:meeting starts at 7:15 p.m. all members welcome\, held in SJ XXIII building
URL:https://www.knights12532.com/event/officer-meeting-24/
END:VEVENT
BEGIN:VEVENT
DTSTART;TZID=America/New_York:20180417T190000
DTEND;TZID=America/New_York:20180417T210000
DTSTAMP:20260420T020851
CREATED:20180304T222346Z
LAST-MODIFIED:20180304T222346Z
UID:1097-1523991600-1523998800@www.knights12532.com
SUMMARY:Assembly Meeting
DESCRIPTION:Monthly 4th degree meeting.
URL:https://www.knights12532.com/event/assembly-meeting-2/
LOCATION:St. Leo the Great\,  2427 Marietta Ave\, Lancaster\, PA\, 17601\, United States
END:VEVENT
BEGIN:VEVENT
DTSTART;TZID=America/New_York:20180410T191500
DTEND;TZID=America/New_York:20180410T210000
DTSTAMP:20260420T020851
CREATED:20170930T131206Z
LAST-MODIFIED:20170930T131206Z
UID:1029-1523387700-1523394000@www.knights12532.com
SUMMARY:General Council Meeting
DESCRIPTION:Rosary at 7:15 p.m. meeting to follow\, held in SJ XXIII building
URL:https://www.knights12532.com/event/general-council-meeting-33/
END:VEVENT
BEGIN:VEVENT
DTSTART;TZID=America/New_York:20180405T180000
DTEND;TZID=America/New_York:20180405T210000
DTSTAMP:20260420T020851
CREATED:20180331T192909Z
LAST-MODIFIED:20180331T193726Z
UID:1107-1522951200-1522962000@www.knights12532.com
SUMMARY:A Womans Concern Banquet
DESCRIPTION:
URL:https://www.knights12532.com/event/a-womans-concern-banquet-3/
END:VEVENT
BEGIN:VEVENT
DTSTART;TZID=America/New_York:20180327T191500
DTEND;TZID=America/New_York:20180327T210000
DTSTAMP:20260420T020851
CREATED:20170930T130859Z
LAST-MODIFIED:20170930T130859Z
UID:1027-1522178100-1522184400@www.knights12532.com
SUMMARY:Officer meeting
DESCRIPTION:meeting starts at 7:15 p.m. all members welcome\, held in SJ XXIII building
URL:https://www.knights12532.com/event/officer-meeting-23/
END:VEVENT
BEGIN:VEVENT
DTSTART;VALUE=DATE:20180324
DTEND;VALUE=DATE:20180326
DTSTAMP:20260420T020851
CREATED:20180304T221254Z
LAST-MODIFIED:20180304T221254Z
UID:1089-1521849600-1522022399@www.knights12532.com
SUMMARY:Candy Sale
DESCRIPTION:Help us sell Easter Candy after all Masses
URL:https://www.knights12532.com/event/candy-sale-5/
END:VEVENT
BEGIN:VEVENT
DTSTART;TZID=America/New_York:20180320T070000
DTEND;TZID=America/New_York:20180320T210000
DTSTAMP:20260420T020851
CREATED:20180304T222229Z
LAST-MODIFIED:20180304T222229Z
UID:1095-1521529200-1521579600@www.knights12532.com
SUMMARY:Assembly Meeting
DESCRIPTION:Monthly 4th degree assembly meeting
URL:https://www.knights12532.com/event/assembly-meeting/
LOCATION:OMPH Church\, 320 Church Av\, Ephrata\, PA\, 17522\, United States
END:VEVENT
BEGIN:VEVENT
DTSTART;VALUE=DATE:20180317
DTEND;VALUE=DATE:20180319
DTSTAMP:20260420T020851
CREATED:20180304T221214Z
LAST-MODIFIED:20180304T221214Z
UID:1087-1521244800-1521417599@www.knights12532.com
SUMMARY:Candy Sale
DESCRIPTION:Help us sell Easter candy after all Masses
URL:https://www.knights12532.com/event/candy-sale-4/
END:VEVENT
BEGIN:VEVENT
DTSTART;TZID=America/New_York:20180316T170000
DTEND;TZID=America/New_York:20180316T190000
DTSTAMP:20260420T020851
CREATED:20180304T220932Z
LAST-MODIFIED:20180304T220932Z
UID:1085-1521219600-1521226800@www.knights12532.com
SUMMARY:Fish Bake
DESCRIPTION:Join us for a Fish Dinner prior to Stations of the Cross
URL:https://www.knights12532.com/event/fish-bake-3/
END:VEVENT
BEGIN:VEVENT
DTSTART;TZID=America/New_York:20180313T191500
DTEND;TZID=America/New_York:20180313T210000
DTSTAMP:20260420T020851
CREATED:20170930T130634Z
LAST-MODIFIED:20170930T130634Z
UID:1025-1520968500-1520974800@www.knights12532.com
SUMMARY:General Council Meeting
DESCRIPTION:Rosary at 7:15 p.m. meeting follows\, held in SJ XXIII building
URL:https://www.knights12532.com/event/general-council-meeting-32/
END:VEVENT
BEGIN:VEVENT
DTSTART;TZID=America/New_York:20180227T191500
DTEND;TZID=America/New_York:20180227T210000
DTSTAMP:20260420T020851
CREATED:20170930T130504Z
LAST-MODIFIED:20170930T130504Z
UID:1023-1519758900-1519765200@www.knights12532.com
SUMMARY:Officer Meeting
DESCRIPTION:meeting start at 7:15 p.m. all members welcome to attend\, held in SJ XXIII building
URL:https://www.knights12532.com/event/officer-meeting-22/
END:VEVENT
BEGIN:VEVENT
DTSTART;TZID=America/New_York:20180213T191500
DTEND;TZID=America/New_York:20180213T210000
DTSTAMP:20260420T020851
CREATED:20170930T130336Z
LAST-MODIFIED:20170930T130336Z
UID:1021-1518549300-1518555600@www.knights12532.com
SUMMARY:General Council Meeting
DESCRIPTION:Rosary at 7:15\, meeting to follow\, held in SJ XXIII building
URL:https://www.knights12532.com/event/general-council-meeting-31/
END:VEVENT
BEGIN:VEVENT
DTSTART;TZID=America/New_York:20180123T191500
DTEND;TZID=America/New_York:20180123T210000
DTSTAMP:20260420T020851
CREATED:20170930T125933Z
LAST-MODIFIED:20170930T125933Z
UID:1017-1516734900-1516741200@www.knights12532.com
SUMMARY:Officer meeting
DESCRIPTION:meeting starts at 7:15 all members welcome to attend\, held in SJ XXIII building
URL:https://www.knights12532.com/event/officer-meeting-21/
END:VEVENT
BEGIN:VEVENT
DTSTART;TZID=America/New_York:20180109T191500
DTEND;TZID=America/New_York:20180109T210000
DTSTAMP:20260420T020851
CREATED:20170930T125818Z
LAST-MODIFIED:20170930T125818Z
UID:1015-1515525300-1515531600@www.knights12532.com
SUMMARY:General Council meeting
DESCRIPTION:Rosary at 7:15 meeting to follow  meeting in SJ XXIII building
URL:https://www.knights12532.com/event/general-council-meeting-30/
END:VEVENT
BEGIN:VEVENT
DTSTART;TZID=America/New_York:20180105T180000
DTEND;TZID=America/New_York:20180105T233000
DTSTAMP:20260420T020851
CREATED:20170930T130100Z
LAST-MODIFIED:20170930T130100Z
UID:1019-1515175200-1515195000@www.knights12532.com
SUMMARY:Council / Parish holiday ball
DESCRIPTION:our annual get together for the holidays
URL:https://www.knights12532.com/event/council-parish-holiday-ball/
LOCATION:Eden Resort\, 222 Eden Rd\, Lancaster \, PA\, 17601\, United States
END:VEVENT
BEGIN:VEVENT
DTSTART;VALUE=DATE:20171230
DTEND;VALUE=DATE:20180101
DTSTAMP:20260420T020851
CREATED:20170930T133120Z
LAST-MODIFIED:20170930T133120Z
UID:1055-1514592000-1514764799@www.knights12532.com
SUMMARY:5th Sunday Rosary
DESCRIPTION:members lead the Rosary prior to all Masses\, start 25 minutes prior to Mass
URL:https://www.knights12532.com/event/5th-sunday-rosary-8/
END:VEVENT
BEGIN:VEVENT
DTSTART;TZID=America/New_York:20171226T191500
DTEND;TZID=America/New_York:20171226T210000
DTSTAMP:20260420T020851
CREATED:20170215T150217Z
LAST-MODIFIED:20170215T150217Z
UID:896-1514315700-1514322000@www.knights12532.com
SUMMARY:Officer Meeting
DESCRIPTION:7:15 p.m. open to all members
URL:https://www.knights12532.com/event/officer-meeting-20/
END:VEVENT
BEGIN:VEVENT
DTSTART;TZID=America/New_York:20171217T130000
DTEND;TZID=America/New_York:20171217T170000
DTSTAMP:20260420T020851
CREATED:20171202T133948Z
LAST-MODIFIED:20171202T133948Z
UID:1070-1513515600-1513530000@www.knights12532.com
SUMMARY:Knighthood Degree
DESCRIPTION:All 2nd degree members are encourage to attend the Knighthood (3rd) degree.  Please contact Larry Beat ljbeat@yahoo.com if you are able to attend.  We need confirmation by 12 December.
URL:https://www.knights12532.com/event/knighthood-degree-3/
LOCATION:Knights of Columbus 867\, 1575 New Danville Pike\, Lancaster\, PA\, 17603\, United States
END:VEVENT
BEGIN:VEVENT
DTSTART;TZID=America/New_York:20171212T191500
DTEND;TZID=America/New_York:20171212T210000
DTSTAMP:20260420T020851
CREATED:20170215T150118Z
LAST-MODIFIED:20170215T150118Z
UID:894-1513106100-1513112400@www.knights12532.com
SUMMARY:General Council Meeting
DESCRIPTION:7:15 Rosary meeting to follow
URL:https://www.knights12532.com/event/general-council-meeting-29/
END:VEVENT
BEGIN:VEVENT
DTSTART;TZID=America/New_York:20171128T191500
DTEND;TZID=America/New_York:20171128T210000
DTSTAMP:20260420T020851
CREATED:20170215T150029Z
LAST-MODIFIED:20170215T150029Z
UID:892-1511896500-1511902800@www.knights12532.com
SUMMARY:Officer Meeting
DESCRIPTION:7:15 p.m. open to all members
URL:https://www.knights12532.com/event/officer-meeting-19/
END:VEVENT
BEGIN:VEVENT
DTSTART;TZID=America/New_York:20171122T090000
DTEND;TZID=America/New_York:20171122T180000
DTSTAMP:20260420T020851
CREATED:20170930T125608Z
LAST-MODIFIED:20170930T125608Z
UID:1013-1511341200-1511373600@www.knights12532.com
SUMMARY:Pie sale distribution
DESCRIPTION:We will need help in the social hall all day for distribution of Pies
URL:https://www.knights12532.com/event/pie-sale-distribution/
END:VEVENT
BEGIN:VEVENT
DTSTART;TZID=America/New_York:20171114T191500
DTEND;TZID=America/New_York:20171114T210000
DTSTAMP:20260420T020851
CREATED:20170215T145938Z
LAST-MODIFIED:20170215T145938Z
UID:890-1510686900-1510693200@www.knights12532.com
SUMMARY:General Council Meeting
DESCRIPTION:7:15 p.m. Rosary meeting to follow
URL:https://www.knights12532.com/event/general-council-meeting-28/
END:VEVENT
BEGIN:VEVENT
DTSTART;TZID=America/New_York:20171112T140000
DTEND;TZID=America/New_York:20171112T170000
DTSTAMP:20260420T020851
CREATED:20170930T125218Z
LAST-MODIFIED:20170930T125218Z
UID:1006-1510495200-1510506000@www.knights12532.com
SUMMARY:Formation Degree
DESCRIPTION:Degree held at Columbia Council Candidates at 2:00 p.m. degree will start at 2:30 p.m.
URL:https://www.knights12532.com/event/formation-degree-3/
LOCATION:Council 2294 Columbia\, 400 Maple St\, Columbia\, PA\, 17512\, United States
END:VEVENT
BEGIN:VEVENT
DTSTART;VALUE=DATE:20171111
DTEND;VALUE=DATE:20171113
DTSTAMP:20260420T020851
CREATED:20170930T125509Z
LAST-MODIFIED:20170930T125509Z
UID:1011-1510358400-1510531199@www.knights12532.com
SUMMARY:Pie Sales
DESCRIPTION:The council will have its annual pie sale after all Masses\, please help when and where you can
URL:https://www.knights12532.com/event/pie-sales-8/
END:VEVENT
BEGIN:VEVENT
DTSTART;VALUE=DATE:20171104
DTEND;VALUE=DATE:20171106
DTSTAMP:20260420T020851
CREATED:20170930T125422Z
LAST-MODIFIED:20170930T125422Z
UID:1009-1509753600-1509926399@www.knights12532.com
SUMMARY:Pie Sales
DESCRIPTION:The council will have its annual pie sale after all Masses\, please help when and where you can
URL:https://www.knights12532.com/event/pie-sales-7/
END:VEVENT
BEGIN:VEVENT
DTSTART;VALUE=DATE:20171028
DTEND;VALUE=DATE:20171030
DTSTAMP:20260420T020851
CREATED:20170930T133002Z
LAST-MODIFIED:20170930T133002Z
UID:1053-1509148800-1509321599@www.knights12532.com
SUMMARY:5th Sunday Rosary program
DESCRIPTION:members will lead the Rosary prior to all Masses\, start 25 minutes prior to Mass\, new volunteers always welcomed and encouraged
URL:https://www.knights12532.com/event/5th-sunday-rosary-program/
END:VEVENT
BEGIN:VEVENT
DTSTART;TZID=America/New_York:20171024T191500
DTEND;TZID=America/New_York:20171024T210000
DTSTAMP:20260420T020851
CREATED:20170215T145820Z
LAST-MODIFIED:20170215T145820Z
UID:888-1508872500-1508878800@www.knights12532.com
SUMMARY:Officers Meeting
DESCRIPTION:7:15pm open to all members
URL:https://www.knights12532.com/event/officers-meeting-18/
END:VEVENT
BEGIN:VEVENT
DTSTART;TZID=America/New_York:20171010T191500
DTEND;TZID=America/New_York:20171010T210000
DTSTAMP:20260420T020851
CREATED:20170215T145717Z
LAST-MODIFIED:20170215T145717Z
UID:886-1507662900-1507669200@www.knights12532.com
SUMMARY:General Council Mtg
DESCRIPTION:7:15 Rosary meeting to follow
URL:https://www.knights12532.com/event/general-council-mtg-2/
END:VEVENT
BEGIN:VEVENT
DTSTART;TZID=America/New_York:20171010T093000
DTEND;TZID=America/New_York:20171010T110000
DTSTAMP:20260420T020851
CREATED:20170930T125027Z
LAST-MODIFIED:20170930T125027Z
UID:1004-1507627800-1507633200@www.knights12532.com
SUMMARY:Mom's house bag delivery
DESCRIPTION:We will be delivering donations to Mom’s house after morning Mass meet at the trailer to carpool
URL:https://www.knights12532.com/event/moms-house-bag-delivery/
END:VEVENT
BEGIN:VEVENT
DTSTART;VALUE=DATE:20171007
DTEND;VALUE=DATE:20171009
DTSTAMP:20260420T020851
CREATED:20170930T124711Z
LAST-MODIFIED:20170930T124711Z
UID:1002-1507334400-1507507199@www.knights12532.com
SUMMARY:Membership Drive
DESCRIPTION:Please join us in the social hall for our membership drive.
URL:https://www.knights12532.com/event/membership-drive-4/
END:VEVENT
END:VCALENDAR