BEGIN:VCALENDAR
VERSION:2.0
PRODID:-//KofC12532 - ECPv6.15.20//NONSGML v1.0//EN
CALSCALE:GREGORIAN
METHOD:PUBLISH
X-WR-CALNAME:KofC12532
X-ORIGINAL-URL:https://www.knights12532.com
X-WR-CALDESC:Events for KofC12532
REFRESH-INTERVAL;VALUE=DURATION:PT1H
X-Robots-Tag:noindex
X-PUBLISHED-TTL:PT1H
BEGIN:VTIMEZONE
TZID:America/New_York
BEGIN:DAYLIGHT
TZOFFSETFROM:-0500
TZOFFSETTO:-0400
TZNAME:EDT
DTSTART:20170312T070000
END:DAYLIGHT
BEGIN:STANDARD
TZOFFSETFROM:-0400
TZOFFSETTO:-0500
TZNAME:EST
DTSTART:20171105T060000
END:STANDARD
BEGIN:DAYLIGHT
TZOFFSETFROM:-0500
TZOFFSETTO:-0400
TZNAME:EDT
DTSTART:20180311T070000
END:DAYLIGHT
BEGIN:STANDARD
TZOFFSETFROM:-0400
TZOFFSETTO:-0500
TZNAME:EST
DTSTART:20181104T060000
END:STANDARD
BEGIN:DAYLIGHT
TZOFFSETFROM:-0500
TZOFFSETTO:-0400
TZNAME:EDT
DTSTART:20190310T070000
END:DAYLIGHT
BEGIN:STANDARD
TZOFFSETFROM:-0400
TZOFFSETTO:-0500
TZNAME:EST
DTSTART:20191103T060000
END:STANDARD
END:VTIMEZONE
BEGIN:VEVENT
DTSTART;VALUE=DATE:20180814
DTEND;VALUE=DATE:20180815
DTSTAMP:20260420T175040
CREATED:20180724T195211Z
LAST-MODIFIED:20180724T195211Z
UID:1142-1534204800-1534291199@www.knights12532.com
SUMMARY:Pig Roast Ticket Sales
DESCRIPTION:Help sell Tickets after all Masses
URL:https://www.knights12532.com/event/pig-roast-ticket-sales-3/
END:VEVENT
BEGIN:VEVENT
DTSTART;TZID=America/New_York:20180812T130000
DTEND;TZID=America/New_York:20180812T170000
DTSTAMP:20260420T175040
CREATED:20180724T195340Z
LAST-MODIFIED:20180724T195340Z
UID:1144-1534078800-1534093200@www.knights12532.com
SUMMARY:Knighthood Degree
DESCRIPTION:Opportunity to complete your 3rd degree with the Knights!
URL:https://www.knights12532.com/event/knighthood-degree-4/
LOCATION:Knights of Columbus 867\, 1575 New Danville Pike\, Lancaster\, PA\, 17603\, United States
END:VEVENT
BEGIN:VEVENT
DTSTART;VALUE=DATE:20180811
DTEND;VALUE=DATE:20180813
DTSTAMP:20260420T175040
CREATED:20180724T195053Z
LAST-MODIFIED:20180724T195053Z
UID:1140-1533945600-1534118399@www.knights12532.com
SUMMARY:Pig Roast Ticket Sales
DESCRIPTION:Help sell tickets after all Masses
URL:https://www.knights12532.com/event/pig-roast-ticket-sales-2/
END:VEVENT
BEGIN:VEVENT
DTSTART;VALUE=DATE:20180804
DTEND;VALUE=DATE:20180806
DTSTAMP:20260420T175040
CREATED:20180724T195005Z
LAST-MODIFIED:20180724T195005Z
UID:1138-1533340800-1533513599@www.knights12532.com
SUMMARY:Pig Roast ticket Sales
DESCRIPTION:Selling tickets after all Masses
URL:https://www.knights12532.com/event/pig-roast-ticket-sales/
END:VEVENT
BEGIN:VEVENT
DTSTART;VALUE=DATE:20180728
DTEND;VALUE=DATE:20180730
DTSTAMP:20260420T175040
CREATED:20170930T133327Z
LAST-MODIFIED:20170930T133327Z
UID:1059-1532736000-1532908799@www.knights12532.com
SUMMARY:5th Sunday Rosary
DESCRIPTION:members lead the Rosary prior to all Masses\, start 25 minutes prior to Mass
URL:https://www.knights12532.com/event/5th-sunday-rosary-10/
END:VEVENT
BEGIN:VEVENT
DTSTART;TZID=America/New_York:20180724T191500
DTEND;TZID=America/New_York:20180724T210000
DTSTAMP:20260420T175040
CREATED:20170930T132112Z
LAST-MODIFIED:20170930T132112Z
UID:1043-1532459700-1532466000@www.knights12532.com
SUMMARY:Officer meeting
DESCRIPTION:meeting at 7:15 pm\, all members welcome\, held in SJ XXIII building
URL:https://www.knights12532.com/event/officer-meeting-27/
END:VEVENT
BEGIN:VEVENT
DTSTART;VALUE=DATE:20180720
DTEND;VALUE=DATE:20180721
DTSTAMP:20260420T175040
CREATED:20170930T132218Z
LAST-MODIFIED:20170930T132218Z
UID:1045-1532044800-1532131199@www.knights12532.com
SUMMARY:Council Golf Outing
DESCRIPTION:Join us for a great day on the course!
URL:https://www.knights12532.com/event/council-golf-outing/
LOCATION:Four Season Golf Course\, 949 Church Street\, Landisville\, PA\, 17538\, United States
END:VEVENT
BEGIN:VEVENT
DTSTART;TZID=America/New_York:20180718T190000
DTEND;TZID=America/New_York:20180718T210000
DTSTAMP:20260420T175040
CREATED:20180601T161821Z
LAST-MODIFIED:20180601T161821Z
UID:1122-1531940400-1531947600@www.knights12532.com
SUMMARY:Formation Degree
DESCRIPTION:Join us at Columbia Council for a Formation Degree\, set up 6:30 candidates 7:00 degree promptly at 7:30
URL:https://www.knights12532.com/event/formation-degree-5/
LOCATION:Council 2294 Columbia\, 400 Maple St\, Columbia\, PA\, 17512\, United States
END:VEVENT
BEGIN:VEVENT
DTSTART;TZID=America/New_York:20180710T191500
DTEND;TZID=America/New_York:20180710T210000
DTSTAMP:20260420T175040
CREATED:20170930T132016Z
LAST-MODIFIED:20170930T132016Z
UID:1041-1531250100-1531256400@www.knights12532.com
SUMMARY:General Council Meeting
DESCRIPTION:Rosary 7:15 pm meeting follows\, held in SJ XXIII building
URL:https://www.knights12532.com/event/general-council-meeting-36/
END:VEVENT
BEGIN:VEVENT
DTSTART;TZID=America/New_York:20180628T190000
DTEND;TZID=America/New_York:20180628T210000
DTSTAMP:20260420T175040
CREATED:20180601T161410Z
LAST-MODIFIED:20180601T161410Z
UID:1118-1530212400-1530219600@www.knights12532.com
SUMMARY:Admission degree
DESCRIPTION:Join us for an Admission degree\, set up at 6:30 candidates at 7:00 degree promptly at 7:30 p.m.
URL:https://www.knights12532.com/event/admission-degree-4/
END:VEVENT
BEGIN:VEVENT
DTSTART;TZID=America/New_York:20180626T191500
DTEND;TZID=America/New_York:20180626T210000
DTSTAMP:20260420T175040
CREATED:20170930T131800Z
LAST-MODIFIED:20170930T131800Z
UID:1039-1530040500-1530046800@www.knights12532.com
SUMMARY:Officer Meeting
DESCRIPTION:meeting at 7:15 pm\, all members welcome\, held in SJ XXIII building
URL:https://www.knights12532.com/event/officer-meeting-26/
END:VEVENT
BEGIN:VEVENT
DTSTART;TZID=America/New_York:20180619T190000
DTEND;TZID=America/New_York:20180619T210000
DTSTAMP:20260420T175040
CREATED:20180304T222602Z
LAST-MODIFIED:20180304T222602Z
UID:1101-1529434800-1529442000@www.knights12532.com
SUMMARY:Assembly Meeting
DESCRIPTION:Monthly 4th degree meeting
URL:https://www.knights12532.com/event/assembly-meeting-4/
LOCATION:Our Lady of Lourdes\, 150 Water St.\, New Holland\, PA\, 17557\, United States
END:VEVENT
BEGIN:VEVENT
DTSTART;TZID=America/New_York:20180612T191500
DTEND;TZID=America/New_York:20180612T210000
DTSTAMP:20260420T175040
CREATED:20170930T131659Z
LAST-MODIFIED:20170930T131659Z
UID:1037-1528830900-1528837200@www.knights12532.com
SUMMARY:General Council Meeting
DESCRIPTION:Rosary at 7:15 pm meeting to follow\, held in SJ XXIII building
URL:https://www.knights12532.com/event/general-council-meeting-35/
END:VEVENT
BEGIN:VEVENT
DTSTART;TZID=America/New_York:20180607T190000
DTEND;TZID=America/New_York:20180607T200000
DTSTAMP:20260420T175040
CREATED:20180601T161539Z
LAST-MODIFIED:20180601T161539Z
UID:1120-1528398000-1528401600@www.knights12532.com
SUMMARY:Pig Roast meeting
DESCRIPTION:Room 13 in Church social hall
URL:https://www.knights12532.com/event/pig-roast-meeting/
END:VEVENT
BEGIN:VEVENT
DTSTART;TZID=America/New_York:20180522T191500
DTEND;TZID=America/New_York:20180522T210000
DTSTAMP:20260420T175040
CREATED:20170930T131550Z
LAST-MODIFIED:20170930T131550Z
UID:1035-1527016500-1527022800@www.knights12532.com
SUMMARY:Officer Meeting
DESCRIPTION:meeting at 7:15 held in SJ XXIII building
URL:https://www.knights12532.com/event/officer-meeting-25/
END:VEVENT
BEGIN:VEVENT
DTSTART;TZID=America/New_York:20180515T190000
DTEND;TZID=America/New_York:20180515T210000
DTSTAMP:20260420T175040
CREATED:20180304T222448Z
LAST-MODIFIED:20180304T222448Z
UID:1099-1526410800-1526418000@www.knights12532.com
SUMMARY:Assembly Meeting
DESCRIPTION:Monthly 4th degree Meeting
URL:https://www.knights12532.com/event/assembly-meeting-3/
LOCATION:Saint John Neumann Church\, 601 East Delp Road\, Lancaster\, PA\, 17601\, United States
END:VEVENT
BEGIN:VEVENT
DTSTART;VALUE=DATE:20180512
DTEND;VALUE=DATE:20180514
DTSTAMP:20260420T175040
CREATED:20180304T221859Z
LAST-MODIFIED:20180304T221859Z
UID:1093-1526083200-1526255999@www.knights12532.com
SUMMARY:Mother Day Carnation distribution
DESCRIPTION:Help after all Masses needed.
URL:https://www.knights12532.com/event/mother-day-carnation-distribution/
END:VEVENT
BEGIN:VEVENT
DTSTART;TZID=America/New_York:20180508T191500
DTEND;TZID=America/New_York:20180508T210000
DTSTAMP:20260420T175040
CREATED:20170930T131440Z
LAST-MODIFIED:20170930T131440Z
UID:1033-1525806900-1525813200@www.knights12532.com
SUMMARY:General Council Meeting
DESCRIPTION:Rosary at 7:15pm meeting to follow\, held in SJ XXIII building
URL:https://www.knights12532.com/event/general-council-meeting-34/
END:VEVENT
BEGIN:VEVENT
DTSTART;TZID=America/New_York:20180506T070000
DTEND;TZID=America/New_York:20180506T120000
DTSTAMP:20260420T175041
CREATED:20180304T221725Z
LAST-MODIFIED:20180304T221725Z
UID:1091-1525590000-1525608000@www.knights12532.com
SUMMARY:Corporate Communion Mass and Breakfast
DESCRIPTION:Join us as we celebrate another year of brotherhood.  Mass at 7:30 a.m. breakfast follows at the Eden.  Guest Speaker will be Manheim Township Chief of Police and Brother Knight Tom Rudzinski.
URL:https://www.knights12532.com/event/corporate-communion-mass-and-breakfast/
END:VEVENT
BEGIN:VEVENT
DTSTART;VALUE=DATE:20180428
DTEND;VALUE=DATE:20180429
DTSTAMP:20260420T175041
CREATED:20180331T193029Z
LAST-MODIFIED:20180331T193919Z
UID:1109-1524873600-1524959999@www.knights12532.com
SUMMARY:4th Degree ceremony  Carlisle
DESCRIPTION:A one day ceremony for the Patriotic Degree.
URL:https://www.knights12532.com/event/4th-degree-ceremony-carlisle/
END:VEVENT
BEGIN:VEVENT
DTSTART;VALUE=DATE:20180428
DTEND;VALUE=DATE:20180430
DTSTAMP:20260420T175041
CREATED:20170930T133233Z
LAST-MODIFIED:20170930T133233Z
UID:1057-1524873600-1525046399@www.knights12532.com
SUMMARY:5th Sunday Rosary
DESCRIPTION:members lead the Rosary prior to all Masses\, start 25 minutes prior to Mass
URL:https://www.knights12532.com/event/5th-sunday-rosary-9/
END:VEVENT
BEGIN:VEVENT
DTSTART;TZID=America/New_York:20180424T191500
DTEND;TZID=America/New_York:20180424T210000
DTSTAMP:20260420T175041
CREATED:20170930T131316Z
LAST-MODIFIED:20170930T131316Z
UID:1031-1524597300-1524603600@www.knights12532.com
SUMMARY:Officer meeting
DESCRIPTION:meeting starts at 7:15 p.m. all members welcome\, held in SJ XXIII building
URL:https://www.knights12532.com/event/officer-meeting-24/
END:VEVENT
BEGIN:VEVENT
DTSTART;TZID=America/New_York:20180417T190000
DTEND;TZID=America/New_York:20180417T210000
DTSTAMP:20260420T175041
CREATED:20180304T222346Z
LAST-MODIFIED:20180304T222346Z
UID:1097-1523991600-1523998800@www.knights12532.com
SUMMARY:Assembly Meeting
DESCRIPTION:Monthly 4th degree meeting.
URL:https://www.knights12532.com/event/assembly-meeting-2/
LOCATION:St. Leo the Great\,  2427 Marietta Ave\, Lancaster\, PA\, 17601\, United States
END:VEVENT
BEGIN:VEVENT
DTSTART;TZID=America/New_York:20180410T191500
DTEND;TZID=America/New_York:20180410T210000
DTSTAMP:20260420T175041
CREATED:20170930T131206Z
LAST-MODIFIED:20170930T131206Z
UID:1029-1523387700-1523394000@www.knights12532.com
SUMMARY:General Council Meeting
DESCRIPTION:Rosary at 7:15 p.m. meeting to follow\, held in SJ XXIII building
URL:https://www.knights12532.com/event/general-council-meeting-33/
END:VEVENT
BEGIN:VEVENT
DTSTART;TZID=America/New_York:20180405T180000
DTEND;TZID=America/New_York:20180405T210000
DTSTAMP:20260420T175041
CREATED:20180331T192909Z
LAST-MODIFIED:20180331T193726Z
UID:1107-1522951200-1522962000@www.knights12532.com
SUMMARY:A Womans Concern Banquet
DESCRIPTION:
URL:https://www.knights12532.com/event/a-womans-concern-banquet-3/
END:VEVENT
BEGIN:VEVENT
DTSTART;TZID=America/New_York:20180327T191500
DTEND;TZID=America/New_York:20180327T210000
DTSTAMP:20260420T175041
CREATED:20170930T130859Z
LAST-MODIFIED:20170930T130859Z
UID:1027-1522178100-1522184400@www.knights12532.com
SUMMARY:Officer meeting
DESCRIPTION:meeting starts at 7:15 p.m. all members welcome\, held in SJ XXIII building
URL:https://www.knights12532.com/event/officer-meeting-23/
END:VEVENT
BEGIN:VEVENT
DTSTART;VALUE=DATE:20180324
DTEND;VALUE=DATE:20180326
DTSTAMP:20260420T175041
CREATED:20180304T221254Z
LAST-MODIFIED:20180304T221254Z
UID:1089-1521849600-1522022399@www.knights12532.com
SUMMARY:Candy Sale
DESCRIPTION:Help us sell Easter Candy after all Masses
URL:https://www.knights12532.com/event/candy-sale-5/
END:VEVENT
BEGIN:VEVENT
DTSTART;TZID=America/New_York:20180320T070000
DTEND;TZID=America/New_York:20180320T210000
DTSTAMP:20260420T175041
CREATED:20180304T222229Z
LAST-MODIFIED:20180304T222229Z
UID:1095-1521529200-1521579600@www.knights12532.com
SUMMARY:Assembly Meeting
DESCRIPTION:Monthly 4th degree assembly meeting
URL:https://www.knights12532.com/event/assembly-meeting/
LOCATION:OMPH Church\, 320 Church Av\, Ephrata\, PA\, 17522\, United States
END:VEVENT
BEGIN:VEVENT
DTSTART;VALUE=DATE:20180317
DTEND;VALUE=DATE:20180319
DTSTAMP:20260420T175041
CREATED:20180304T221214Z
LAST-MODIFIED:20180304T221214Z
UID:1087-1521244800-1521417599@www.knights12532.com
SUMMARY:Candy Sale
DESCRIPTION:Help us sell Easter candy after all Masses
URL:https://www.knights12532.com/event/candy-sale-4/
END:VEVENT
BEGIN:VEVENT
DTSTART;TZID=America/New_York:20180316T170000
DTEND;TZID=America/New_York:20180316T190000
DTSTAMP:20260420T175041
CREATED:20180304T220932Z
LAST-MODIFIED:20180304T220932Z
UID:1085-1521219600-1521226800@www.knights12532.com
SUMMARY:Fish Bake
DESCRIPTION:Join us for a Fish Dinner prior to Stations of the Cross
URL:https://www.knights12532.com/event/fish-bake-3/
END:VEVENT
END:VCALENDAR