BEGIN:VCALENDAR
VERSION:2.0
PRODID:-//KofC12532 - ECPv6.15.20//NONSGML v1.0//EN
CALSCALE:GREGORIAN
METHOD:PUBLISH
X-WR-CALNAME:KofC12532
X-ORIGINAL-URL:https://www.knights12532.com
X-WR-CALDESC:Events for KofC12532
REFRESH-INTERVAL;VALUE=DURATION:PT1H
X-Robots-Tag:noindex
X-PUBLISHED-TTL:PT1H
BEGIN:VTIMEZONE
TZID:America/New_York
BEGIN:DAYLIGHT
TZOFFSETFROM:-0500
TZOFFSETTO:-0400
TZNAME:EDT
DTSTART:20150308T070000
END:DAYLIGHT
BEGIN:STANDARD
TZOFFSETFROM:-0400
TZOFFSETTO:-0500
TZNAME:EST
DTSTART:20151101T060000
END:STANDARD
BEGIN:DAYLIGHT
TZOFFSETFROM:-0500
TZOFFSETTO:-0400
TZNAME:EDT
DTSTART:20160313T070000
END:DAYLIGHT
BEGIN:STANDARD
TZOFFSETFROM:-0400
TZOFFSETTO:-0500
TZNAME:EST
DTSTART:20161106T060000
END:STANDARD
BEGIN:DAYLIGHT
TZOFFSETFROM:-0500
TZOFFSETTO:-0400
TZNAME:EDT
DTSTART:20170312T070000
END:DAYLIGHT
BEGIN:STANDARD
TZOFFSETFROM:-0400
TZOFFSETTO:-0500
TZNAME:EST
DTSTART:20171105T060000
END:STANDARD
BEGIN:DAYLIGHT
TZOFFSETFROM:-0500
TZOFFSETTO:-0400
TZNAME:EDT
DTSTART:20180311T070000
END:DAYLIGHT
BEGIN:STANDARD
TZOFFSETFROM:-0400
TZOFFSETTO:-0500
TZNAME:EST
DTSTART:20181104T060000
END:STANDARD
END:VTIMEZONE
BEGIN:VEVENT
DTSTART;TZID=America/New_York:20170426T190000
DTEND;TZID=America/New_York:20170426T200000
DTSTAMP:20260419T161902
CREATED:20170419T112438Z
LAST-MODIFIED:20170419T112438Z
UID:931-1493233200-1493236800@www.knights12532.com
SUMMARY:Golf Committee Meeting
DESCRIPTION:
URL:https://www.knights12532.com/event/golf-committee-meeting/
LOCATION:PA
END:VEVENT
BEGIN:VEVENT
DTSTART;TZID=America/New_York:20170425T191500
DTEND;TZID=America/New_York:20170425T210000
DTSTAMP:20260419T161902
CREATED:20160530T130621Z
LAST-MODIFIED:20160530T130621Z
UID:686-1493147700-1493154000@www.knights12532.com
SUMMARY:Officer Meeting
DESCRIPTION:meeting at 7:15
URL:https://www.knights12532.com/event/officer-meeting-14/
LOCATION:Saint John Neumann Church\, 601 East Delp Road\, Lancaster\, PA\, 17601\, United States
END:VEVENT
BEGIN:VEVENT
DTSTART;VALUE=DATE:20170420
DTEND;VALUE=DATE:20170421
DTSTAMP:20260419T161902
CREATED:20170220T184042Z
LAST-MODIFIED:20170220T184042Z
UID:907-1492646400-1492732799@www.knights12532.com
SUMMARY:A Womans Concern Banquet
DESCRIPTION:Dinner for A Woman Concern – Detail to follow
URL:https://www.knights12532.com/event/a-womans-concern-banquet-2/
LOCATION:PA
END:VEVENT
BEGIN:VEVENT
DTSTART;VALUE=DATE:20170416
DTEND;VALUE=DATE:20170417
DTSTAMP:20260419T161902
CREATED:20160530T131653Z
LAST-MODIFIED:20160530T131653Z
UID:693-1492300800-1492387199@www.knights12532.com
SUMMARY:Easter
DESCRIPTION:
URL:https://www.knights12532.com/event/easter/
LOCATION:PA
END:VEVENT
BEGIN:VEVENT
DTSTART;TZID=America/New_York:20170411T191500
DTEND;TZID=America/New_York:20170411T210000
DTSTAMP:20260419T161902
CREATED:20160530T130510Z
LAST-MODIFIED:20160530T130510Z
UID:685-1491938100-1491944400@www.knights12532.com
SUMMARY:General Council Meeting
DESCRIPTION:Rosary at 7:15\, meeting follows
URL:https://www.knights12532.com/event/general-council-meeting-23/
LOCATION:Saint John Neumann Church\, 601 East Delp Road\, Lancaster\, PA\, 17601\, United States
END:VEVENT
BEGIN:VEVENT
DTSTART;VALUE=DATE:20170408
DTEND;VALUE=DATE:20170410
DTSTAMP:20260419T161902
CREATED:20170220T183804Z
LAST-MODIFIED:20170220T183804Z
UID:905-1491609600-1491782399@www.knights12532.com
SUMMARY:Candy Sales Last weekend
DESCRIPTION:Candy Sales after all Masses. Help for 15 minutes after Mass.
URL:https://www.knights12532.com/event/candy-sales-last-weekend/
LOCATION:PA
END:VEVENT
BEGIN:VEVENT
DTSTART;TZID=America/New_York:20170401T070000
DTEND;TZID=America/New_York:20170401T170000
DTSTAMP:20260419T161902
CREATED:20170215T142403Z
LAST-MODIFIED:20170215T142403Z
UID:860-1491030000-1491066000@www.knights12532.com
SUMMARY:Diocesan Mens Conference
DESCRIPTION:Annual diocesan mens conference. See diocese web site for details
URL:https://www.knights12532.com/event/diocesan-mens-conference-2/
LOCATION:Bishop McDevitt High School\, 1 Crusader Way\, Harrisburg\, PA\, 17111\, United States
END:VEVENT
BEGIN:VEVENT
DTSTART;VALUE=DATE:20170401
DTEND;VALUE=DATE:20170403
DTSTAMP:20260419T161902
CREATED:20161117T141901Z
LAST-MODIFIED:20161117T141901Z
UID:798-1491004800-1491177599@www.knights12532.com
SUMMARY:Patriotic Degree
DESCRIPTION:Ceremony in Grantville for application see Chuck Mayo or Jack Schuring
URL:https://www.knights12532.com/event/patriotic-degree/
LOCATION:PA
END:VEVENT
BEGIN:VEVENT
DTSTART;VALUE=DATE:20170401
DTEND;VALUE=DATE:20170403
DTSTAMP:20260419T161902
CREATED:20170220T183649Z
LAST-MODIFIED:20170220T183649Z
UID:903-1491004800-1491177599@www.knights12532.com
SUMMARY:Candy Sales
DESCRIPTION:Candy Sales after all Masses.  Help for 15 minutes after Mass
URL:https://www.knights12532.com/event/candy-sales-5/
LOCATION:PA
END:VEVENT
BEGIN:VEVENT
DTSTART;TZID=America/New_York:20170331T170000
DTEND;TZID=America/New_York:20170331T190000
DTSTAMP:20260419T161902
CREATED:20161224T150021Z
LAST-MODIFIED:20161224T150021Z
UID:825-1490979600-1490986800@www.knights12532.com
SUMMARY:Fish Bake
DESCRIPTION:Our 2nd Fish bake\, held in St. John 23rd Building contact jackschuring@comcast.net to volunteer
URL:https://www.knights12532.com/event/fish-bake-2/
LOCATION:Saint John Neumann Church\, 601 East Delp Road\, Lancaster\, PA\, 17601\, United States
END:VEVENT
BEGIN:VEVENT
DTSTART;TZID=America/New_York:20170328T191500
DTEND;TZID=America/New_York:20170328T210000
DTSTAMP:20260419T161902
CREATED:20160530T130400Z
LAST-MODIFIED:20160530T130400Z
UID:684-1490728500-1490734800@www.knights12532.com
SUMMARY:Officer Meeting
DESCRIPTION:Meeting at 7:15
URL:https://www.knights12532.com/event/officer-meeting-13/
LOCATION:Saint John Neumann Church\, 601 East Delp Road\, Lancaster\, PA\, 17601\, United States
END:VEVENT
BEGIN:VEVENT
DTSTART;VALUE=DATE:20170325
DTEND;VALUE=DATE:20170327
DTSTAMP:20260419T161902
CREATED:20170220T183545Z
LAST-MODIFIED:20170220T183545Z
UID:901-1490400000-1490572799@www.knights12532.com
SUMMARY:Candy Sales
DESCRIPTION:Candy sales after all Masses.  Help for 15 minutes after Mass.
URL:https://www.knights12532.com/event/candy-sales-4/
LOCATION:PA
END:VEVENT
BEGIN:VEVENT
DTSTART;TZID=America/New_York:20170317T170000
DTEND;TZID=America/New_York:20170317T190000
DTSTAMP:20260419T161902
CREATED:20161224T145912Z
LAST-MODIFIED:20161224T145912Z
UID:824-1489770000-1489777200@www.knights12532.com
SUMMARY:Fish Bake
DESCRIPTION:The council will be having a fish bake.  To help contact jackschuring@comcast.net Event will be held in St. John 23 building
URL:https://www.knights12532.com/event/fish-bake/
LOCATION:Saint John Neumann Church\, 601 East Delp Road\, Lancaster\, PA\, 17601\, United States
END:VEVENT
BEGIN:VEVENT
DTSTART;TZID=America/New_York:20170314T191500
DTEND;TZID=America/New_York:20170314T210000
DTSTAMP:20260419T161902
CREATED:20160530T130239Z
LAST-MODIFIED:20160530T130239Z
UID:683-1489518900-1489525200@www.knights12532.com
SUMMARY:General Council Meeting
DESCRIPTION:Rosary at 7:15\, meeting follows
URL:https://www.knights12532.com/event/general-council-meeting-22/
LOCATION:Saint John Neumann Church\, 601 East Delp Road\, Lancaster\, PA\, 17601\, United States
END:VEVENT
BEGIN:VEVENT
DTSTART;TZID=America/New_York:20170307T190000
DTEND;TZID=America/New_York:20170307T200000
DTSTAMP:20260419T161902
CREATED:20170215T142541Z
LAST-MODIFIED:20170215T142541Z
UID:862-1488913200-1488916800@www.knights12532.com
SUMMARY:Golf Committee Mtg
DESCRIPTION:meeting in room 13 7 p.m.
URL:https://www.knights12532.com/event/golf-committee-mtg-2/
LOCATION:PA
END:VEVENT
BEGIN:VEVENT
DTSTART;TZID=America/New_York:20170304T170000
DTEND;TZID=America/New_York:20170304T210000
DTSTAMP:20260419T161902
CREATED:20170215T144448Z
LAST-MODIFIED:20170215T144448Z
UID:868-1488646800-1488661200@www.knights12532.com
SUMMARY:Patriotic Degree Candidates Night
DESCRIPTION:meeting for the candidates for the 4th degree.
URL:https://www.knights12532.com/event/patriotic-degree-candidates-night/
LOCATION:St Phillip church\, 2111 Millersville Pike\, Lancaster\, PA\, 17603\, United States
END:VEVENT
BEGIN:VEVENT
DTSTART;TZID=America/New_York:20170228T191500
DTEND;TZID=America/New_York:20170228T210000
DTSTAMP:20260419T161902
CREATED:20160530T130127Z
LAST-MODIFIED:20160530T130127Z
UID:682-1488309300-1488315600@www.knights12532.com
SUMMARY:Officer Meeting
DESCRIPTION:meeting at 7:15
URL:https://www.knights12532.com/event/officer-meeting-12/
LOCATION:Saint John Neumann Church\, 601 East Delp Road\, Lancaster\, PA\, 17601\, United States
END:VEVENT
BEGIN:VEVENT
DTSTART;TZID=America/New_York:20170228T180000
DTEND;TZID=America/New_York:20170228T190000
DTSTAMP:20260419T161902
CREATED:20170215T142714Z
LAST-MODIFIED:20170215T142714Z
UID:864-1488304800-1488308400@www.knights12532.com
SUMMARY:Fish Bake committee MTG
DESCRIPTION:meeting to discuss upcoming fish bakes.  6 pm. SJ XXIII building
URL:https://www.knights12532.com/event/fish-bake-committee-mtg/
LOCATION:PA
END:VEVENT
BEGIN:VEVENT
DTSTART;TZID=America/New_York:20170226T140000
DTEND;TZID=America/New_York:20170226T170000
DTSTAMP:20260419T161902
CREATED:20161117T141610Z
LAST-MODIFIED:20170220T184215Z
UID:797-1488117600-1488128400@www.knights12532.com
SUMMARY:Knighthood Degree
DESCRIPTION:Degree will be at council 867 home association. Contact Jack Schuring for more information\nCandidates arrive by 2 p.m. Degree starts at 2:30  Attire is Suits/Sunday best.
URL:https://www.knights12532.com/event/knighthood-degree/
LOCATION:Knights of Columbus 867\, 1575 New Danville Pike\, Lancaster\, PA\, 17603\, United States
END:VEVENT
BEGIN:VEVENT
DTSTART;TZID=America/New_York:20170214T191500
DTEND;TZID=America/New_York:20170214T210000
DTSTAMP:20260419T161902
CREATED:20160530T130042Z
LAST-MODIFIED:20160530T130042Z
UID:681-1487099700-1487106000@www.knights12532.com
SUMMARY:General Council Meeting
DESCRIPTION:Rosary at 7:15\, meeting follows
URL:https://www.knights12532.com/event/general-council-meeting-21/
LOCATION:Saint John Neumann Church\, 601 East Delp Road\, Lancaster\, PA\, 17601\, United States
END:VEVENT
BEGIN:VEVENT
DTSTART;TZID=America/New_York:20170129T133000
DTEND;TZID=America/New_York:20170129T153000
DTSTAMP:20260419T161902
CREATED:20161224T145640Z
LAST-MODIFIED:20161224T145640Z
UID:823-1485696600-1485703800@www.knights12532.com
SUMMARY:Formation degree
DESCRIPTION:Degree in Columbia set up 1:00\, candidates 1:30\, degree promptly at 2 p.m.  Observers Welcome and desired
URL:https://www.knights12532.com/event/formation-degree-2/
LOCATION:Council 2294 Columbia\, 400 Maple St\, Columbia\, PA\, 17512\, United States
END:VEVENT
BEGIN:VEVENT
DTSTART;VALUE=DATE:20170128
DTEND;VALUE=DATE:20170130
DTSTAMP:20260419T161902
CREATED:20160530T140211Z
LAST-MODIFIED:20160530T140211Z
UID:697-1485561600-1485734399@www.knights12532.com
SUMMARY:5th Sunday Rosary
DESCRIPTION:Rosary prayed prior to all Masses this weekend
URL:https://www.knights12532.com/event/5th-sunday-rosary-5/
LOCATION:PA
END:VEVENT
BEGIN:VEVENT
DTSTART;VALUE=DATE:20170127
DTEND;VALUE=DATE:20170128
DTSTAMP:20260419T161902
CREATED:20160923T235819Z
LAST-MODIFIED:20160923T235819Z
UID:782-1485475200-1485561599@www.knights12532.com
SUMMARY:March for Life
DESCRIPTION:
URL:https://www.knights12532.com/event/march-for-life-2/
LOCATION:PA
END:VEVENT
BEGIN:VEVENT
DTSTART;TZID=America/New_York:20170124T191500
DTEND;TZID=America/New_York:20170124T210000
DTSTAMP:20260419T161902
CREATED:20160530T125938Z
LAST-MODIFIED:20160530T125938Z
UID:680-1485285300-1485291600@www.knights12532.com
SUMMARY:Officer Meeting
DESCRIPTION:Meeting at 7:15
URL:https://www.knights12532.com/event/officer-meeting-11/
LOCATION:Saint John Neumann Church\, 601 East Delp Road\, Lancaster\, PA\, 17601\, United States
END:VEVENT
BEGIN:VEVENT
DTSTART;TZID=America/New_York:20170123T190000
DTEND;TZID=America/New_York:20170123T200000
DTSTAMP:20260419T161902
CREATED:20170105T120202Z
LAST-MODIFIED:20170105T120202Z
UID:832-1485198000-1485201600@www.knights12532.com
SUMMARY:Sanctity of Life Mass (Order of Malta)
DESCRIPTION:The Order of Malta will be having a Sanctity of Life Mass at 7:00 p.m.  St. Joseph’s Church in Lancaster.
URL:https://www.knights12532.com/event/sanctity-of-life-mass-order-of-malta/
LOCATION:St. Joseph’s\, 440 St. Joseph's Street\, Lancaster\, 17603\, United States
END:VEVENT
BEGIN:VEVENT
DTSTART;TZID=America/New_York:20170113T180000
DTEND;TZID=America/New_York:20170113T230000
DTSTAMP:20260419T161902
CREATED:20160714T002300Z
LAST-MODIFIED:20160714T002300Z
UID:718-1484330400-1484348400@www.knights12532.com
SUMMARY:Council Holiday Party
DESCRIPTION:Join us for our Holiday ball.
URL:https://www.knights12532.com/event/council-holiday-party/
LOCATION:Eden Resort\, 222 Eden Rd\, Lancaster \, PA\, 17601\, United States
END:VEVENT
BEGIN:VEVENT
DTSTART;TZID=America/New_York:20170110T191500
DTEND;TZID=America/New_York:20170110T210000
DTSTAMP:20260419T161902
CREATED:20160530T125735Z
LAST-MODIFIED:20160530T125735Z
UID:678-1484075700-1484082000@www.knights12532.com
SUMMARY:General Council Meeting
DESCRIPTION:Rosary at 7:15\, meeting follows
URL:https://www.knights12532.com/event/general-council-meeting-20/
LOCATION:Saint John Neumann Church\, 601 East Delp Road\, Lancaster\, PA\, 17601\, United States
END:VEVENT
BEGIN:VEVENT
DTSTART;TZID=America/New_York:20170108T133000
DTEND;TZID=America/New_York:20170108T150000
DTSTAMP:20260419T161902
CREATED:20161224T145347Z
LAST-MODIFIED:20161224T145347Z
UID:822-1483882200-1483887600@www.knights12532.com
SUMMARY:Admission Degree
DESCRIPTION:Set up 1:00 Candidates 1:30 Degree promptly at 2 p.m.  Observers wanted! Degree will be in the St. John 23rd building
URL:https://www.knights12532.com/event/admission-degree/
LOCATION:Saint John Neumann Church\, 601 East Delp Road\, Lancaster\, PA\, 17601\, United States
END:VEVENT
BEGIN:VEVENT
DTSTART;VALUE=DATE:20170104
DTEND;VALUE=DATE:20170106
DTSTAMP:20260419T161902
CREATED:20161117T141256Z
LAST-MODIFIED:20161117T141350Z
UID:796-1483488000-1483660799@www.knights12532.com
SUMMARY:40 Hour Adoration
DESCRIPTION:Help need to cover overnight times!  Contact Bob Richards to sign up.
URL:https://www.knights12532.com/event/40-hour-adoration/
LOCATION:PA
END:VEVENT
BEGIN:VEVENT
DTSTART;TZID=America/New_York:20161227T191500
DTEND;TZID=America/New_York:20161227T210000
DTSTAMP:20260419T161902
CREATED:20160530T125630Z
LAST-MODIFIED:20161117T141132Z
UID:677-1482866100-1482872400@www.knights12532.com
SUMMARY:Officer Meeting
DESCRIPTION:There will be no officer meeting for December
URL:https://www.knights12532.com/event/officer-meeting-10/
LOCATION:Saint John Neumann Church\, 601 East Delp Road\, Lancaster\, PA\, 17601\, United States
END:VEVENT
END:VCALENDAR