BEGIN:VCALENDAR
VERSION:2.0
PRODID:-//KofC12532 - ECPv6.15.20//NONSGML v1.0//EN
CALSCALE:GREGORIAN
METHOD:PUBLISH
X-WR-CALNAME:KofC12532
X-ORIGINAL-URL:https://www.knights12532.com
X-WR-CALDESC:Events for KofC12532
REFRESH-INTERVAL;VALUE=DURATION:PT1H
X-Robots-Tag:noindex
X-PUBLISHED-TTL:PT1H
BEGIN:VTIMEZONE
TZID:America/New_York
BEGIN:DAYLIGHT
TZOFFSETFROM:-0500
TZOFFSETTO:-0400
TZNAME:EDT
DTSTART:20150308T070000
END:DAYLIGHT
BEGIN:STANDARD
TZOFFSETFROM:-0400
TZOFFSETTO:-0500
TZNAME:EST
DTSTART:20151101T060000
END:STANDARD
BEGIN:DAYLIGHT
TZOFFSETFROM:-0500
TZOFFSETTO:-0400
TZNAME:EDT
DTSTART:20160313T070000
END:DAYLIGHT
BEGIN:STANDARD
TZOFFSETFROM:-0400
TZOFFSETTO:-0500
TZNAME:EST
DTSTART:20161106T060000
END:STANDARD
BEGIN:DAYLIGHT
TZOFFSETFROM:-0500
TZOFFSETTO:-0400
TZNAME:EDT
DTSTART:20170312T070000
END:DAYLIGHT
BEGIN:STANDARD
TZOFFSETFROM:-0400
TZOFFSETTO:-0500
TZNAME:EST
DTSTART:20171105T060000
END:STANDARD
END:VTIMEZONE
BEGIN:VEVENT
DTSTART;TZID=America/New_York:20161220T191500
DTEND;TZID=America/New_York:20161220T210000
DTSTAMP:20260419T112302
CREATED:20160808T123818Z
LAST-MODIFIED:20160808T123818Z
UID:749-1482261300-1482267600@www.knights12532.com
SUMMARY:4th Degree Meeting
DESCRIPTION:
URL:https://www.knights12532.com/event/4th-degree-meeting-13/
LOCATION:Our Lady of Lourdes\, 150 Water St.\, New Holland\, PA\, 17557\, United States
END:VEVENT
BEGIN:VEVENT
DTSTART;TZID=America/New_York:20161216T180000
DTEND;TZID=America/New_York:20161216T230000
DTSTAMP:20260419T112302
CREATED:20161117T141028Z
LAST-MODIFIED:20161117T141028Z
UID:795-1481911200-1481929200@www.knights12532.com
SUMMARY:Santa Maria Assembly Holiday Ball
DESCRIPTION:Contact John Radicone for information\, event is open to 3rd and 4th degree Knights
URL:https://www.knights12532.com/event/santa-maria-assembly-holiday-ball/
LOCATION:Eden Resort\, 222 Eden Rd\, Lancaster \, PA\, 17601\, United States
END:VEVENT
BEGIN:VEVENT
DTSTART;TZID=America/New_York:20161213T191500
DTEND;TZID=America/New_York:20161213T210000
DTSTAMP:20260419T112302
CREATED:20160530T125542Z
LAST-MODIFIED:20160530T125542Z
UID:676-1481656500-1481662800@www.knights12532.com
SUMMARY:General Council Meeting
DESCRIPTION:Rosary at 7:15\, meeting follows
URL:https://www.knights12532.com/event/general-council-meeting-19/
LOCATION:Saint John Neumann Church\, 601 East Delp Road\, Lancaster\, PA\, 17601\, United States
END:VEVENT
BEGIN:VEVENT
DTSTART;TZID=America/New_York:20161204T110000
DTEND;TZID=America/New_York:20161204T130000
DTSTAMP:20260419T112302
CREATED:20161117T140845Z
LAST-MODIFIED:20161117T140845Z
UID:794-1480849200-1480856400@www.knights12532.com
SUMMARY:Christmas Gift Sorting
DESCRIPTION:Help needed to sort gifts brought in from the giving tree
URL:https://www.knights12532.com/event/christmas-gift-sorting/
LOCATION:PA
END:VEVENT
BEGIN:VEVENT
DTSTART;TZID=America/New_York:20161201T171500
DTEND;TZID=America/New_York:20161201T200000
DTSTAMP:20260419T112302
CREATED:20161117T140637Z
LAST-MODIFIED:20161117T142043Z
UID:793-1480612500-1480622400@www.knights12532.com
SUMMARY:Serra Club Dinner for Clergy
DESCRIPTION:Contact Frank Gappa for more information
URL:https://www.knights12532.com/event/serra-club-dinner-for-clergy/
LOCATION:Eden Resort\, 222 Eden Rd\, Lancaster \, PA\, 17601\, United States
END:VEVENT
BEGIN:VEVENT
DTSTART;VALUE=DATE:20161123
DTEND;VALUE=DATE:20161124
DTSTAMP:20260419T112302
CREATED:20160923T235423Z
LAST-MODIFIED:20160923T235423Z
UID:780-1479859200-1479945599@www.knights12532.com
SUMMARY:Pie Delivery
DESCRIPTION:Will need help distributing pies
URL:https://www.knights12532.com/event/pie-delivery/
LOCATION:PA
END:VEVENT
BEGIN:VEVENT
DTSTART;TZID=America/New_York:20161122T191500
DTEND;TZID=America/New_York:20161122T210000
DTSTAMP:20260419T112302
CREATED:20160530T125310Z
LAST-MODIFIED:20160530T125310Z
UID:674-1479842100-1479848400@www.knights12532.com
SUMMARY:Officer Meeting
DESCRIPTION:meeting at 7:15
URL:https://www.knights12532.com/event/officer-meeting-9/
LOCATION:Saint John Neumann Church\, 601 East Delp Road\, Lancaster\, PA\, 17601\, United States
END:VEVENT
BEGIN:VEVENT
DTSTART;TZID=America/New_York:20161115T191500
DTEND;TZID=America/New_York:20161115T220000
DTSTAMP:20260419T112302
CREATED:20160530T140658Z
LAST-MODIFIED:20160530T140658Z
UID:700-1479237300-1479247200@www.knights12532.com
SUMMARY:4th Degree SMA Meeting
DESCRIPTION:Rosary at 7:15 meeting to follow
URL:https://www.knights12532.com/event/4th-degree-sma-meeting/
LOCATION:Saint John Neumann Church\, 601 East Delp Road\, Lancaster\, PA\, 17601\, United States
END:VEVENT
BEGIN:VEVENT
DTSTART;TZID=America/New_York:20161112T160000
DTEND;TZID=America/New_York:20161112T200000
DTSTAMP:20260419T112302
CREATED:20160530T125437Z
LAST-MODIFIED:20160530T125437Z
UID:675-1478966400-1478980800@www.knights12532.com
SUMMARY:Veteran Memorial Mass
DESCRIPTION:We are hosting the 4th degree Veterans Memorial Mass. Dinner to follow after mass.
URL:https://www.knights12532.com/event/veteran-memorial-mass/
LOCATION:Saint John Neumann Church\, 601 East Delp Road\, Lancaster\, PA\, 17601\, United States
END:VEVENT
BEGIN:VEVENT
DTSTART;VALUE=DATE:20161112
DTEND;VALUE=DATE:20161114
DTSTAMP:20260419T112302
CREATED:20160923T235330Z
LAST-MODIFIED:20160923T235330Z
UID:779-1478908800-1479081599@www.knights12532.com
SUMMARY:Pie Sales
DESCRIPTION:Pie Sales after all Masses
URL:https://www.knights12532.com/event/pie-sales-6/
LOCATION:PA
END:VEVENT
BEGIN:VEVENT
DTSTART;TZID=America/New_York:20161108T191500
DTEND;TZID=America/New_York:20161108T210000
DTSTAMP:20260419T112302
CREATED:20160530T125217Z
LAST-MODIFIED:20160530T125217Z
UID:673-1478632500-1478638800@www.knights12532.com
SUMMARY:General Council Meeting
DESCRIPTION:Rosary at 7:15 meeting follows
URL:https://www.knights12532.com/event/general-council-meeting-18/
LOCATION:Saint John Neumann Church\, 601 East Delp Road\, Lancaster\, PA\, 17601\, United States
END:VEVENT
BEGIN:VEVENT
DTSTART;VALUE=DATE:20161105
DTEND;VALUE=DATE:20161107
DTSTAMP:20260419T112302
CREATED:20160923T235246Z
LAST-MODIFIED:20160923T235246Z
UID:778-1478304000-1478476799@www.knights12532.com
SUMMARY:Pie Sales
DESCRIPTION:Sales after all Masses
URL:https://www.knights12532.com/event/pie-sales-5/
LOCATION:PA
END:VEVENT
BEGIN:VEVENT
DTSTART;TZID=America/New_York:20161103T190000
DTEND;TZID=America/New_York:20161103T210000
DTSTAMP:20260419T112302
CREATED:20160923T235700Z
LAST-MODIFIED:20160923T235700Z
UID:781-1478199600-1478206800@www.knights12532.com
SUMMARY:Formation Degree
DESCRIPTION:Candidates 7p.m. degree 7:30
URL:https://www.knights12532.com/event/formation-degree/
LOCATION:Council 2294 Columbia\, 400 Maple St\, Columbia\, PA\, 17512\, United States
END:VEVENT
BEGIN:VEVENT
DTSTART;VALUE=DATE:20161029
DTEND;VALUE=DATE:20161031
DTSTAMP:20260419T112302
CREATED:20160530T140115Z
LAST-MODIFIED:20160530T140115Z
UID:696-1477699200-1477871999@www.knights12532.com
SUMMARY:5th Sunday Rosary
DESCRIPTION:Rosary Prayed prior to all Masses this Weekend
URL:https://www.knights12532.com/event/5th-sunday-rosary-4/
LOCATION:PA
END:VEVENT
BEGIN:VEVENT
DTSTART;TZID=America/New_York:20161025T191500
DTEND;TZID=America/New_York:20161025T210000
DTSTAMP:20260419T112302
CREATED:20160530T125116Z
LAST-MODIFIED:20160530T125116Z
UID:672-1477422900-1477429200@www.knights12532.com
SUMMARY:Officer Meeting
DESCRIPTION:meeting at 7:15
URL:https://www.knights12532.com/event/officer-meeting-8/
LOCATION:Saint John Neumann Church\, 601 East Delp Road\, Lancaster\, PA\, 17601\, United States
END:VEVENT
BEGIN:VEVENT
DTSTART;TZID=America/New_York:20161018T191500
DTEND;TZID=America/New_York:20161018T210000
DTSTAMP:20260419T112302
CREATED:20160808T123630Z
LAST-MODIFIED:20160808T123630Z
UID:747-1476818100-1476824400@www.knights12532.com
SUMMARY:4th Degree Meeting
DESCRIPTION:
URL:https://www.knights12532.com/event/4th-degree-meeting-11/
LOCATION:St. Leo the Great\,  2427 Marietta Ave\, Lancaster\, PA\, 17601\, United States
END:VEVENT
BEGIN:VEVENT
DTSTART;TZID=America/New_York:20161015T084500
DTEND;TZID=America/New_York:20161015T110000
DTSTAMP:20260419T112302
CREATED:20160923T234949Z
LAST-MODIFIED:20160923T234949Z
UID:776-1476521100-1476529200@www.knights12532.com
SUMMARY:Road Clean up/tent inspection/lunch
DESCRIPTION:Help us with road clean up\, then pig roast tent inspection and stay for some lunch
URL:https://www.knights12532.com/event/road-clean-uptent-inspectionlunch/
LOCATION:Saint John Neumann Church\, 601 East Delp Road\, Lancaster\, PA\, 17601\, United States
END:VEVENT
BEGIN:VEVENT
DTSTART;TZID=America/New_York:20161012T190000
DTEND;TZID=America/New_York:20161012T210000
DTSTAMP:20260419T112302
CREATED:20160923T235037Z
LAST-MODIFIED:20160923T235037Z
UID:777-1476298800-1476306000@www.knights12532.com
SUMMARY:Admission Degree practice
DESCRIPTION:
URL:https://www.knights12532.com/event/admission-degree-practice/
LOCATION:PA
END:VEVENT
BEGIN:VEVENT
DTSTART;TZID=America/New_York:20161011T191500
DTEND;TZID=America/New_York:20161011T210000
DTSTAMP:20260419T112302
CREATED:20160530T125031Z
LAST-MODIFIED:20160530T125031Z
UID:671-1476213300-1476219600@www.knights12532.com
SUMMARY:General Council Meeting
DESCRIPTION:Rosary at 7:15 meeting to follow
URL:https://www.knights12532.com/event/general-council-meeting-17/
LOCATION:Saint John Neumann Church\, 601 East Delp Road\, Lancaster\, PA\, 17601\, United States
END:VEVENT
BEGIN:VEVENT
DTSTART;TZID=America/New_York:20161011T090000
DTEND;TZID=America/New_York:20161011T110000
DTSTAMP:20260419T112302
CREATED:20160912T192241Z
LAST-MODIFIED:20160923T234638Z
UID:769-1476176400-1476183600@www.knights12532.com
SUMMARY:Moms House delivery
DESCRIPTION:We will be delivering the collection to Moms house.  Help needed.
URL:https://www.knights12532.com/event/moms-house-delivery-2/
LOCATION:PA
END:VEVENT
BEGIN:VEVENT
DTSTART;VALUE=DATE:20161009
DTEND;VALUE=DATE:20161010
DTSTAMP:20260419T112302
CREATED:20160923T234813Z
LAST-MODIFIED:20160923T234813Z
UID:775-1475971200-1476057599@www.knights12532.com
SUMMARY:District Soccer Championship
DESCRIPTION:info to follow
URL:https://www.knights12532.com/event/district-soccer-championship/
LOCATION:PA
END:VEVENT
BEGIN:VEVENT
DTSTART;VALUE=DATE:20161008
DTEND;VALUE=DATE:20161010
DTSTAMP:20260419T112302
CREATED:20160809T195241Z
LAST-MODIFIED:20160809T195241Z
UID:756-1475884800-1476057599@www.knights12532.com
SUMMARY:Mom's House Collection Weekend
DESCRIPTION:Time to collect donations Help need before and after all Masses.
URL:https://www.knights12532.com/event/moms-house-collection-weekend/
LOCATION:PA
END:VEVENT
BEGIN:VEVENT
DTSTART;VALUE=DATE:20161007
DTEND;VALUE=DATE:20161008
DTSTAMP:20260419T112302
CREATED:20160811T152059Z
LAST-MODIFIED:20160811T152059Z
UID:763-1475798400-1475884799@www.knights12532.com
SUMMARY:54 Day Rosary Novena Ends
DESCRIPTION:Today ends the Novena for our Nation.  Anyone able to attend the Rosary Rally in Washington D.C. is urged to attend.
URL:https://www.knights12532.com/event/54-day-rosary-novena-ends/
LOCATION:PA
END:VEVENT
BEGIN:VEVENT
DTSTART;VALUE=DATE:20161001
DTEND;VALUE=DATE:20161003
DTSTAMP:20260419T112302
CREATED:20160912T192113Z
LAST-MODIFIED:20160912T192113Z
UID:768-1475280000-1475452799@www.knights12532.com
SUMMARY:Voter Registration
DESCRIPTION:Knights will be assisting with voter registration after all Masses.
URL:https://www.knights12532.com/event/voter-registration-3/
LOCATION:PA
END:VEVENT
BEGIN:VEVENT
DTSTART;VALUE=DATE:20161001
DTEND;VALUE=DATE:20161003
DTSTAMP:20260419T112302
CREATED:20160809T195151Z
LAST-MODIFIED:20160809T195151Z
UID:755-1475280000-1475452799@www.knights12532.com
SUMMARY:Mom's House Bag Hand Out
DESCRIPTION:The start of our supply Drive for Mom’s House
URL:https://www.knights12532.com/event/moms-house-bag-hand-out/
LOCATION:PA
END:VEVENT
BEGIN:VEVENT
DTSTART;VALUE=DATE:20161001
DTEND;VALUE=DATE:20161003
DTSTAMP:20260419T112302
CREATED:20160809T195018Z
LAST-MODIFIED:20160809T195018Z
UID:754-1475280000-1475452799@www.knights12532.com
SUMMARY:Membership Drive
DESCRIPTION:
URL:https://www.knights12532.com/event/membership-drive-3/
LOCATION:PA
END:VEVENT
BEGIN:VEVENT
DTSTART;TZID=America/New_York:20160929T190000
DTEND;TZID=America/New_York:20160929T210000
DTSTAMP:20260419T112302
CREATED:20160912T191822Z
LAST-MODIFIED:20160924T000014Z
UID:765-1475175600-1475182800@www.knights12532.com
SUMMARY:Admission Degree
DESCRIPTION:There will be a 1st degree in the regular meeting rooms at SJN. Candidates report at 7:00\, degree will start at 7:30.
URL:https://www.knights12532.com/event/1st-degree-8/
LOCATION:Saint John Neumann Church\, 601 East Delp Road\, Lancaster\, PA\, 17601\, United States
END:VEVENT
BEGIN:VEVENT
DTSTART;TZID=America/New_York:20160927T191500
DTEND;TZID=America/New_York:20160927T210000
DTSTAMP:20260419T112302
CREATED:20160530T124801Z
LAST-MODIFIED:20160530T124801Z
UID:669-1475003700-1475010000@www.knights12532.com
SUMMARY:Officer Meeting
DESCRIPTION:meeting at 7:15
URL:https://www.knights12532.com/event/officer-meeting-7/
LOCATION:Saint John Neumann Church\, 601 East Delp Road\, Lancaster\, PA\, 17601\, United States
END:VEVENT
BEGIN:VEVENT
DTSTART;TZID=America/New_York:20160925T160000
DTEND;TZID=America/New_York:20160925T180000
DTSTAMP:20260419T112302
CREATED:20160923T234528Z
LAST-MODIFIED:20160923T234528Z
UID:774-1474819200-1474826400@www.knights12532.com
SUMMARY:Soccer Challenge
DESCRIPTION:To be held at LCHS soccer field at the football stadium.
URL:https://www.knights12532.com/event/soccer-challenge/
LOCATION:PA
END:VEVENT
BEGIN:VEVENT
DTSTART;VALUE=DATE:20160924
DTEND;VALUE=DATE:20160926
DTSTAMP:20260419T112302
CREATED:20160912T192033Z
LAST-MODIFIED:20160912T192033Z
UID:767-1474675200-1474847999@www.knights12532.com
SUMMARY:Voter Registration
DESCRIPTION:Knights will be assisting with Voter Registration after all Masses.
URL:https://www.knights12532.com/event/voter-registration-2/
LOCATION:PA
END:VEVENT
END:VCALENDAR