BEGIN:VCALENDAR
VERSION:2.0
PRODID:-//KofC12532 - ECPv6.15.20//NONSGML v1.0//EN
CALSCALE:GREGORIAN
METHOD:PUBLISH
X-WR-CALNAME:KofC12532
X-ORIGINAL-URL:https://www.knights12532.com
X-WR-CALDESC:Events for KofC12532
REFRESH-INTERVAL;VALUE=DURATION:PT1H
X-Robots-Tag:noindex
X-PUBLISHED-TTL:PT1H
BEGIN:VTIMEZONE
TZID:America/New_York
BEGIN:DAYLIGHT
TZOFFSETFROM:-0500
TZOFFSETTO:-0400
TZNAME:EDT
DTSTART:20140309T070000
END:DAYLIGHT
BEGIN:STANDARD
TZOFFSETFROM:-0400
TZOFFSETTO:-0500
TZNAME:EST
DTSTART:20141102T060000
END:STANDARD
BEGIN:DAYLIGHT
TZOFFSETFROM:-0500
TZOFFSETTO:-0400
TZNAME:EDT
DTSTART:20150308T070000
END:DAYLIGHT
BEGIN:STANDARD
TZOFFSETFROM:-0400
TZOFFSETTO:-0500
TZNAME:EST
DTSTART:20151101T060000
END:STANDARD
BEGIN:DAYLIGHT
TZOFFSETFROM:-0500
TZOFFSETTO:-0400
TZNAME:EDT
DTSTART:20160313T070000
END:DAYLIGHT
BEGIN:STANDARD
TZOFFSETFROM:-0400
TZOFFSETTO:-0500
TZNAME:EST
DTSTART:20161106T060000
END:STANDARD
BEGIN:DAYLIGHT
TZOFFSETFROM:-0500
TZOFFSETTO:-0400
TZNAME:EDT
DTSTART:20170312T070000
END:DAYLIGHT
BEGIN:STANDARD
TZOFFSETFROM:-0400
TZOFFSETTO:-0500
TZNAME:EST
DTSTART:20171105T060000
END:STANDARD
END:VTIMEZONE
BEGIN:VEVENT
DTSTART;TZID=America/New_York:20160308T191500
DTEND;TZID=America/New_York:20160308T210000
DTSTAMP:20260419T151306
CREATED:20160212T170535Z
LAST-MODIFIED:20160212T170535Z
UID:555-1457464500-1457470800@www.knights12532.com
SUMMARY:General Council Meeting
DESCRIPTION:Rosary at 7:15 meeting to follow
URL:https://www.knights12532.com/event/general-council-meeting-10/
LOCATION:Saint John Neumann Church\, 601 East Delp Road\, Lancaster\, PA\, 17601\, United States
END:VEVENT
BEGIN:VEVENT
DTSTART;VALUE=DATE:20160305
DTEND;VALUE=DATE:20160307
DTSTAMP:20260419T151306
CREATED:20160212T171045Z
LAST-MODIFIED:20160212T171045Z
UID:558-1457136000-1457308799@www.knights12532.com
SUMMARY:Candy Sales
DESCRIPTION:We will be selling candy before and after all Masses help is needed
URL:https://www.knights12532.com/event/candy-sales/
LOCATION:Saint John Neumann Church\, 601 East Delp Road\, Lancaster\, PA\, 17601\, United States
END:VEVENT
BEGIN:VEVENT
DTSTART;TZID=America/New_York:20160223T191500
DTEND;TZID=America/New_York:20160223T210000
DTSTAMP:20260419T151306
CREATED:20151128T135539Z
LAST-MODIFIED:20151128T135539Z
UID:520-1456254900-1456261200@www.knights12532.com
SUMMARY:Officers Meeting
DESCRIPTION:Meeting at 7:15 p.m.
URL:https://www.knights12532.com/event/officers-meeting-11/
LOCATION:Saint John Neumann Church\, 601 East Delp Road\, Lancaster\, PA\, 17601\, United States
END:VEVENT
BEGIN:VEVENT
DTSTART;TZID=America/New_York:20160221T083000
DTEND;TZID=America/New_York:20160221T130000
DTSTAMP:20260419T151306
CREATED:20160203T133316Z
LAST-MODIFIED:20160203T133316Z
UID:546-1456043400-1456059600@www.knights12532.com
SUMMARY:Blood Drive
DESCRIPTION:Hosting a blood drive at the church. Come out and donate if you can
URL:https://www.knights12532.com/event/blood-drive/
LOCATION:Saint John Neumann Church\, 601 East Delp Road\, Lancaster\, PA\, 17601\, United States
END:VEVENT
BEGIN:VEVENT
DTSTART;TZID=America/New_York:20160220T170000
DTEND;TZID=America/New_York:20160220T190000
DTSTAMP:20260419T151306
CREATED:20160203T133431Z
LAST-MODIFIED:20160203T133431Z
UID:547-1455987600-1455994800@www.knights12532.com
SUMMARY:4th degree Candidates Knight
DESCRIPTION:We will be hosting the candidates night after the 4p.m. Mass.
URL:https://www.knights12532.com/event/4th-degree-candidates-knight/
LOCATION:Saint John Neumann Church\, 601 East Delp Road\, Lancaster\, PA\, 17601\, United States
END:VEVENT
BEGIN:VEVENT
DTSTART;TZID=America/New_York:20160216T191500
DTEND;TZID=America/New_York:20160216T210000
DTSTAMP:20260419T151306
CREATED:20160212T173416Z
LAST-MODIFIED:20160212T173416Z
UID:573-1455650100-1455656400@www.knights12532.com
SUMMARY:4th degree meeting
DESCRIPTION:Ladies will be meeting as well to help plan activities for the Ceremony weekend
URL:https://www.knights12532.com/event/4th-degree-meeting-4/
LOCATION:Knights of Columbus 867\, 1575 New Danville Pike\, Lancaster\, PA\, 17603\, United States
END:VEVENT
BEGIN:VEVENT
DTSTART;TZID=America/New_York:20160209T191500
DTEND;TZID=America/New_York:20160209T210000
DTSTAMP:20260419T151306
CREATED:20151128T135702Z
LAST-MODIFIED:20151128T135702Z
UID:519-1455045300-1455051600@www.knights12532.com
SUMMARY:General Council Meeting
DESCRIPTION:Rosary at 7:15 p.m. meeting to follow
URL:https://www.knights12532.com/event/general-council-meeting-9/
LOCATION:Saint John Neumann Church\, 601 East Delp Road\, Lancaster\, PA\, 17601\, United States
END:VEVENT
BEGIN:VEVENT
DTSTART;TZID=America/New_York:20160126T191500
DTEND;TZID=America/New_York:20160126T210000
DTSTAMP:20260419T151306
CREATED:20151128T135028Z
LAST-MODIFIED:20151128T135028Z
UID:518-1453835700-1453842000@www.knights12532.com
SUMMARY:Officers Meeting
DESCRIPTION:Anyone is welcome to attend\, meeting starts at 7:15 p.m.
URL:https://www.knights12532.com/event/officers-meeting-10/
LOCATION:Saint John Neumann Church\, 601 East Delp Road\, Lancaster\, PA\, 17601\, United States
END:VEVENT
BEGIN:VEVENT
DTSTART;TZID=America/New_York:20160112T191500
DTEND;TZID=America/New_York:20160112T210000
DTSTAMP:20260419T151306
CREATED:20151128T134921Z
LAST-MODIFIED:20151128T135120Z
UID:517-1452626100-1452632400@www.knights12532.com
SUMMARY:General Council Meeting
DESCRIPTION:Rosary at 7:15 p.m. meeting to follow.
URL:https://www.knights12532.com/event/general-council-meeting-8/
LOCATION:Saint John Neumann Church\, 601 East Delp Road\, Lancaster\, PA\, 17601\, United States
END:VEVENT
BEGIN:VEVENT
DTSTART;TZID=America/New_York:20160110T130000
DTEND;TZID=America/New_York:20160110T170000
DTSTAMP:20260419T151306
CREATED:20150930T214616Z
LAST-MODIFIED:20150930T214616Z
UID:488-1452430800-1452445200@www.knights12532.com
SUMMARY:3rd Degree
DESCRIPTION:3rd degree at council 867
URL:https://www.knights12532.com/event/3rd-degree-2/
LOCATION:Knights of Columbus 867\, 1575 New Danville Pike\, Lancaster\, PA\, 17603\, United States
END:VEVENT
BEGIN:VEVENT
DTSTART;TZID=America/New_York:20160108T060000
DTEND;TZID=America/New_York:20160108T230000
DTSTAMP:20260419T151306
CREATED:20150930T214521Z
LAST-MODIFIED:20151231T124420Z
UID:487-1452232800-1452294000@www.knights12532.com
SUMMARY:Holiday Ball
DESCRIPTION:Our Council sponsored Holiday Ball for the Church.
URL:https://www.knights12532.com/event/holiday-ball-2/
LOCATION:Eden Resort\, 222 Eden Rd\, Lancaster \, PA\, 17601\, United States
END:VEVENT
BEGIN:VEVENT
DTSTART;TZID=America/New_York:20151222T191500
DTEND;TZID=America/New_York:20151222T210000
DTSTAMP:20260419T151306
CREATED:20150812T145148Z
LAST-MODIFIED:20150812T145148Z
UID:471-1450811700-1450818000@www.knights12532.com
SUMMARY:Officers Meeting
DESCRIPTION:
URL:https://www.knights12532.com/event/officers-meeting-9/
LOCATION:Saint John Neumann Church\, 601 East Delp Road\, Lancaster\, PA\, 17601\, United States
END:VEVENT
BEGIN:VEVENT
DTSTART;TZID=America/New_York:20151218T180000
DTEND;TZID=America/New_York:20151218T230000
DTSTAMP:20260419T151306
CREATED:20150930T214147Z
LAST-MODIFIED:20150930T214147Z
UID:486-1450461600-1450479600@www.knights12532.com
SUMMARY:4th Degree Holiday Ball
DESCRIPTION:Holiday Ball at the Eden\, Tuxedo event.
URL:https://www.knights12532.com/event/4th-degree-holiday-ball/
LOCATION:Eden Resort\, 222 Eden Rd\, Lancaster \, PA\, 17601\, United States
END:VEVENT
BEGIN:VEVENT
DTSTART;TZID=America/New_York:20151217T190000
DTEND;TZID=America/New_York:20151217T210000
DTSTAMP:20260419T151306
CREATED:20151128T134733Z
LAST-MODIFIED:20151128T134733Z
UID:516-1450378800-1450386000@www.knights12532.com
SUMMARY:2nd Degree
DESCRIPTION:Second degree to be held at Columbia Council. Candidates at 7 p.m. Degree will start promptly at 7:30 p.m.
URL:https://www.knights12532.com/event/2nd-degree-4/
LOCATION:Council 2294 Columbia\, 400 Maple St\, Columbia\, PA\, 17512\, United States
END:VEVENT
BEGIN:VEVENT
DTSTART;TZID=America/New_York:20151208T191500
DTEND;TZID=America/New_York:20151208T210000
DTSTAMP:20260419T151306
CREATED:20150812T145107Z
LAST-MODIFIED:20150812T145107Z
UID:470-1449602100-1449608400@www.knights12532.com
SUMMARY:General Council Meeting
DESCRIPTION:Rosary at 7:15 meeting follows
URL:https://www.knights12532.com/event/general-council-meeting-7/
LOCATION:Saint John Neumann Church\, 601 East Delp Road\, Lancaster\, PA\, 17601\, United States
END:VEVENT
BEGIN:VEVENT
DTSTART;TZID=America/New_York:20151129T093000
DTEND;TZID=America/New_York:20151129T110000
DTSTAMP:20260419T151306
CREATED:20150930T211947Z
LAST-MODIFIED:20151128T140348Z
UID:484-1448789400-1448794800@www.knights12532.com
SUMMARY:Diocese Memorial Mass
DESCRIPTION:
URL:https://www.knights12532.com/event/diocese-memorial-mass/
LOCATION:St Patricks Cathedral\, Harrisburg\, PA
END:VEVENT
BEGIN:VEVENT
DTSTART;VALUE=DATE:20151128
DTEND;VALUE=DATE:20151130
DTSTAMP:20260419T151306
CREATED:20151021T140101Z
LAST-MODIFIED:20151021T140101Z
UID:507-1448668800-1448841599@www.knights12532.com
SUMMARY:5th Sunday Rosary
DESCRIPTION:Knights will be reciting the Rosary prior to all Masses this weekend.
URL:https://www.knights12532.com/event/5th-sunday-rosary/
END:VEVENT
BEGIN:VEVENT
DTSTART;TZID=America/New_York:20151125T090000
DTEND;TZID=America/New_York:20151125T180000
DTSTAMP:20260419T151306
CREATED:20150930T211814Z
LAST-MODIFIED:20150930T211814Z
UID:483-1448442000-1448474400@www.knights12532.com
SUMMARY:Pie Delivery Day
DESCRIPTION:
URL:https://www.knights12532.com/event/pie-delivery-day/
LOCATION:Saint John Neumann Church\, 601 East Delp Road\, Lancaster\, PA\, 17601\, United States
END:VEVENT
BEGIN:VEVENT
DTSTART;TZID=America/New_York:20151124T191500
DTEND;TZID=America/New_York:20151124T210000
DTSTAMP:20260419T151306
CREATED:20150812T143819Z
LAST-MODIFIED:20150812T143819Z
UID:468-1448392500-1448398800@www.knights12532.com
SUMMARY:Officers Meeting
DESCRIPTION:
URL:https://www.knights12532.com/event/officers-meeting-8/
LOCATION:Saint John Neumann Church\, 601 East Delp Road\, Lancaster\, PA\, 17601\, United States
END:VEVENT
BEGIN:VEVENT
DTSTART;TZID=America/New_York:20151117T191500
DTEND;TZID=America/New_York:20151117T210000
DTSTAMP:20260419T151306
CREATED:20150930T211717Z
LAST-MODIFIED:20150930T211717Z
UID:482-1447787700-1447794000@www.knights12532.com
SUMMARY:4th Degree Meeting
DESCRIPTION:Meeting at SJN
URL:https://www.knights12532.com/event/4th-degree-meeting-3/
LOCATION:Saint John Neumann Church\, 601 East Delp Road\, Lancaster\, PA\, 17601\, United States
END:VEVENT
BEGIN:VEVENT
DTSTART;VALUE=DATE:20151114
DTEND;VALUE=DATE:20151116
DTSTAMP:20260419T151306
CREATED:20150930T211618Z
LAST-MODIFIED:20150930T211618Z
UID:481-1447459200-1447631999@www.knights12532.com
SUMMARY:Pie Sales
DESCRIPTION:Selling Pies after all Masses
URL:https://www.knights12532.com/event/pie-sales-4/
END:VEVENT
BEGIN:VEVENT
DTSTART;TZID=America/New_York:20151110T191500
DTEND;TZID=America/New_York:20151110T210000
DTSTAMP:20260419T151306
CREATED:20150812T143734Z
LAST-MODIFIED:20150812T143734Z
UID:467-1447182900-1447189200@www.knights12532.com
SUMMARY:General Council meeting
DESCRIPTION:Rosary at 7:15  meeting follows
URL:https://www.knights12532.com/event/general-council-meeting-6/
LOCATION:Saint John Neumann Church\, 601 East Delp Road\, Lancaster\, PA\, 17601\, United States
END:VEVENT
BEGIN:VEVENT
DTSTART;TZID=America/New_York:20151108T073000
DTEND;TZID=America/New_York:20151108T083000
DTSTAMP:20260419T151306
CREATED:20150930T211528Z
LAST-MODIFIED:20150930T211528Z
UID:480-1446967800-1446971400@www.knights12532.com
SUMMARY:Veterans Memorial Mass
DESCRIPTION:
URL:https://www.knights12532.com/event/veterans-memorial-mass/
LOCATION:OMPH Church\, 320 Church Av\, Ephrata\, PA\, 17522\, United States
END:VEVENT
BEGIN:VEVENT
DTSTART;VALUE=DATE:20151107
DTEND;VALUE=DATE:20151109
DTSTAMP:20260419T151306
CREATED:20150930T211353Z
LAST-MODIFIED:20150930T211353Z
UID:479-1446854400-1447027199@www.knights12532.com
SUMMARY:Pie Sales
DESCRIPTION:Selling pies after all Masses
URL:https://www.knights12532.com/event/pie-sales-3/
END:VEVENT
BEGIN:VEVENT
DTSTART;TZID=America/New_York:20151028T190000
DTEND;TZID=America/New_York:20151028T210000
DTSTAMP:20260419T151306
CREATED:20150930T210653Z
LAST-MODIFIED:20150930T210653Z
UID:476-1446058800-1446066000@www.knights12532.com
SUMMARY:2nd Degree
DESCRIPTION:
URL:https://www.knights12532.com/event/2nd-degree-3/
LOCATION:Council 2294 Columbia\, 400 Maple St\, Columbia\, PA\, 17512\, United States
END:VEVENT
BEGIN:VEVENT
DTSTART;TZID=America/New_York:20151027T191500
DTEND;TZID=America/New_York:20151027T191500
DTSTAMP:20260419T151306
CREATED:20150812T143618Z
LAST-MODIFIED:20150812T143618Z
UID:466-1445973300-1445973300@www.knights12532.com
SUMMARY:Officers Meeting
DESCRIPTION:
URL:https://www.knights12532.com/event/officers-meeting-7/
LOCATION:Saint John Neumann Church\, 601 East Delp Road\, Lancaster\, PA\, 17601\, United States
END:VEVENT
BEGIN:VEVENT
DTSTART;TZID=America/New_York:20151022T183000
DTEND;TZID=America/New_York:20151022T210000
DTSTAMP:20260419T151306
CREATED:20150812T143536Z
LAST-MODIFIED:20150812T143536Z
UID:465-1445538600-1445547600@www.knights12532.com
SUMMARY:1st Degree
DESCRIPTION:Degree at 7:30 Candidates at 7:00  help set up at 6:30
URL:https://www.knights12532.com/event/1st-degree-5/
LOCATION:Saint John Neumann Church\, 601 East Delp Road\, Lancaster\, PA\, 17601\, United States
END:VEVENT
BEGIN:VEVENT
DTSTART;TZID=America/New_York:20151020T191500
DTEND;TZID=America/New_York:20151020T210000
DTSTAMP:20260419T151306
CREATED:20150930T211116Z
LAST-MODIFIED:20150930T211116Z
UID:477-1445368500-1445374800@www.knights12532.com
SUMMARY:4th Degree Meeting
DESCRIPTION:4th degree meeting in quarryville
URL:https://www.knights12532.com/event/4th-degree-meeting-2/
LOCATION:St. Catherine of Siena\, 955 Robert Fulton HWY\, Quarryville\, PA\, 17566
END:VEVENT
BEGIN:VEVENT
DTSTART;TZID=America/New_York:20151019T173000
DTEND;TZID=America/New_York:20151019T193000
DTSTAMP:20260419T151306
CREATED:20150930T210424Z
LAST-MODIFIED:20150930T210424Z
UID:473-1445275800-1445283000@www.knights12532.com
SUMMARY:Red Mass
DESCRIPTION:
URL:https://www.knights12532.com/event/red-mass/
LOCATION:St Patricks Cathedral\, Harrisburg\, PA
END:VEVENT
BEGIN:VEVENT
DTSTART;TZID=America/New_York:20151013T191500
DTEND;TZID=America/New_York:20151013T210000
DTSTAMP:20260419T151306
CREATED:20150812T143419Z
LAST-MODIFIED:20150812T143419Z
UID:464-1444763700-1444770000@www.knights12532.com
SUMMARY:General Council Meeting
DESCRIPTION:Rosary 7:15 meeting follows
URL:https://www.knights12532.com/event/general-council-meeting-5/
LOCATION:Saint John Neumann Church\, 601 East Delp Road\, Lancaster\, PA\, 17601\, United States
END:VEVENT
END:VCALENDAR