BEGIN:VCALENDAR
VERSION:2.0
PRODID:-//KofC12532 - ECPv6.15.20//NONSGML v1.0//EN
CALSCALE:GREGORIAN
METHOD:PUBLISH
X-WR-CALNAME:KofC12532
X-ORIGINAL-URL:https://www.knights12532.com
X-WR-CALDESC:Events for KofC12532
REFRESH-INTERVAL;VALUE=DURATION:PT1H
X-Robots-Tag:noindex
X-PUBLISHED-TTL:PT1H
BEGIN:VTIMEZONE
TZID:America/New_York
BEGIN:DAYLIGHT
TZOFFSETFROM:-0500
TZOFFSETTO:-0400
TZNAME:EDT
DTSTART:20140309T070000
END:DAYLIGHT
BEGIN:STANDARD
TZOFFSETFROM:-0400
TZOFFSETTO:-0500
TZNAME:EST
DTSTART:20141102T060000
END:STANDARD
BEGIN:DAYLIGHT
TZOFFSETFROM:-0500
TZOFFSETTO:-0400
TZNAME:EDT
DTSTART:20150308T070000
END:DAYLIGHT
BEGIN:STANDARD
TZOFFSETFROM:-0400
TZOFFSETTO:-0500
TZNAME:EST
DTSTART:20151101T060000
END:STANDARD
BEGIN:DAYLIGHT
TZOFFSETFROM:-0500
TZOFFSETTO:-0400
TZNAME:EDT
DTSTART:20160313T070000
END:DAYLIGHT
BEGIN:STANDARD
TZOFFSETFROM:-0400
TZOFFSETTO:-0500
TZNAME:EST
DTSTART:20161106T060000
END:STANDARD
END:VTIMEZONE
BEGIN:VEVENT
DTSTART;TZID=America/New_York:20150825T191500
DTEND;TZID=America/New_York:20150825T210000
DTSTAMP:20260423T041618
CREATED:20150407T152528Z
LAST-MODIFIED:20150407T152528Z
UID:384-1440530100-1440536400@www.knights12532.com
SUMMARY:Officers Meeting
DESCRIPTION:
URL:https://www.knights12532.com/event/officers-meeting-5/
LOCATION:Saint John Neumann Church\, 601 East Delp Road\, Lancaster\, PA\, 17601\, United States
END:VEVENT
BEGIN:VEVENT
DTSTART;TZID=America/New_York:20150816T070000
DTEND;TZID=America/New_York:20150816T170000
DTSTAMP:20260423T041618
CREATED:20150407T153529Z
LAST-MODIFIED:20150407T153529Z
UID:388-1439708400-1439744400@www.knights12532.com
SUMMARY:Pig Roast
DESCRIPTION:finish set up\, distribute meals and clean up
URL:https://www.knights12532.com/event/pig-roast-2/
LOCATION:Saint John Neumann Church\, 601 East Delp Road\, Lancaster\, PA\, 17601\, United States
END:VEVENT
BEGIN:VEVENT
DTSTART;TZID=America/New_York:20150815T083000
DTEND;TZID=America/New_York:20150815T170000
DTSTAMP:20260423T041618
CREATED:20150407T154218Z
LAST-MODIFIED:20150407T154218Z
UID:389-1439627400-1439658000@www.knights12532.com
SUMMARY:Knights State Golf Tournament
DESCRIPTION:funds raised are going to support Special Olympics.  Must be a Knight to Play
URL:https://www.knights12532.com/event/knights-state-golf-tournament/
LOCATION:Hickory Heights Golf Course\, 5158 Lehman Rd\, Spring Grove\, PA\, 17362
END:VEVENT
BEGIN:VEVENT
DTSTART;TZID=America/New_York:20150815T080000
DTEND;TZID=America/New_York:20150815T140000
DTSTAMP:20260423T041618
CREATED:20150407T153412Z
LAST-MODIFIED:20150407T153412Z
UID:387-1439625600-1439647200@www.knights12532.com
SUMMARY:Pig Roast
DESCRIPTION:Set up \, prep and cooking 15th\, day of event the 16th
URL:https://www.knights12532.com/event/pig-roast/
LOCATION:Saint John Neumann Church\, 601 East Delp Road\, Lancaster\, PA\, 17601\, United States
END:VEVENT
BEGIN:VEVENT
DTSTART;TZID=America/New_York:20150811T191500
DTEND;TZID=America/New_York:20150811T210000
DTSTAMP:20260423T041618
CREATED:20150407T152415Z
LAST-MODIFIED:20150407T152415Z
UID:383-1439320500-1439326800@www.knights12532.com
SUMMARY:General Council Meeting
DESCRIPTION:Rosary at 7:15 meeting to follow
URL:https://www.knights12532.com/event/general-council-meeting-3/
LOCATION:Saint John Neumann Church\, 601 East Delp Road\, Lancaster\, PA\, 17601\, United States
END:VEVENT
BEGIN:VEVENT
DTSTART;VALUE=DATE:20150802
DTEND;VALUE=DATE:20150807
DTSTAMP:20260423T041618
CREATED:20150407T153157Z
LAST-MODIFIED:20150407T153157Z
UID:385-1438473600-1438905599@www.knights12532.com
SUMMARY:2015 Supreme Convention
DESCRIPTION:
URL:https://www.knights12532.com/event/2015-supreme-convention/
LOCATION:Philadelphia Downtown Marriot\, 1201 Market St\, Philadelphia\, PA\, 19107
END:VEVENT
BEGIN:VEVENT
DTSTART;TZID=America/New_York:20150728T191500
DTEND;TZID=America/New_York:20150728T210000
DTSTAMP:20260423T041618
CREATED:20150407T152121Z
LAST-MODIFIED:20150407T152121Z
UID:381-1438110900-1438117200@www.knights12532.com
SUMMARY:Officers Meeting
DESCRIPTION:
URL:https://www.knights12532.com/event/officers-meeting-4/
LOCATION:Saint John Neumann Church\, 601 East Delp Road\, Lancaster\, PA\, 17601\, United States
END:VEVENT
BEGIN:VEVENT
DTSTART;VALUE=DATE:20150717
DTEND;VALUE=DATE:20150718
DTSTAMP:20260423T041618
CREATED:20150326T163155Z
LAST-MODIFIED:20150326T163155Z
UID:366-1437091200-1437177599@www.knights12532.com
SUMMARY:Golf Outing
DESCRIPTION:Join us for a great day of Golf and dinner!
URL:https://www.knights12532.com/event/golf-outing/
LOCATION:Four Season Golf Course\, 949 Church Street\, Landisville\, PA\, 17538\, United States
END:VEVENT
BEGIN:VEVENT
DTSTART;TZID=America/New_York:20150714T191500
DTEND;TZID=America/New_York:20150714T210000
DTSTAMP:20260423T041618
CREATED:20150407T151946Z
LAST-MODIFIED:20150407T151946Z
UID:380-1436901300-1436907600@www.knights12532.com
SUMMARY:General Council Meeting
DESCRIPTION:
URL:https://www.knights12532.com/event/general-council-meeting-2/
LOCATION:Saint John Neumann Church\, 601 East Delp Road\, Lancaster\, PA\, 17601\, United States
END:VEVENT
BEGIN:VEVENT
DTSTART;TZID=America/New_York:20150623T191500
DTEND;TZID=America/New_York:20150623T210000
DTSTAMP:20260423T041618
CREATED:20150326T163730Z
LAST-MODIFIED:20150326T163730Z
UID:370-1435086900-1435093200@www.knights12532.com
SUMMARY:Officer Meeting
DESCRIPTION:
URL:https://www.knights12532.com/event/officer-meeting-6/
LOCATION:Saint John Neumann Church\, 601 East Delp Road\, Lancaster\, PA\, 17601\, United States
END:VEVENT
BEGIN:VEVENT
DTSTART;TZID=America/New_York:20150618T190000
DTEND;TZID=America/New_York:20150618T210000
DTSTAMP:20260423T041618
CREATED:20150522T165634Z
LAST-MODIFIED:20150522T165634Z
UID:407-1434654000-1434661200@www.knights12532.com
SUMMARY:2nd Degree
DESCRIPTION:Degree will be held at Columbia Council.  More info to follow.
URL:https://www.knights12532.com/event/2nd-degree-2/
LOCATION:Council 2294 Columbia\, 400 Maple St\, Columbia\, PA\, 17512\, United States
END:VEVENT
BEGIN:VEVENT
DTSTART;VALUE=DATE:20150612
DTEND;VALUE=DATE:20150614
DTSTAMP:20260423T041618
CREATED:20150502T124911Z
LAST-MODIFIED:20150502T124911Z
UID:403-1434067200-1434239999@www.knights12532.com
SUMMARY:Council 867 Pig Roast fundraiser
DESCRIPTION:Fundraiser for Off The Streets and St. Annes Retirement Home.  More information to follow
URL:https://www.knights12532.com/event/council-867-pig-roast-fundraiser/
END:VEVENT
BEGIN:VEVENT
DTSTART;TZID=America/New_York:20150611T183000
DTEND;TZID=America/New_York:20150611T210000
DTSTAMP:20260423T041618
CREATED:20150522T165504Z
LAST-MODIFIED:20150522T165504Z
UID:406-1434047400-1434056400@www.knights12532.com
SUMMARY:1st Degree
DESCRIPTION:1st degree set up 6:30 candidates 7:00 degree at 7:30  will be held in St. John XXIII building.
URL:https://www.knights12532.com/event/1st-degree-4/
LOCATION:Saint John Neumann Church\, 601 East Delp Road\, Lancaster\, PA\, 17601\, United States
END:VEVENT
BEGIN:VEVENT
DTSTART;TZID=America/New_York:20150609T191500
DTEND;TZID=America/New_York:20150609T210000
DTSTAMP:20260423T041618
CREATED:20150326T163636Z
LAST-MODIFIED:20150326T163636Z
UID:369-1433877300-1433883600@www.knights12532.com
SUMMARY:General Council Meeting
DESCRIPTION:Rosary at 7:15\, Meeting starts after the Rosary
URL:https://www.knights12532.com/event/general-council-meeting/
LOCATION:Saint John Neumann Church\, 601 East Delp Road\, Lancaster\, PA\, 17601\, United States
END:VEVENT
BEGIN:VEVENT
DTSTART;TZID=America/New_York:20150606T140000
DTEND;TZID=America/New_York:20150606T200000
DTSTAMP:20260423T041618
CREATED:20150326T163413Z
LAST-MODIFIED:20150326T163413Z
UID:368-1433599200-1433620800@www.knights12532.com
SUMMARY:Council Family Picnic
DESCRIPTION:Bring the family\, have some burgers and dogs\, enjoy a relaxing day getting to know your brother Knights.
URL:https://www.knights12532.com/event/council-family-picnic/
LOCATION:Saint John Neumann Church\, 601 East Delp Road\, Lancaster\, PA\, 17601\, United States
END:VEVENT
BEGIN:VEVENT
DTSTART;TZID=America/New_York:20150526T191500
DTEND;TZID=America/New_York:20150526T210000
DTSTAMP:20260423T041618
CREATED:20150116T151717Z
LAST-MODIFIED:20150116T151717Z
UID:335-1432667700-1432674000@www.knights12532.com
SUMMARY:Officers Meeting
DESCRIPTION:
URL:https://www.knights12532.com/event/officers-meeting-3/
END:VEVENT
BEGIN:VEVENT
DTSTART;VALUE=DATE:20150515
DTEND;VALUE=DATE:20150518
DTSTAMP:20260423T041618
CREATED:20141104T012143Z
LAST-MODIFIED:20141104T012143Z
UID:220-1431648000-1431907199@www.knights12532.com
SUMMARY:State Convention
DESCRIPTION:
URL:https://www.knights12532.com/event/state-convention/
END:VEVENT
BEGIN:VEVENT
DTSTART;TZID=America/New_York:20150512T191500
DTEND;TZID=America/New_York:20150512T210000
DTSTAMP:20260423T041618
CREATED:20150116T151617Z
LAST-MODIFIED:20150116T151617Z
UID:334-1431458100-1431464400@www.knights12532.com
SUMMARY:General Meeting
DESCRIPTION:Rosary starts at 7:15 meeting immediately after.
URL:https://www.knights12532.com/event/general-meeting-7/
END:VEVENT
BEGIN:VEVENT
DTSTART;VALUE=DATE:20150509
DTEND;VALUE=DATE:20150511
DTSTAMP:20260423T041618
CREATED:20150414T192459Z
LAST-MODIFIED:20150414T192459Z
UID:395-1431129600-1431302399@www.knights12532.com
SUMMARY:Food Drive Pick up and sorting
DESCRIPTION:Collect all food bags.  Sorting will take place Sunday morning.
URL:https://www.knights12532.com/event/food-drive-pick-up-and-sorting/
END:VEVENT
BEGIN:VEVENT
DTSTART;VALUE=DATE:20150507
DTEND;VALUE=DATE:20150510
DTSTAMP:20260423T041618
CREATED:20150326T162715Z
LAST-MODIFIED:20150326T162820Z
UID:364-1430956800-1431215999@www.knights12532.com
SUMMARY:ARC Fundraiser
DESCRIPTION:Fundraising for ARC at multiple locations\, consider giving 1-2 hours of time to help in this event.
URL:https://www.knights12532.com/event/arc-fundraiser/
END:VEVENT
BEGIN:VEVENT
DTSTART;VALUE=DATE:20150502
DTEND;VALUE=DATE:20150504
DTSTAMP:20260423T041618
CREATED:20150414T192359Z
LAST-MODIFIED:20150414T192359Z
UID:394-1430524800-1430697599@www.knights12532.com
SUMMARY:Food Drive Bag Handout
DESCRIPTION:Distribute bags after all Masses.
URL:https://www.knights12532.com/event/food-drive-bag-handout/
END:VEVENT
BEGIN:VEVENT
DTSTART;TZID=America/New_York:20150428T191500
DTEND;TZID=America/New_York:20150428T210000
DTSTAMP:20260423T041618
CREATED:20141104T011710Z
LAST-MODIFIED:20141104T011710Z
UID:218-1430248500-1430254800@www.knights12532.com
SUMMARY:Officer Meeting
DESCRIPTION:
URL:https://www.knights12532.com/event/officer-meeting-5/
END:VEVENT
BEGIN:VEVENT
DTSTART;TZID=America/New_York:20150428T090000
DTEND;TZID=America/New_York:20150428T120000
DTSTAMP:20260423T041618
CREATED:20150414T194116Z
LAST-MODIFIED:20150414T194116Z
UID:396-1430211600-1430222400@www.knights12532.com
SUMMARY:Church Grounds Clean Up
DESCRIPTION:We will be weeding\, mulching and general clean up of the grounds.  Please bring shovel and rakes.
URL:https://www.knights12532.com/event/church-grounds-clean-up/
END:VEVENT
BEGIN:VEVENT
DTSTART;TZID=America/New_York:20150426T073000
DTEND;TZID=America/New_York:20150426T120000
DTSTAMP:20260423T041618
CREATED:20141104T011923Z
LAST-MODIFIED:20141104T011923Z
UID:219-1430033400-1430049600@www.knights12532.com
SUMMARY:Corporate Communion Breakfast
DESCRIPTION:Mass followed by breakfast at the Eden
URL:https://www.knights12532.com/event/corporate-communion-breakfast/
LOCATION:Eden Resort\, 222 Eden Rd\, Lancaster \, PA\, 17601\, United States
END:VEVENT
BEGIN:VEVENT
DTSTART;TZID=America/New_York:20150423T080000
DTEND;TZID=America/New_York:20150423T170000
DTSTAMP:20260423T041618
CREATED:20150116T151210Z
LAST-MODIFIED:20150116T151210Z
UID:332-1429776000-1429808400@www.knights12532.com
SUMMARY:A Woman's Concern Banquet
DESCRIPTION:more info to follow
URL:https://www.knights12532.com/event/a-womans-concern-banquet/
END:VEVENT
BEGIN:VEVENT
DTSTART;TZID=America/New_York:20150422T180000
DTEND;TZID=America/New_York:20150422T210000
DTSTAMP:20260423T041618
CREATED:20150210T222454Z
LAST-MODIFIED:20150210T222454Z
UID:353-1429725600-1429736400@www.knights12532.com
SUMMARY:1st Degree
DESCRIPTION:Candidates at 7p.m. degree at 7:30 p.m.
URL:https://www.knights12532.com/event/1st-degree-3/
LOCATION:Saint John Neumann Church\, 601 East Delp Road\, Lancaster\, PA\, 17601\, United States
END:VEVENT
BEGIN:VEVENT
DTSTART;TZID=America/New_York:20150414T191500
DTEND;TZID=America/New_York:20150414T210000
DTSTAMP:20260423T041618
CREATED:20141104T011620Z
LAST-MODIFIED:20141104T011620Z
UID:217-1429038900-1429045200@www.knights12532.com
SUMMARY:General Meeting
DESCRIPTION:
URL:https://www.knights12532.com/event/general-meeting-6/
END:VEVENT
BEGIN:VEVENT
DTSTART;VALUE=DATE:20150328
DTEND;VALUE=DATE:20150330
DTSTAMP:20260423T041618
CREATED:20150206T202338Z
LAST-MODIFIED:20150206T202338Z
UID:351-1427500800-1427673599@www.knights12532.com
SUMMARY:Candy Sale
DESCRIPTION:Help sell after Mass
URL:https://www.knights12532.com/event/candy-sale-3/
END:VEVENT
BEGIN:VEVENT
DTSTART;TZID=America/New_York:20150324T191500
DTEND;TZID=America/New_York:20150324T210000
DTSTAMP:20260423T041618
CREATED:20141104T011515Z
LAST-MODIFIED:20141104T011515Z
UID:216-1427224500-1427230800@www.knights12532.com
SUMMARY:Officer Meeting
DESCRIPTION:
URL:https://www.knights12532.com/event/officer-meeting-4/
END:VEVENT
BEGIN:VEVENT
DTSTART;VALUE=DATE:20150322
DTEND;VALUE=DATE:20150323
DTSTAMP:20260423T041618
CREATED:20150116T151320Z
LAST-MODIFIED:20150116T151320Z
UID:333-1426982400-1427068799@www.knights12532.com
SUMMARY:4th degree Exemplification
DESCRIPTION:
URL:https://www.knights12532.com/event/4th-degree-exemplification/
END:VEVENT
END:VCALENDAR