BEGIN:VCALENDAR
VERSION:2.0
PRODID:-//KofC12532 - ECPv6.15.20//NONSGML v1.0//EN
CALSCALE:GREGORIAN
METHOD:PUBLISH
X-WR-CALNAME:KofC12532
X-ORIGINAL-URL:https://www.knights12532.com
X-WR-CALDESC:Events for KofC12532
REFRESH-INTERVAL;VALUE=DURATION:PT1H
X-Robots-Tag:noindex
X-PUBLISHED-TTL:PT1H
BEGIN:VTIMEZONE
TZID:America/New_York
BEGIN:DAYLIGHT
TZOFFSETFROM:-0500
TZOFFSETTO:-0400
TZNAME:EDT
DTSTART:20130310T070000
END:DAYLIGHT
BEGIN:STANDARD
TZOFFSETFROM:-0400
TZOFFSETTO:-0500
TZNAME:EST
DTSTART:20131103T060000
END:STANDARD
BEGIN:DAYLIGHT
TZOFFSETFROM:-0500
TZOFFSETTO:-0400
TZNAME:EDT
DTSTART:20140309T070000
END:DAYLIGHT
BEGIN:STANDARD
TZOFFSETFROM:-0400
TZOFFSETTO:-0500
TZNAME:EST
DTSTART:20141102T060000
END:STANDARD
BEGIN:DAYLIGHT
TZOFFSETFROM:-0500
TZOFFSETTO:-0400
TZNAME:EDT
DTSTART:20150308T070000
END:DAYLIGHT
BEGIN:STANDARD
TZOFFSETFROM:-0400
TZOFFSETTO:-0500
TZNAME:EST
DTSTART:20151101T060000
END:STANDARD
BEGIN:DAYLIGHT
TZOFFSETFROM:-0500
TZOFFSETTO:-0400
TZNAME:EDT
DTSTART:20160313T070000
END:DAYLIGHT
BEGIN:STANDARD
TZOFFSETFROM:-0400
TZOFFSETTO:-0500
TZNAME:EST
DTSTART:20161106T060000
END:STANDARD
END:VTIMEZONE
BEGIN:VEVENT
DTSTART;VALUE=DATE:20150321
DTEND;VALUE=DATE:20150323
DTSTAMP:20260422T134317
CREATED:20150206T202304Z
LAST-MODIFIED:20150206T202304Z
UID:350-1426896000-1427068799@www.knights12532.com
SUMMARY:Candy Sale
DESCRIPTION:Help sell after Mass
URL:https://www.knights12532.com/event/candy-sale-2/
LOCATION:PA
END:VEVENT
BEGIN:VEVENT
DTSTART;VALUE=DATE:20150314
DTEND;VALUE=DATE:20150316
DTSTAMP:20260422T134317
CREATED:20150206T202152Z
LAST-MODIFIED:20150206T202152Z
UID:348-1426291200-1426463999@www.knights12532.com
SUMMARY:Candy Sale
DESCRIPTION:Help sell after the Mass you attend
URL:https://www.knights12532.com/event/candy-sale/
LOCATION:PA
END:VEVENT
BEGIN:VEVENT
DTSTART;VALUE=DATE:20150314
DTEND;VALUE=DATE:20150316
DTSTAMP:20260422T134317
CREATED:20150118T130730Z
LAST-MODIFIED:20150118T130730Z
UID:339-1426291200-1426463999@www.knights12532.com
SUMMARY:Membership Drive
DESCRIPTION:
URL:https://www.knights12532.com/event/membership-drive/
LOCATION:PA
END:VEVENT
BEGIN:VEVENT
DTSTART;TZID=America/New_York:20150310T191500
DTEND;TZID=America/New_York:20150310T210000
DTSTAMP:20260422T134317
CREATED:20141104T011407Z
LAST-MODIFIED:20141104T011407Z
UID:215-1426014900-1426021200@www.knights12532.com
SUMMARY:General Meeting
DESCRIPTION:
URL:https://www.knights12532.com/event/general-meeting-5/
LOCATION:PA
END:VEVENT
BEGIN:VEVENT
DTSTART;VALUE=DATE:20150228
DTEND;VALUE=DATE:20150301
DTSTAMP:20260422T134317
CREATED:20150116T150934Z
LAST-MODIFIED:20150131T143607Z
UID:331-1425081600-1425167999@www.knights12532.com
SUMMARY:4th degree Candidate night
DESCRIPTION:Candidates Night – February 28th\nThe Candidates Night for those Brothers taking their Fourth Degree on March 22nd will take place on Saturday\, February 28\, 2015 IN Father Kuhn Hall at OMPH Church in Ephrata following the 5:00 Mass.\nThe purpose of this event is to introduce the Candidates and their wives to the activities that will take place at the Exemplification of the Fourth Degree\, as well as general information about Fourth Degree Knights. Questions will be answered.\nWhile we encourage all Candidates to attend\, if you cannot\, this WILL NOT prevent you from taking your Degree.\nCandidates and their wives are invited to attend Mass at OMPH Church at 5:00 before the meeting.\nIf Candidates have any questions\, please contact your Council’s representative to the Assembly.\nSet up time for the event is 4:30 PM.
URL:https://www.knights12532.com/event/4th-degree-candidate-night/
LOCATION:OMPH Church\, 320 Church Av\, Ephrata\, PA\, 17522\, United States
END:VEVENT
BEGIN:VEVENT
DTSTART;TZID=America/New_York:20150224T191500
DTEND;TZID=America/New_York:20150224T210000
DTSTAMP:20260422T134317
CREATED:20141104T011303Z
LAST-MODIFIED:20141104T011303Z
UID:214-1424805300-1424811600@www.knights12532.com
SUMMARY:Officer Meeting
DESCRIPTION:
URL:https://www.knights12532.com/event/officer-meeting-3/
LOCATION:PA
END:VEVENT
BEGIN:VEVENT
DTSTART;TZID=America/New_York:20150210T191500
DTEND;TZID=America/New_York:20150210T210000
DTSTAMP:20260422T134317
CREATED:20141104T011212Z
LAST-MODIFIED:20141104T011212Z
UID:213-1423595700-1423602000@www.knights12532.com
SUMMARY:General Meeting
DESCRIPTION:
URL:https://www.knights12532.com/event/general-meeting-4/
LOCATION:PA
END:VEVENT
BEGIN:VEVENT
DTSTART;VALUE=DATE:20150131
DTEND;VALUE=DATE:20150202
DTSTAMP:20260422T134317
CREATED:20150116T150620Z
LAST-MODIFIED:20150116T150620Z
UID:329-1422662400-1422835199@www.knights12532.com
SUMMARY:Baby Bottle Collection
DESCRIPTION:Collect Woman’s Concern baby bottles before all Masses
URL:https://www.knights12532.com/event/baby-bottle-collection/
LOCATION:PA
END:VEVENT
BEGIN:VEVENT
DTSTART;TZID=America/New_York:20150129T190000
DTEND;TZID=America/New_York:20150129T210000
DTSTAMP:20260422T134317
CREATED:20150116T150834Z
LAST-MODIFIED:20150116T150834Z
UID:330-1422558000-1422565200@www.knights12532.com
SUMMARY:Knights District Meeting
DESCRIPTION:Meeting with the District Deputies.
URL:https://www.knights12532.com/event/knights-district-meeting/
LOCATION:Saint John Neumann Church\, 601 East Delp Road\, Lancaster\, PA\, 17601\, United States
END:VEVENT
BEGIN:VEVENT
DTSTART;TZID=America/New_York:20150127T191500
DTEND;TZID=America/New_York:20150127T210000
DTSTAMP:20260422T134317
CREATED:20141104T011020Z
LAST-MODIFIED:20141104T011123Z
UID:212-1422386100-1422392400@www.knights12532.com
SUMMARY:Officer Meeting
DESCRIPTION:
URL:https://www.knights12532.com/event/officer-meeting-2/
LOCATION:PA
END:VEVENT
BEGIN:VEVENT
DTSTART;TZID=America/New_York:20150125T123000
DTEND;TZID=America/New_York:20150125T180000
DTSTAMP:20260422T134317
CREATED:20141128T212040Z
LAST-MODIFIED:20141128T212040Z
UID:230-1422189000-1422208800@www.knights12532.com
SUMMARY:3rd Degree
DESCRIPTION:
URL:https://www.knights12532.com/event/3rd-degree/
LOCATION:Knights of Columbus 867\, 1575 New Danville Pike\, Lancaster\, PA\, 17603\, United States
END:VEVENT
BEGIN:VEVENT
DTSTART;TZID=America/New_York:20150122T190000
DTEND;TZID=America/New_York:20150122T210000
DTSTAMP:20260422T134317
CREATED:20141220T205921Z
LAST-MODIFIED:20141220T210338Z
UID:312-1421953200-1421960400@www.knights12532.com
SUMMARY:2nd degree
DESCRIPTION:There will be a 2nd degree at Columbia Council.  Candidates 7:00 p.m. degree starts at 7:30 p.m.
URL:https://www.knights12532.com/event/2nd-degree/
LOCATION:Council 2294 Columbia\, 400 Maple St\, Columbia\, PA\, 17512\, United States
END:VEVENT
BEGIN:VEVENT
DTSTART;VALUE=DATE:20150122
DTEND;VALUE=DATE:20150123
DTSTAMP:20260422T134317
CREATED:20141221T120824Z
LAST-MODIFIED:20141221T120824Z
UID:315-1421884800-1421971199@www.knights12532.com
SUMMARY:March for Life
DESCRIPTION:Annual March for life in Washington D.C.
URL:https://www.knights12532.com/event/march-for-life/
LOCATION:PA
END:VEVENT
BEGIN:VEVENT
DTSTART;TZID=America/New_York:20150120T191500
DTEND;TZID=America/New_York:20150120T210000
DTSTAMP:20260422T134317
CREATED:20150116T150435Z
LAST-MODIFIED:20150116T150435Z
UID:328-1421781300-1421787600@www.knights12532.com
SUMMARY:4th Degree Meeting
DESCRIPTION:Meeting at Manheim
URL:https://www.knights12532.com/event/4th-degree-meeting/
LOCATION:PA
END:VEVENT
BEGIN:VEVENT
DTSTART;VALUE=DATE:20150117
DTEND;VALUE=DATE:20150119
DTSTAMP:20260422T134317
CREATED:20150116T150331Z
LAST-MODIFIED:20150116T150331Z
UID:327-1421452800-1421625599@www.knights12532.com
SUMMARY:A Woman's Concern Baby Bottle Distribution
DESCRIPTION:Distribute Bottles after all Masses.
URL:https://www.knights12532.com/event/a-womans-concern-baby-bottle-distribution/
LOCATION:PA
END:VEVENT
BEGIN:VEVENT
DTSTART;TZID=America/New_York:20150114T183000
DTEND;TZID=America/New_York:20150114T210000
DTSTAMP:20260422T134317
CREATED:20141210T122132Z
LAST-MODIFIED:20150106T204004Z
UID:250-1421260200-1421269200@www.knights12532.com
SUMMARY:1st Degree
DESCRIPTION:Candidates at 7 p.m. Degree starts at 7:30.  Degree will be held in the New St John XXIII center.
URL:https://www.knights12532.com/event/1st-degree-2/
LOCATION:Saint John Neumann Church\, 601 East Delp Road\, Lancaster\, PA\, 17601\, United States
END:VEVENT
BEGIN:VEVENT
DTSTART;TZID=America/New_York:20150113T191500
DTEND;TZID=America/New_York:20150113T210000
DTSTAMP:20260422T134317
CREATED:20141104T010934Z
LAST-MODIFIED:20141104T010934Z
UID:211-1421176500-1421182800@www.knights12532.com
SUMMARY:General Meeting
DESCRIPTION:
URL:https://www.knights12532.com/event/general-meeting-3/
LOCATION:Saint John Neumann Church\, 601 East Delp Road\, Lancaster\, PA\, 17601\, United States
END:VEVENT
BEGIN:VEVENT
DTSTART;TZID=America/New_York:20150106T070000
DTEND;TZID=America/New_York:20150106T190000
DTSTAMP:20260422T134317
CREATED:20141211T131704Z
LAST-MODIFIED:20141211T131704Z
UID:254-1420527600-1420570800@www.knights12532.com
SUMMARY:Adoration
DESCRIPTION:Spend some quality time with our Lord.  Email Bob Richards at bob.richards@impactcgllc.com \nand let him know when you can help.
URL:https://www.knights12532.com/event/adoration-3/
LOCATION:Saint John Neumann Church\, 601 East Delp Road\, Lancaster\, PA\, 17601\, United States
END:VEVENT
BEGIN:VEVENT
DTSTART;TZID=America/New_York:20150105T090000
DTEND;TZID=America/New_York:20150105T190000
DTSTAMP:20260422T134317
CREATED:20141211T131530Z
LAST-MODIFIED:20141211T131530Z
UID:253-1420448400-1420484400@www.knights12532.com
SUMMARY:Adoration
DESCRIPTION:Spend some quality time with our Lord.  Email Bob Richards at bob.richards@impactcgllc.com \nand let him know when you can help.
URL:https://www.knights12532.com/event/adoration-2/
LOCATION:Saint John Neumann Church\, 601 East Delp Road\, Lancaster\, PA\, 17601\, United States
END:VEVENT
BEGIN:VEVENT
DTSTART;TZID=America/New_York:20150104T120000
DTEND;TZID=America/New_York:20150104T190000
DTSTAMP:20260422T134317
CREATED:20141211T131101Z
LAST-MODIFIED:20141211T131350Z
UID:251-1420372800-1420398000@www.knights12532.com
SUMMARY:Adoration
DESCRIPTION:Spend some quality time with our Lord.  Email Bob Richards at bob.richards@impactcgllc.com   \nand let him know when you can help out.
URL:https://www.knights12532.com/event/adoration/
LOCATION:Saint John Neumann Church\, 601 East Delp Road\, Lancaster\, PA\, 17601\, United States
END:VEVENT
BEGIN:VEVENT
DTSTART;TZID=America/New_York:20150103T180000
DTEND;TZID=America/New_York:20150103T230000
DTSTAMP:20260422T134317
CREATED:20141103T162219Z
LAST-MODIFIED:20141211T135855Z
UID:209-1420308000-1420326000@www.knights12532.com
SUMMARY:Holiday Ball
DESCRIPTION:To sign up use form provided in bulletin or mail; Name\, Phone\, Address and how many attending to\nAl Palmer\n1208 Cobblestone Ln.\nLancaster\, Pa 17601 \nMake Check out to: Knights of Columbus 12532 \n$25.00 per person (Adults only)
URL:https://www.knights12532.com/event/holiday-ball/
LOCATION:Eden Resort\, 222 Eden Rd\, Lancaster \, PA\, 17601\, United States
END:VEVENT
BEGIN:VEVENT
DTSTART;TZID=America/New_York:20141223T191500
DTEND;TZID=America/New_York:20141223T210000
DTSTAMP:20260422T134317
CREATED:20141103T161916Z
LAST-MODIFIED:20141211T140106Z
UID:208-1419362100-1419368400@www.knights12532.com
SUMMARY:Officers Meeting
DESCRIPTION:Due to Christmas this months Officers meeting has been postponed until January.
URL:https://www.knights12532.com/event/officers-meeting-2/
LOCATION:PA
END:VEVENT
BEGIN:VEVENT
DTSTART;VALUE=DATE:20141220
DTEND;VALUE=DATE:20141222
DTSTAMP:20260422T134317
CREATED:20141103T161837Z
LAST-MODIFIED:20141103T161837Z
UID:207-1419033600-1419206399@www.knights12532.com
SUMMARY:Magnet Sales
DESCRIPTION:Sell after all Masses
URL:https://www.knights12532.com/event/magnet-sales-4/
LOCATION:PA
END:VEVENT
BEGIN:VEVENT
DTSTART;VALUE=DATE:20141213
DTEND;VALUE=DATE:20141215
DTSTAMP:20260422T134317
CREATED:20141103T161751Z
LAST-MODIFIED:20141103T161751Z
UID:206-1418428800-1418601599@www.knights12532.com
SUMMARY:Magnet Sales
DESCRIPTION:Sell after all Masses
URL:https://www.knights12532.com/event/magnet-sales-3/
LOCATION:PA
END:VEVENT
BEGIN:VEVENT
DTSTART;TZID=America/New_York:20141209T191500
DTEND;TZID=America/New_York:20141209T210000
DTSTAMP:20260422T134317
CREATED:20141103T161712Z
LAST-MODIFIED:20141103T161712Z
UID:205-1418152500-1418158800@www.knights12532.com
SUMMARY:General Meeting
DESCRIPTION:
URL:https://www.knights12532.com/event/general-meeting-2/
LOCATION:Saint John Neumann Church\, 601 East Delp Road\, Lancaster\, PA\, 17601\, United States
END:VEVENT
BEGIN:VEVENT
DTSTART;VALUE=DATE:20141206
DTEND;VALUE=DATE:20141208
DTSTAMP:20260422T134317
CREATED:20141103T161625Z
LAST-MODIFIED:20141103T161625Z
UID:204-1417824000-1417996799@www.knights12532.com
SUMMARY:Magnet Sales
DESCRIPTION:Sell after all Masses
URL:https://www.knights12532.com/event/magnet-sales-2/
LOCATION:PA
END:VEVENT
BEGIN:VEVENT
DTSTART;VALUE=DATE:20141129
DTEND;VALUE=DATE:20141201
DTSTAMP:20260422T134317
CREATED:20141103T161450Z
LAST-MODIFIED:20141103T161450Z
UID:203-1417219200-1417391999@www.knights12532.com
SUMMARY:Magnet Sales
DESCRIPTION:Sell after all Masses
URL:https://www.knights12532.com/event/magnet-sales/
LOCATION:PA
END:VEVENT
BEGIN:VEVENT
DTSTART;TZID=America/New_York:20141126T090000
DTEND;TZID=America/New_York:20141126T180000
DTSTAMP:20260422T134317
CREATED:20141103T161406Z
LAST-MODIFIED:20141103T161406Z
UID:202-1416992400-1417024800@www.knights12532.com
SUMMARY:Pie Deliveries
DESCRIPTION:
URL:https://www.knights12532.com/event/pie-deliveries/
LOCATION:PA
END:VEVENT
BEGIN:VEVENT
DTSTART;TZID=America/New_York:20141125T191500
DTEND;TZID=America/New_York:20141125T210000
DTSTAMP:20260422T134317
CREATED:20141103T161313Z
LAST-MODIFIED:20141103T161313Z
UID:201-1416942900-1416949200@www.knights12532.com
SUMMARY:Officer Meeting
DESCRIPTION:
URL:https://www.knights12532.com/event/officer-meeting/
LOCATION:Saint John Neumann Church\, 601 East Delp Road\, Lancaster\, PA\, 17601\, United States
END:VEVENT
BEGIN:VEVENT
DTSTART;TZID=America/New_York:20141122T084500
DTEND;TZID=America/New_York:20141122T100000
DTSTAMP:20260422T134317
CREATED:20141103T161121Z
LAST-MODIFIED:20141103T161121Z
UID:200-1416645900-1416650400@www.knights12532.com
SUMMARY:Road Clean Up
DESCRIPTION:
URL:https://www.knights12532.com/event/road-clean-up/
LOCATION:PA
END:VEVENT
END:VCALENDAR