BEGIN:VCALENDAR
VERSION:2.0
PRODID:-//KofC12532 - ECPv6.15.20//NONSGML v1.0//EN
CALSCALE:GREGORIAN
METHOD:PUBLISH
X-WR-CALNAME:KofC12532
X-ORIGINAL-URL:https://www.knights12532.com
X-WR-CALDESC:Events for KofC12532
REFRESH-INTERVAL;VALUE=DURATION:PT1H
X-Robots-Tag:noindex
X-PUBLISHED-TTL:PT1H
BEGIN:VTIMEZONE
TZID:America/New_York
BEGIN:DAYLIGHT
TZOFFSETFROM:-0500
TZOFFSETTO:-0400
TZNAME:EDT
DTSTART:20180311T070000
END:DAYLIGHT
BEGIN:STANDARD
TZOFFSETFROM:-0400
TZOFFSETTO:-0500
TZNAME:EST
DTSTART:20181104T060000
END:STANDARD
BEGIN:DAYLIGHT
TZOFFSETFROM:-0500
TZOFFSETTO:-0400
TZNAME:EDT
DTSTART:20190310T070000
END:DAYLIGHT
BEGIN:STANDARD
TZOFFSETFROM:-0400
TZOFFSETTO:-0500
TZNAME:EST
DTSTART:20191103T060000
END:STANDARD
BEGIN:DAYLIGHT
TZOFFSETFROM:-0500
TZOFFSETTO:-0400
TZNAME:EDT
DTSTART:20200308T070000
END:DAYLIGHT
BEGIN:STANDARD
TZOFFSETFROM:-0400
TZOFFSETTO:-0500
TZNAME:EST
DTSTART:20201101T060000
END:STANDARD
END:VTIMEZONE
BEGIN:VEVENT
DTSTART;VALUE=DATE:20190602
DTEND;VALUE=DATE:20190603
DTSTAMP:20260423T042720
CREATED:20190425T130502Z
LAST-MODIFIED:20190425T130502Z
UID:1387-1559433600-1559519999@www.knights12532.com
SUMMARY:Pancake Breakfast
DESCRIPTION:Pancake breakfast after all Masses….Free will Donation
URL:https://www.knights12532.com/event/pancake-breakfast/
END:VEVENT
BEGIN:VEVENT
DTSTART;TZID=America/New_York:20190611T191500
DTEND;TZID=America/New_York:20190611T210000
DTSTAMP:20260423T042720
CREATED:20181127T145143Z
LAST-MODIFIED:20181127T145143Z
UID:1299-1560280500-1560286800@www.knights12532.com
SUMMARY:General Council Meeting
DESCRIPTION:Rosary at 7:15pm Meeting follows
URL:https://www.knights12532.com/event/general-council-meeting-47/
END:VEVENT
BEGIN:VEVENT
DTSTART;TZID=America/New_York:20190622T170000
DTEND;TZID=America/New_York:20190622T203000
DTSTAMP:20260423T042720
CREATED:20190425T130946Z
LAST-MODIFIED:20190425T130946Z
UID:1393-1561222800-1561235400@www.knights12532.com
SUMMARY:Family Trivia Night!
DESCRIPTION:Join us for some quality family time at our 1st Trivia Night! Doors will open at 5 immediately following Mass\, Trivia to start at 6 p.m.  Cost and other details to come.
URL:https://www.knights12532.com/event/family-trivia-night/
END:VEVENT
BEGIN:VEVENT
DTSTART;TZID=America/New_York:20190625T191500
DTEND;TZID=America/New_York:20190625T210000
DTSTAMP:20260423T042720
CREATED:20181127T145234Z
LAST-MODIFIED:20181127T145234Z
UID:1301-1561490100-1561496400@www.knights12532.com
SUMMARY:Officer Meeting
DESCRIPTION:meeting starts at 7:15pm  all are welcome to attend
URL:https://www.knights12532.com/event/officer-meeting-34/
END:VEVENT
END:VCALENDAR