BEGIN:VCALENDAR
VERSION:2.0
PRODID:-//KofC12532 - ECPv6.15.20//NONSGML v1.0//EN
CALSCALE:GREGORIAN
METHOD:PUBLISH
X-WR-CALNAME:KofC12532
X-ORIGINAL-URL:https://www.knights12532.com
X-WR-CALDESC:Events for KofC12532
REFRESH-INTERVAL;VALUE=DURATION:PT1H
X-Robots-Tag:noindex
X-PUBLISHED-TTL:PT1H
BEGIN:VTIMEZONE
TZID:America/New_York
BEGIN:DAYLIGHT
TZOFFSETFROM:-0500
TZOFFSETTO:-0400
TZNAME:EDT
DTSTART:20180311T070000
END:DAYLIGHT
BEGIN:STANDARD
TZOFFSETFROM:-0400
TZOFFSETTO:-0500
TZNAME:EST
DTSTART:20181104T060000
END:STANDARD
BEGIN:DAYLIGHT
TZOFFSETFROM:-0500
TZOFFSETTO:-0400
TZNAME:EDT
DTSTART:20190310T070000
END:DAYLIGHT
BEGIN:STANDARD
TZOFFSETFROM:-0400
TZOFFSETTO:-0500
TZNAME:EST
DTSTART:20191103T060000
END:STANDARD
BEGIN:DAYLIGHT
TZOFFSETFROM:-0500
TZOFFSETTO:-0400
TZNAME:EDT
DTSTART:20200308T070000
END:DAYLIGHT
BEGIN:STANDARD
TZOFFSETFROM:-0400
TZOFFSETTO:-0500
TZNAME:EST
DTSTART:20201101T060000
END:STANDARD
END:VTIMEZONE
BEGIN:VEVENT
DTSTART;VALUE=DATE:20190804
DTEND;VALUE=DATE:20190805
DTSTAMP:20260423T011915
CREATED:20190425T130639Z
LAST-MODIFIED:20190425T130639Z
UID:1391-1564876800-1564963199@www.knights12532.com
SUMMARY:Pancake Breakfast
DESCRIPTION:Pancake Breakfast after all Masses….free will donation
URL:https://www.knights12532.com/event/pancake-breakfast-3/
END:VEVENT
BEGIN:VEVENT
DTSTART;TZID=America/New_York:20190813T080000
DTEND;TZID=America/New_York:20190813T170000
DTSTAMP:20260423T011915
CREATED:20190226T200600Z
LAST-MODIFIED:20190226T200600Z
UID:1353-1565683200-1565715600@www.knights12532.com
SUMMARY:General Council meeting
DESCRIPTION:Rosary 7:15 meeting follows
URL:https://www.knights12532.com/event/general-council-meeting-49/
END:VEVENT
BEGIN:VEVENT
DTSTART;TZID=America/New_York:20190817T080000
DTEND;TZID=America/New_York:20190817T170000
DTSTAMP:20260423T011915
CREATED:20190226T200250Z
LAST-MODIFIED:20190226T200250Z
UID:1347-1566028800-1566061200@www.knights12532.com
SUMMARY:Pig Roast Set up
DESCRIPTION:help getting ready for Sunday!
URL:https://www.knights12532.com/event/pig-roast-set-up-2/
END:VEVENT
BEGIN:VEVENT
DTSTART;TZID=America/New_York:20190818T080000
DTEND;TZID=America/New_York:20190818T170000
DTSTAMP:20260423T011915
CREATED:20190226T200200Z
LAST-MODIFIED:20190226T200200Z
UID:1345-1566115200-1566147600@www.knights12532.com
SUMMARY:Pig Roast!
DESCRIPTION:All hands on deck for the pig roast!
URL:https://www.knights12532.com/event/pig-roast-4/
END:VEVENT
BEGIN:VEVENT
DTSTART;TZID=America/New_York:20190827T191500
DTEND;TZID=America/New_York:20190827T210000
DTSTAMP:20260423T011915
CREATED:20190226T200740Z
LAST-MODIFIED:20190226T200740Z
UID:1355-1566933300-1566939600@www.knights12532.com
SUMMARY:Officers meeting
DESCRIPTION:All members are welcome to attend.  Meeting starts at 7:15 pm
URL:https://www.knights12532.com/event/officers-meeting-23/
END:VEVENT
END:VCALENDAR