BEGIN:VCALENDAR
VERSION:2.0
PRODID:-//KofC12532 - ECPv6.15.20//NONSGML v1.0//EN
CALSCALE:GREGORIAN
METHOD:PUBLISH
X-WR-CALNAME:KofC12532
X-ORIGINAL-URL:https://www.knights12532.com
X-WR-CALDESC:Events for KofC12532
REFRESH-INTERVAL;VALUE=DURATION:PT1H
X-Robots-Tag:noindex
X-PUBLISHED-TTL:PT1H
BEGIN:VTIMEZONE
TZID:America/New_York
BEGIN:DAYLIGHT
TZOFFSETFROM:-0500
TZOFFSETTO:-0400
TZNAME:EDT
DTSTART:20180311T070000
END:DAYLIGHT
BEGIN:STANDARD
TZOFFSETFROM:-0400
TZOFFSETTO:-0500
TZNAME:EST
DTSTART:20181104T060000
END:STANDARD
BEGIN:DAYLIGHT
TZOFFSETFROM:-0500
TZOFFSETTO:-0400
TZNAME:EDT
DTSTART:20190310T070000
END:DAYLIGHT
BEGIN:STANDARD
TZOFFSETFROM:-0400
TZOFFSETTO:-0500
TZNAME:EST
DTSTART:20191103T060000
END:STANDARD
BEGIN:DAYLIGHT
TZOFFSETFROM:-0500
TZOFFSETTO:-0400
TZNAME:EDT
DTSTART:20200308T070000
END:DAYLIGHT
BEGIN:STANDARD
TZOFFSETFROM:-0400
TZOFFSETTO:-0500
TZNAME:EST
DTSTART:20201101T060000
END:STANDARD
END:VTIMEZONE
BEGIN:VEVENT
DTSTART;TZID=America/New_York:20190903T183000
DTEND;TZID=America/New_York:20190903T210000
DTSTAMP:20260422T233839
CREATED:20190731T092418Z
LAST-MODIFIED:20190731T092512Z
UID:1408-1567535400-1567544400@www.knights12532.com
SUMMARY:Admission degree
DESCRIPTION:Set up 6:30 Candidates 7:00  Degree 7:30  Current members are encouraged to attend as observers
URL:https://www.knights12532.com/event/admission-degree-9/
END:VEVENT
BEGIN:VEVENT
DTSTART;TZID=America/New_York:20190910T190000
DTEND;TZID=America/New_York:20190910T210000
DTSTAMP:20260422T233839
CREATED:20190917T115023Z
LAST-MODIFIED:20190917T115023Z
UID:1418-1568142000-1568149200@www.knights12532.com
SUMMARY:General Council Meeting
DESCRIPTION:Rosary at 7:15 Meeting follows
URL:https://www.knights12532.com/event/general-council-meeting-50/
END:VEVENT
BEGIN:VEVENT
DTSTART;TZID=America/New_York:20190918T190000
DTEND;TZID=America/New_York:20190918T210000
DTSTAMP:20260422T233839
CREATED:20190917T120015Z
LAST-MODIFIED:20190917T120015Z
UID:1430-1568833200-1568840400@www.knights12532.com
SUMMARY:4th Degree meeting
DESCRIPTION:Meeting at St Phillip’s
URL:https://www.knights12532.com/event/4th-degree-meeting-12/
END:VEVENT
BEGIN:VEVENT
DTSTART;TZID=America/New_York:20190921T090000
DTEND;TZID=America/New_York:20190921T120000
DTSTAMP:20260422T233839
CREATED:20190917T115650Z
LAST-MODIFIED:20190917T115650Z
UID:1426-1569056400-1569067200@www.knights12532.com
SUMMARY:Pro life Prayer Service
DESCRIPTION:Join us in Penn Square for a prayer service
URL:https://www.knights12532.com/event/pro-life-prayer-service/
END:VEVENT
BEGIN:VEVENT
DTSTART;TZID=America/New_York:20190922T150000
DTEND;TZID=America/New_York:20190922T183000
DTSTAMP:20260422T233839
CREATED:20190917T115512Z
LAST-MODIFIED:20190917T115512Z
UID:1424-1569164400-1569177000@www.knights12532.com
SUMMARY:Soccer Challenge
DESCRIPTION:At LCHS sports fields.  Help is needed 3:30 – 6:00  District challenge to follow
URL:https://www.knights12532.com/event/soccer-challenge-2/
END:VEVENT
BEGIN:VEVENT
DTSTART;TZID=America/New_York:20190924T190000
DTEND;TZID=America/New_York:20190924T210000
DTSTAMP:20260422T233839
CREATED:20190917T115220Z
LAST-MODIFIED:20190917T115220Z
UID:1420-1569351600-1569358800@www.knights12532.com
SUMMARY:Officer Meeting
DESCRIPTION:All are welcome to help guide our council
URL:https://www.knights12532.com/event/officer-meeting-36/
END:VEVENT
BEGIN:VEVENT
DTSTART;TZID=America/New_York:20190925T120000
DTEND;TZID=America/New_York:20190925T150000
DTSTAMP:20260422T233839
CREATED:20190917T115851Z
LAST-MODIFIED:20190917T115851Z
UID:1428-1569412800-1569423600@www.knights12532.com
SUMMARY:Pro life mass and walk to Planned Parenthood
DESCRIPTION:Join us for this Pro life opportunity.  Mass followed by a walk to planned parenthood then pizza
URL:https://www.knights12532.com/event/pro-life-mass-and-walk-to-planned-parenthood/
END:VEVENT
BEGIN:VEVENT
DTSTART;VALUE=DATE:20190928
DTEND;VALUE=DATE:20190930
DTSTAMP:20260422T233839
CREATED:20190917T115329Z
LAST-MODIFIED:20190917T115329Z
UID:1422-1569628800-1569801599@www.knights12532.com
SUMMARY:5th Sunday Rosary
DESCRIPTION:We will pray the rosary prior to all Masses this weekend.  Contact Ron Eluk to help
URL:https://www.knights12532.com/event/5th-sunday-rosary-13/
END:VEVENT
END:VCALENDAR