BEGIN:VCALENDAR
VERSION:2.0
PRODID:-//KofC12532 - ECPv6.15.20//NONSGML v1.0//EN
CALSCALE:GREGORIAN
METHOD:PUBLISH
X-ORIGINAL-URL:https://www.knights12532.com
X-WR-CALDESC:Events for KofC12532
REFRESH-INTERVAL;VALUE=DURATION:PT1H
X-Robots-Tag:noindex
X-PUBLISHED-TTL:PT1H
BEGIN:VTIMEZONE
TZID:America/New_York
BEGIN:DAYLIGHT
TZOFFSETFROM:-0500
TZOFFSETTO:-0400
TZNAME:EDT
DTSTART:20180311T070000
END:DAYLIGHT
BEGIN:STANDARD
TZOFFSETFROM:-0400
TZOFFSETTO:-0500
TZNAME:EST
DTSTART:20181104T060000
END:STANDARD
BEGIN:DAYLIGHT
TZOFFSETFROM:-0500
TZOFFSETTO:-0400
TZNAME:EDT
DTSTART:20190310T070000
END:DAYLIGHT
BEGIN:STANDARD
TZOFFSETFROM:-0400
TZOFFSETTO:-0500
TZNAME:EST
DTSTART:20191103T060000
END:STANDARD
BEGIN:DAYLIGHT
TZOFFSETFROM:-0500
TZOFFSETTO:-0400
TZNAME:EDT
DTSTART:20200308T070000
END:DAYLIGHT
BEGIN:STANDARD
TZOFFSETFROM:-0400
TZOFFSETTO:-0500
TZNAME:EST
DTSTART:20201101T060000
END:STANDARD
END:VTIMEZONE
BEGIN:VEVENT
DTSTART;VALUE=DATE:20191005
DTEND;VALUE=DATE:20191007
DTSTAMP:20260422T221120
CREATED:20190917T122044Z
LAST-MODIFIED:20190917T122044Z
UID:1434-1570233600-1570406399@www.knights12532.com
SUMMARY:Mom's House Bag Handout
DESCRIPTION:we will be distributing bags for Mom’s House after all Masses
URL:https://www.knights12532.com/event/moms-house-bag-handout-2/
END:VEVENT
BEGIN:VEVENT
DTSTART;TZID=America/New_York:20191006T130000
DTEND;TZID=America/New_York:20191006T170000
DTSTAMP:20260422T221120
CREATED:20190917T120226Z
LAST-MODIFIED:20190917T120226Z
UID:1432-1570366800-1570381200@www.knights12532.com
SUMMARY:Knighthood (3rd) Degree
DESCRIPTION:join us for the Knighthood degree held at 867 council.  Candidates 1:00 degree starts at 1:30
URL:https://www.knights12532.com/event/knighthood-3rd-degree/
LOCATION:Knights of Columbus 867\, 1575 New Danville Pike\, Lancaster\, PA\, 17603\, United States
END:VEVENT
BEGIN:VEVENT
DTSTART;TZID=America/New_York:20191008T183000
DTEND;TZID=America/New_York:20191008T210000
DTSTAMP:20260422T221120
CREATED:20190917T122607Z
LAST-MODIFIED:20190917T122607Z
UID:1440-1570559400-1570568400@www.knights12532.com
SUMMARY:General Council Meeting
DESCRIPTION:Rosary at 7:15 meeting follows.  We will be meeting early to distribute funds to multiple charities.  6:30 pm
URL:https://www.knights12532.com/event/general-council-meeting-51/
END:VEVENT
BEGIN:VEVENT
DTSTART;VALUE=DATE:20191012
DTEND;VALUE=DATE:20191014
DTSTAMP:20260422T221120
CREATED:20190917T122147Z
LAST-MODIFIED:20190917T122147Z
UID:1436-1570838400-1571011199@www.knights12532.com
SUMMARY:Mom's House Bag Collection
DESCRIPTION:We will be collecting Bags for Mom’s House after all Masses
URL:https://www.knights12532.com/event/moms-house-bag-collection-2/
END:VEVENT
BEGIN:VEVENT
DTSTART;TZID=America/New_York:20191015T093000
DTEND;TZID=America/New_York:20191015T113000
DTSTAMP:20260422T221120
CREATED:20190917T122304Z
LAST-MODIFIED:20190917T122304Z
UID:1438-1571131800-1571139000@www.knights12532.com
SUMMARY:Mom's House donation delivery
DESCRIPTION:We will be delivering the collected goods to Mom’s house following the 9 am Mass
URL:https://www.knights12532.com/event/moms-house-donation-delivery/
END:VEVENT
BEGIN:VEVENT
DTSTART;TZID=America/New_York:20191015T190000
DTEND;TZID=America/New_York:20191015T210000
DTSTAMP:20260422T221120
CREATED:20190917T123405Z
LAST-MODIFIED:20190917T123405Z
UID:1444-1571166000-1571173200@www.knights12532.com
SUMMARY:4th degree Meeting
DESCRIPTION:Rosary at 7:15
URL:https://www.knights12532.com/event/4th-degree-meeting-14/
LOCATION:Mary Mother of the Church\, 625 Union School Rd\, Mt. Joy
END:VEVENT
BEGIN:VEVENT
DTSTART;TZID=America/New_York:20191022T190000
DTEND;TZID=America/New_York:20191022T210000
DTSTAMP:20260422T221120
CREATED:20190917T122712Z
LAST-MODIFIED:20190917T122712Z
UID:1442-1571770800-1571778000@www.knights12532.com
SUMMARY:Officer Meeting
DESCRIPTION:All are welcome at this meeting.  Come help lead the direction of the council
URL:https://www.knights12532.com/event/officer-meeting-37/
END:VEVENT
END:VCALENDAR