BEGIN:VCALENDAR
VERSION:2.0
PRODID:-//KofC12532 - ECPv6.15.20//NONSGML v1.0//EN
CALSCALE:GREGORIAN
METHOD:PUBLISH
X-WR-CALNAME:KofC12532
X-ORIGINAL-URL:https://www.knights12532.com
X-WR-CALDESC:Events for KofC12532
REFRESH-INTERVAL;VALUE=DURATION:PT1H
X-Robots-Tag:noindex
X-PUBLISHED-TTL:PT1H
BEGIN:VTIMEZONE
TZID:America/New_York
BEGIN:DAYLIGHT
TZOFFSETFROM:-0500
TZOFFSETTO:-0400
TZNAME:EDT
DTSTART:20180311T070000
END:DAYLIGHT
BEGIN:STANDARD
TZOFFSETFROM:-0400
TZOFFSETTO:-0500
TZNAME:EST
DTSTART:20181104T060000
END:STANDARD
BEGIN:DAYLIGHT
TZOFFSETFROM:-0500
TZOFFSETTO:-0400
TZNAME:EDT
DTSTART:20190310T070000
END:DAYLIGHT
BEGIN:STANDARD
TZOFFSETFROM:-0400
TZOFFSETTO:-0500
TZNAME:EST
DTSTART:20191103T060000
END:STANDARD
BEGIN:DAYLIGHT
TZOFFSETFROM:-0500
TZOFFSETTO:-0400
TZNAME:EDT
DTSTART:20200308T070000
END:DAYLIGHT
BEGIN:STANDARD
TZOFFSETFROM:-0400
TZOFFSETTO:-0500
TZNAME:EST
DTSTART:20201101T060000
END:STANDARD
END:VTIMEZONE
BEGIN:VEVENT
DTSTART;VALUE=DATE:20191103
DTEND;VALUE=DATE:20191104
DTSTAMP:20260422T203640
CREATED:20191013T110539Z
LAST-MODIFIED:20191013T110539Z
UID:1463-1572739200-1572825599@www.knights12532.com
SUMMARY:Pancake Breakfast
DESCRIPTION:Help needed for this fundraising/recruitment event.  Contact Jack Schuring for info
URL:https://www.knights12532.com/event/pancake-breakfast-4/
END:VEVENT
BEGIN:VEVENT
DTSTART;VALUE=DATE:20191109
DTEND;VALUE=DATE:20191110
DTSTAMP:20260422T203640
CREATED:20191013T110733Z
LAST-MODIFIED:20191013T110733Z
UID:1465-1573257600-1573343999@www.knights12532.com
SUMMARY:4th Degree
DESCRIPTION:4th degree members join us in Granville for the exemplification!
URL:https://www.knights12532.com/event/4th-degree/
END:VEVENT
BEGIN:VEVENT
DTSTART;TZID=America/New_York:20191112T190000
DTEND;TZID=America/New_York:20191112T210000
DTSTAMP:20260422T203640
CREATED:20190917T123717Z
LAST-MODIFIED:20190917T123717Z
UID:1447-1573585200-1573592400@www.knights12532.com
SUMMARY:General Council Meeting
DESCRIPTION:Rosary 7:15\, meeting follows
URL:https://www.knights12532.com/event/general-council-meeting-52/
END:VEVENT
BEGIN:VEVENT
DTSTART;TZID=America/New_York:20191126T190000
DTEND;TZID=America/New_York:20191126T210000
DTSTAMP:20260422T203640
CREATED:20190917T123859Z
LAST-MODIFIED:20190917T123859Z
UID:1449-1574794800-1574802000@www.knights12532.com
SUMMARY:Officer Meeting
DESCRIPTION:All are welcome\, come help decide the direction of the council
URL:https://www.knights12532.com/event/officer-meeting-38/
END:VEVENT
END:VCALENDAR