BEGIN:VCALENDAR
VERSION:2.0
PRODID:-//KofC12532 - ECPv6.15.20//NONSGML v1.0//EN
CALSCALE:GREGORIAN
METHOD:PUBLISH
X-WR-CALNAME:KofC12532
X-ORIGINAL-URL:https://www.knights12532.com
X-WR-CALDESC:Events for KofC12532
REFRESH-INTERVAL;VALUE=DURATION:PT1H
X-Robots-Tag:noindex
X-PUBLISHED-TTL:PT1H
BEGIN:VTIMEZONE
TZID:America/New_York
BEGIN:DAYLIGHT
TZOFFSETFROM:-0500
TZOFFSETTO:-0400
TZNAME:EDT
DTSTART:20180311T070000
END:DAYLIGHT
BEGIN:STANDARD
TZOFFSETFROM:-0400
TZOFFSETTO:-0500
TZNAME:EST
DTSTART:20181104T060000
END:STANDARD
BEGIN:DAYLIGHT
TZOFFSETFROM:-0500
TZOFFSETTO:-0400
TZNAME:EDT
DTSTART:20190310T070000
END:DAYLIGHT
BEGIN:STANDARD
TZOFFSETFROM:-0400
TZOFFSETTO:-0500
TZNAME:EST
DTSTART:20191103T060000
END:STANDARD
BEGIN:DAYLIGHT
TZOFFSETFROM:-0500
TZOFFSETTO:-0400
TZNAME:EDT
DTSTART:20200308T070000
END:DAYLIGHT
BEGIN:STANDARD
TZOFFSETFROM:-0400
TZOFFSETTO:-0500
TZNAME:EST
DTSTART:20201101T060000
END:STANDARD
END:VTIMEZONE
BEGIN:VEVENT
DTSTART;TZID=America/New_York:20191210T190000
DTEND;TZID=America/New_York:20191210T210000
DTSTAMP:20260422T190638
CREATED:20190917T124152Z
LAST-MODIFIED:20190917T124152Z
UID:1451-1576004400-1576011600@www.knights12532.com
SUMMARY:General Council Meeting
DESCRIPTION:Rosary at 7:15 meeting follows
URL:https://www.knights12532.com/event/general-council-meeting-53/
END:VEVENT
BEGIN:VEVENT
DTSTART;TZID=America/New_York:20191213T180000
DTEND;TZID=America/New_York:20191213T233000
DTSTAMP:20260422T190638
CREATED:20191205T134925Z
LAST-MODIFIED:20191205T134925Z
UID:1503-1576260000-1576279800@www.knights12532.com
SUMMARY:0915 Assembly Holiday Ball
DESCRIPTION:
URL:https://www.knights12532.com/event/0915-assembly-holiday-ball/
LOCATION:Eden Resort\, 222 Eden Rd\, Lancaster \, PA\, 17601\, United States
END:VEVENT
BEGIN:VEVENT
DTSTART;TZID=America/New_York:20191224T080000
DTEND;TZID=America/New_York:20191224T170000
DTSTAMP:20260422T190638
CREATED:20190917T124251Z
LAST-MODIFIED:20190917T124251Z
UID:1453-1577174400-1577206800@www.knights12532.com
SUMMARY:Officers Meeting
DESCRIPTION:Our December meeting is typically cancelled
URL:https://www.knights12532.com/event/officers-meeting-24/
END:VEVENT
END:VCALENDAR