BEGIN:VCALENDAR
VERSION:2.0
PRODID:-//KofC12532 - ECPv6.15.20//NONSGML v1.0//EN
CALSCALE:GREGORIAN
METHOD:PUBLISH
X-WR-CALNAME:KofC12532
X-ORIGINAL-URL:https://www.knights12532.com
X-WR-CALDESC:Events for KofC12532
REFRESH-INTERVAL;VALUE=DURATION:PT1H
X-Robots-Tag:noindex
X-PUBLISHED-TTL:PT1H
BEGIN:VTIMEZONE
TZID:America/New_York
BEGIN:DAYLIGHT
TZOFFSETFROM:-0500
TZOFFSETTO:-0400
TZNAME:EDT
DTSTART:20190310T070000
END:DAYLIGHT
BEGIN:STANDARD
TZOFFSETFROM:-0400
TZOFFSETTO:-0500
TZNAME:EST
DTSTART:20191103T060000
END:STANDARD
BEGIN:DAYLIGHT
TZOFFSETFROM:-0500
TZOFFSETTO:-0400
TZNAME:EDT
DTSTART:20200308T070000
END:DAYLIGHT
BEGIN:STANDARD
TZOFFSETFROM:-0400
TZOFFSETTO:-0500
TZNAME:EST
DTSTART:20201101T060000
END:STANDARD
BEGIN:DAYLIGHT
TZOFFSETFROM:-0500
TZOFFSETTO:-0400
TZNAME:EDT
DTSTART:20210314T070000
END:DAYLIGHT
BEGIN:STANDARD
TZOFFSETFROM:-0400
TZOFFSETTO:-0500
TZNAME:EST
DTSTART:20211107T060000
END:STANDARD
END:VTIMEZONE
BEGIN:VEVENT
DTSTART;TZID=America/New_York:20201009T110000
DTEND;TZID=America/New_York:20201009T170000
DTSTAMP:20260422T030613
CREATED:20201004T112909Z
LAST-MODIFIED:20201004T112909Z
UID:2124-1602241200-1602262800@www.knights12532.com
SUMMARY:Annual Golf Outing
DESCRIPTION:Our outing is full at this time thanks for all the support.  Look forward to seeing many of you on the course!
URL:https://www.knights12532.com/event/annual-golf-outing-3/
LOCATION:Four Season Golf Course\, 949 Church Street\, Landisville\, PA\, 17538\, United States
END:VEVENT
BEGIN:VEVENT
DTSTART;TZID=America/New_York:20201013T190000
DTEND;TZID=America/New_York:20201013T203000
DTSTAMP:20260422T030613
CREATED:20201004T113144Z
LAST-MODIFIED:20201005T125433Z
UID:2126-1602615600-1602621000@www.knights12532.com
SUMMARY:General council Meeting in Pavilion 7:15 pm
DESCRIPTION:Join us for our council meeting Rosary at 7:15 meeting to follow.
URL:https://www.knights12532.com/event/general-council-meeting-62/
END:VEVENT
BEGIN:VEVENT
DTSTART;TZID=America/New_York:20201020T190000
DTEND;TZID=America/New_York:20201020T210000
DTSTAMP:20260422T030613
CREATED:20200722T140143Z
LAST-MODIFIED:20200722T140143Z
UID:1763-1603220400-1603227600@www.knights12532.com
SUMMARY:Assembly Meeting
DESCRIPTION:All 4th degree members….meeting will be held at St. Philip the Apostle pavilion UFN  Bring your own lawn chair
URL:https://www.knights12532.com/event/assembly-meeting-10/
LOCATION:St Phillip church\, 2111 Millersville Pike\, Lancaster\, PA\, 17603\, United States
END:VEVENT
END:VCALENDAR