BEGIN:VCALENDAR
VERSION:2.0
PRODID:-//KofC12532 - ECPv6.15.20//NONSGML v1.0//EN
CALSCALE:GREGORIAN
METHOD:PUBLISH
X-ORIGINAL-URL:https://www.knights12532.com
X-WR-CALDESC:Events for KofC12532
REFRESH-INTERVAL;VALUE=DURATION:PT1H
X-Robots-Tag:noindex
X-PUBLISHED-TTL:PT1H
BEGIN:VTIMEZONE
TZID:America/New_York
BEGIN:DAYLIGHT
TZOFFSETFROM:-0500
TZOFFSETTO:-0400
TZNAME:EDT
DTSTART:20200308T070000
END:DAYLIGHT
BEGIN:STANDARD
TZOFFSETFROM:-0400
TZOFFSETTO:-0500
TZNAME:EST
DTSTART:20201101T060000
END:STANDARD
BEGIN:DAYLIGHT
TZOFFSETFROM:-0500
TZOFFSETTO:-0400
TZNAME:EDT
DTSTART:20210314T070000
END:DAYLIGHT
BEGIN:STANDARD
TZOFFSETFROM:-0400
TZOFFSETTO:-0500
TZNAME:EST
DTSTART:20211107T060000
END:STANDARD
BEGIN:DAYLIGHT
TZOFFSETFROM:-0500
TZOFFSETTO:-0400
TZNAME:EDT
DTSTART:20220313T070000
END:DAYLIGHT
BEGIN:STANDARD
TZOFFSETFROM:-0400
TZOFFSETTO:-0500
TZNAME:EST
DTSTART:20221106T060000
END:STANDARD
END:VTIMEZONE
BEGIN:VEVENT
DTSTART;TZID=America/New_York:20210914T191500
DTEND;TZID=America/New_York:20210914T210000
DTSTAMP:20260421T095653
CREATED:20210702T201215Z
LAST-MODIFIED:20210702T201215Z
UID:2527-1631646900-1631653200@www.knights12532.com
SUMMARY:General Council Meeting
DESCRIPTION:Rosary 7:15 pm Meeting to follow.  Meeting will be in the Church Social Hall
URL:https://www.knights12532.com/event/general-council-meeting-69/
END:VEVENT
BEGIN:VEVENT
DTSTART;TZID=America/New_York:20210921T191500
DTEND;TZID=America/New_York:20210921T210000
DTSTAMP:20260421T095653
CREATED:20210702T201404Z
LAST-MODIFIED:20210702T201404Z
UID:2529-1632251700-1632258000@www.knights12532.com
SUMMARY:Assembly Meeting
DESCRIPTION:Rosary 7:15 meeting to follow at St. Phillips\, Millersville
URL:https://www.knights12532.com/event/assembly-meeting-16/
LOCATION:St Phillip church\, 2111 Millersville Pike\, Lancaster\, PA\, 17603\, United States
END:VEVENT
BEGIN:VEVENT
DTSTART;VALUE=DATE:20210927
DTEND;VALUE=DATE:20210928
DTSTAMP:20260421T095653
CREATED:20210920T131858Z
LAST-MODIFIED:20210920T131858Z
UID:2850-1632700800-1632787199@www.knights12532.com
SUMMARY:PA March for Life
DESCRIPTION:Support the pro-life movement\, come to the Pennsylvania March for Life in Harrisburg
URL:https://www.knights12532.com/event/pa-march-for-life-2/
END:VEVENT
BEGIN:VEVENT
DTSTART;TZID=America/New_York:20210928T191500
DTEND;TZID=America/New_York:20210928T203000
DTSTAMP:20260421T095653
CREATED:20210702T201508Z
LAST-MODIFIED:20210702T201508Z
UID:2531-1632856500-1632861000@www.knights12532.com
SUMMARY:Officer Meeting
DESCRIPTION:Meeting at 7:15 pm\, any brother Knight is welcome to attend.
URL:https://www.knights12532.com/event/officer-meeting-45/
END:VEVENT
END:VCALENDAR