BEGIN:VCALENDAR
VERSION:2.0
PRODID:-//KofC12532 - ECPv6.15.20//NONSGML v1.0//EN
CALSCALE:GREGORIAN
METHOD:PUBLISH
X-WR-CALNAME:KofC12532
X-ORIGINAL-URL:https://www.knights12532.com
X-WR-CALDESC:Events for KofC12532
REFRESH-INTERVAL;VALUE=DURATION:PT1H
X-Robots-Tag:noindex
X-PUBLISHED-TTL:PT1H
BEGIN:VTIMEZONE
TZID:America/New_York
BEGIN:DAYLIGHT
TZOFFSETFROM:-0500
TZOFFSETTO:-0400
TZNAME:EDT
DTSTART:20210314T070000
END:DAYLIGHT
BEGIN:STANDARD
TZOFFSETFROM:-0400
TZOFFSETTO:-0500
TZNAME:EST
DTSTART:20211107T060000
END:STANDARD
BEGIN:DAYLIGHT
TZOFFSETFROM:-0500
TZOFFSETTO:-0400
TZNAME:EDT
DTSTART:20220313T070000
END:DAYLIGHT
BEGIN:STANDARD
TZOFFSETFROM:-0400
TZOFFSETTO:-0500
TZNAME:EST
DTSTART:20221106T060000
END:STANDARD
BEGIN:DAYLIGHT
TZOFFSETFROM:-0500
TZOFFSETTO:-0400
TZNAME:EDT
DTSTART:20230312T070000
END:DAYLIGHT
BEGIN:STANDARD
TZOFFSETFROM:-0400
TZOFFSETTO:-0500
TZNAME:EST
DTSTART:20231105T060000
END:STANDARD
END:VTIMEZONE
BEGIN:VEVENT
DTSTART;TZID=America/New_York:20220209T190000
DTEND;TZID=America/New_York:20220209T210000
DTSTAMP:20260421T030101
CREATED:20211230T142608Z
LAST-MODIFIED:20211230T142608Z
UID:2897-1644433200-1644440400@www.knights12532.com
SUMMARY:General Council Meeting
DESCRIPTION:Rosary 7:15 pm  meeting follows…please note the change of day
URL:https://www.knights12532.com/event/general-council-meeting-74/
END:VEVENT
BEGIN:VEVENT
DTSTART;TZID=America/New_York:20220222T190000
DTEND;TZID=America/New_York:20220222T200000
DTSTAMP:20260421T030101
CREATED:20220127T222549Z
LAST-MODIFIED:20220127T222549Z
UID:2921-1645556400-1645560000@www.knights12532.com
SUMMARY:Officer's Meeting
DESCRIPTION:Meeting begins at 7:15PM
URL:https://www.knights12532.com/event/officers-meeting-30/
LOCATION:Saint John Neumann Church\, 601 East Delp Road\, Lancaster\, PA\, 17601\, United States
END:VEVENT
BEGIN:VEVENT
DTSTART;TZID=America/New_York:20220227T140000
DTEND;TZID=America/New_York:20220227T150000
DTSTAMP:20260421T030101
CREATED:20220216T162616Z
LAST-MODIFIED:20220216T162616Z
UID:3082-1645970400-1645974000@www.knights12532.com
SUMMARY:Exemplification of Charity\, Unity\, and Fraternity
DESCRIPTION:The St. John Neumann Knights of Columbus Council 12532 welcome all to an exemplification of charity\, unity\, and fraternity. \nThis degree ceremony will impart lessons that inspire men to serve. This new ceremony teaches our time-honored principles in a way that is appropriate for today. It presents the lessons of charity\, unity\, and fraternity in powerful contemporary language. It will significantly enhance a man’s first impression of the Order. It will do the same for his family and friends. \nAfter the conclusion of the ceremony\, refreshments will be served in the social hall.
URL:https://www.knights12532.com/event/exemplification-of-charity-unity-and-fraternity/
LOCATION:Saint John Neumann Church\, 601 East Delp Road\, Lancaster\, PA\, 17601\, United States
CATEGORIES:and Fraternity
ATTACH;FMTTYPE=image/jpeg:https://www.knights12532.com/wp-content/uploads/2022/02/IMG_4415-1-scaled-e1645028712242.jpg
END:VEVENT
END:VCALENDAR