BEGIN:VCALENDAR
VERSION:2.0
PRODID:-//KofC12532 - ECPv6.15.20//NONSGML v1.0//EN
CALSCALE:GREGORIAN
METHOD:PUBLISH
X-WR-CALNAME:KofC12532
X-ORIGINAL-URL:https://www.knights12532.com
X-WR-CALDESC:Events for KofC12532
REFRESH-INTERVAL;VALUE=DURATION:PT1H
X-Robots-Tag:noindex
X-PUBLISHED-TTL:PT1H
BEGIN:VTIMEZONE
TZID:America/New_York
BEGIN:DAYLIGHT
TZOFFSETFROM:-0500
TZOFFSETTO:-0400
TZNAME:EDT
DTSTART:20210314T070000
END:DAYLIGHT
BEGIN:STANDARD
TZOFFSETFROM:-0400
TZOFFSETTO:-0500
TZNAME:EST
DTSTART:20211107T060000
END:STANDARD
BEGIN:DAYLIGHT
TZOFFSETFROM:-0500
TZOFFSETTO:-0400
TZNAME:EDT
DTSTART:20220313T070000
END:DAYLIGHT
BEGIN:STANDARD
TZOFFSETFROM:-0400
TZOFFSETTO:-0500
TZNAME:EST
DTSTART:20221106T060000
END:STANDARD
BEGIN:DAYLIGHT
TZOFFSETFROM:-0500
TZOFFSETTO:-0400
TZNAME:EDT
DTSTART:20230312T070000
END:DAYLIGHT
BEGIN:STANDARD
TZOFFSETFROM:-0400
TZOFFSETTO:-0500
TZNAME:EST
DTSTART:20231105T060000
END:STANDARD
END:VTIMEZONE
BEGIN:VEVENT
DTSTART;TZID=America/New_York:20220309T190000
DTEND;TZID=America/New_York:20220309T210000
DTSTAMP:20260421T013421
CREATED:20211230T142704Z
LAST-MODIFIED:20211230T142704Z
UID:2899-1646852400-1646859600@www.knights12532.com
SUMMARY:General council Meeting
DESCRIPTION:Rosary 7:15 pm meeting follows… Please note the change of Day
URL:https://www.knights12532.com/event/general-council-meeting-75/
END:VEVENT
BEGIN:VEVENT
DTSTART;TZID=America/New_York:20220322T190000
DTEND;TZID=America/New_York:20220322T200000
DTSTAMP:20260421T013421
CREATED:20220127T220326Z
LAST-MODIFIED:20220314T022942Z
UID:2919-1647975600-1647979200@www.knights12532.com
SUMMARY:Officers' Meeting
DESCRIPTION:Meeting starts at 7:15PM
URL:https://www.knights12532.com/event/officers-meeting-29/
LOCATION:Saint John Neumann Church\, 601 East Delp Road\, Lancaster\, PA\, 17601\, United States
END:VEVENT
BEGIN:VEVENT
DTSTART;TZID=America/New_York:20220326T090000
DTEND;TZID=America/New_York:20220326T120000
DTSTAMP:20260421T013421
CREATED:20220311T030016Z
LAST-MODIFIED:20220311T030016Z
UID:3337-1648285200-1648296000@www.knights12532.com
SUMMARY:Work Detail
DESCRIPTION:Will trim hedges\, mulch the front area of the church to spruce up the grounds ahead of Palm Sunday and Easter. Troop of St. George\, a Catholic version of Boy Scouts\, is offering volunteers.
URL:https://www.knights12532.com/event/work-detail/
LOCATION:Saint John Neumann Church\, 601 East Delp Road\, Lancaster\, PA\, 17601\, United States
CATEGORIES:Work Detail
END:VEVENT
END:VCALENDAR