BEGIN:VCALENDAR
VERSION:2.0
PRODID:-//KofC12532 - ECPv6.15.20//NONSGML v1.0//EN
CALSCALE:GREGORIAN
METHOD:PUBLISH
X-ORIGINAL-URL:https://www.knights12532.com
X-WR-CALDESC:Events for KofC12532
REFRESH-INTERVAL;VALUE=DURATION:PT1H
X-Robots-Tag:noindex
X-PUBLISHED-TTL:PT1H
BEGIN:VTIMEZONE
TZID:America/New_York
BEGIN:DAYLIGHT
TZOFFSETFROM:-0500
TZOFFSETTO:-0400
TZNAME:EDT
DTSTART:20220313T070000
END:DAYLIGHT
BEGIN:STANDARD
TZOFFSETFROM:-0400
TZOFFSETTO:-0500
TZNAME:EST
DTSTART:20221106T060000
END:STANDARD
BEGIN:DAYLIGHT
TZOFFSETFROM:-0500
TZOFFSETTO:-0400
TZNAME:EDT
DTSTART:20230312T070000
END:DAYLIGHT
BEGIN:STANDARD
TZOFFSETFROM:-0400
TZOFFSETTO:-0500
TZNAME:EST
DTSTART:20231105T060000
END:STANDARD
BEGIN:DAYLIGHT
TZOFFSETFROM:-0500
TZOFFSETTO:-0400
TZNAME:EDT
DTSTART:20240310T070000
END:DAYLIGHT
BEGIN:STANDARD
TZOFFSETFROM:-0400
TZOFFSETTO:-0500
TZNAME:EST
DTSTART:20241103T060000
END:STANDARD
END:VTIMEZONE
BEGIN:VEVENT
DTSTART;TZID=America/New_York:20230420T190000
DTEND;TZID=America/New_York:20230420T200000
DTSTAMP:20260420T061142
CREATED:20230416T161902Z
LAST-MODIFIED:20230416T161902Z
UID:3641-1682017200-1682020800@www.knights12532.com
SUMMARY:Golf/Pig roast meeting
DESCRIPTION:Committee members please attend. Meeting in the Library\, please enter through side doors.
URL:https://www.knights12532.com/event/golf-pig-roast-meeting/
END:VEVENT
BEGIN:VEVENT
DTSTART;TZID=America/New_York:20230425T190000
DTEND;TZID=America/New_York:20230425T203000
DTSTAMP:20260420T061142
CREATED:20230416T161658Z
LAST-MODIFIED:20230416T161658Z
UID:3639-1682449200-1682454600@www.knights12532.com
SUMMARY:Officer meeting
DESCRIPTION:All members are welcome to attend
URL:https://www.knights12532.com/event/officer-meeting-51/
END:VEVENT
BEGIN:VEVENT
DTSTART;VALUE=DATE:20230429
DTEND;VALUE=DATE:20230501
DTSTAMP:20260420T061142
CREATED:20230416T164405Z
LAST-MODIFIED:20230416T164405Z
UID:3668-1682726400-1682899199@www.knights12532.com
SUMMARY:5th Sunday Rosary
DESCRIPTION:Knights will lead the Rosary prior to all Masses.  Please join us 30 minutes prior to Mass
URL:https://www.knights12532.com/event/5th-sunday-rosary-15/
CATEGORIES:Rosary
END:VEVENT
END:VCALENDAR