BEGIN:VCALENDAR
VERSION:2.0
PRODID:-//KofC12532 - ECPv6.15.20//NONSGML v1.0//EN
CALSCALE:GREGORIAN
METHOD:PUBLISH
X-WR-CALNAME:KofC12532
X-ORIGINAL-URL:https://www.knights12532.com
X-WR-CALDESC:Events for KofC12532
REFRESH-INTERVAL;VALUE=DURATION:PT1H
X-Robots-Tag:noindex
X-PUBLISHED-TTL:PT1H
BEGIN:VTIMEZONE
TZID:America/New_York
BEGIN:DAYLIGHT
TZOFFSETFROM:-0500
TZOFFSETTO:-0400
TZNAME:EDT
DTSTART:20220313T070000
END:DAYLIGHT
BEGIN:STANDARD
TZOFFSETFROM:-0400
TZOFFSETTO:-0500
TZNAME:EST
DTSTART:20221106T060000
END:STANDARD
BEGIN:DAYLIGHT
TZOFFSETFROM:-0500
TZOFFSETTO:-0400
TZNAME:EDT
DTSTART:20230312T070000
END:DAYLIGHT
BEGIN:STANDARD
TZOFFSETFROM:-0400
TZOFFSETTO:-0500
TZNAME:EST
DTSTART:20231105T060000
END:STANDARD
BEGIN:DAYLIGHT
TZOFFSETFROM:-0500
TZOFFSETTO:-0400
TZNAME:EDT
DTSTART:20240310T070000
END:DAYLIGHT
BEGIN:STANDARD
TZOFFSETFROM:-0400
TZOFFSETTO:-0500
TZNAME:EST
DTSTART:20241103T060000
END:STANDARD
END:VTIMEZONE
BEGIN:VEVENT
DTSTART;TZID=America/New_York:20230509T190000
DTEND;TZID=America/New_York:20230509T210000
DTSTAMP:20260420T044222
CREATED:20230416T162006Z
LAST-MODIFIED:20230416T162006Z
UID:3643-1683658800-1683666000@www.knights12532.com
SUMMARY:General Council Meeting
DESCRIPTION:Rosary at 7:15 meeting to follow
URL:https://www.knights12532.com/event/general-council-meeting-85/
END:VEVENT
BEGIN:VEVENT
DTSTART;TZID=America/New_York:20230515T190000
DTEND;TZID=America/New_York:20230515T200000
DTSTAMP:20260420T044222
CREATED:20230511T135256Z
LAST-MODIFIED:20230511T135256Z
UID:3675-1684177200-1684180800@www.knights12532.com
SUMMARY:Golf and Pig Roast Meeting
DESCRIPTION:anyone interested in joining either committee\, please attend.  Golf meeting will be first
URL:https://www.knights12532.com/event/golf-and-pig-roast-meeting-2/
END:VEVENT
BEGIN:VEVENT
DTSTART;TZID=America/New_York:20230516T190000
DTEND;TZID=America/New_York:20230516T210000
DTSTAMP:20260420T044222
CREATED:20230511T135449Z
LAST-MODIFIED:20230511T135449Z
UID:3677-1684263600-1684270800@www.knights12532.com
SUMMARY:4th Degree Meeting at SJN
DESCRIPTION:Meeting starts at 7:30  Please attend if your a 4th degree member
URL:https://www.knights12532.com/event/4th-degree-meeting-at-sjn/
END:VEVENT
BEGIN:VEVENT
DTSTART;TZID=America/New_York:20230518T180000
DTEND;TZID=America/New_York:20230518T200000
DTSTAMP:20260420T044222
CREATED:20230416T162225Z
LAST-MODIFIED:20230416T162225Z
UID:3645-1684432800-1684440000@www.knights12532.com
SUMMARY:Council BBQ
DESCRIPTION:Help us initiate our new roaster.  Main dish provided\, please bring a side to share.  RSVP to jackschuring@comcast.net or 717 368 0841 by May 9th.
URL:https://www.knights12532.com/event/council-bbq/
END:VEVENT
BEGIN:VEVENT
DTSTART;TZID=America/New_York:20230523T203000
DTEND;TZID=America/New_York:20230523T203000
DTSTAMP:20260420T044222
CREATED:20230416T162316Z
LAST-MODIFIED:20230416T162316Z
UID:3647-1684873800-1684873800@www.knights12532.com
SUMMARY:Officer Meeting
DESCRIPTION:all members are welcome to attend
URL:https://www.knights12532.com/event/officer-meeting-52/
END:VEVENT
END:VCALENDAR