BEGIN:VCALENDAR
VERSION:2.0
PRODID:-//KofC12532 - ECPv6.15.20//NONSGML v1.0//EN
CALSCALE:GREGORIAN
METHOD:PUBLISH
X-ORIGINAL-URL:https://www.knights12532.com
X-WR-CALDESC:Events for KofC12532
REFRESH-INTERVAL;VALUE=DURATION:PT1H
X-Robots-Tag:noindex
X-PUBLISHED-TTL:PT1H
BEGIN:VTIMEZONE
TZID:America/New_York
BEGIN:DAYLIGHT
TZOFFSETFROM:-0500
TZOFFSETTO:-0400
TZNAME:EDT
DTSTART:20220313T070000
END:DAYLIGHT
BEGIN:STANDARD
TZOFFSETFROM:-0400
TZOFFSETTO:-0500
TZNAME:EST
DTSTART:20221106T060000
END:STANDARD
BEGIN:DAYLIGHT
TZOFFSETFROM:-0500
TZOFFSETTO:-0400
TZNAME:EDT
DTSTART:20230312T070000
END:DAYLIGHT
BEGIN:STANDARD
TZOFFSETFROM:-0400
TZOFFSETTO:-0500
TZNAME:EST
DTSTART:20231105T060000
END:STANDARD
BEGIN:DAYLIGHT
TZOFFSETFROM:-0500
TZOFFSETTO:-0400
TZNAME:EDT
DTSTART:20240310T070000
END:DAYLIGHT
BEGIN:STANDARD
TZOFFSETFROM:-0400
TZOFFSETTO:-0500
TZNAME:EST
DTSTART:20241103T060000
END:STANDARD
END:VTIMEZONE
BEGIN:VEVENT
DTSTART;TZID=America/New_York:20230711T190000
DTEND;TZID=America/New_York:20230711T210000
DTSTAMP:20260420T015923
CREATED:20230416T162909Z
LAST-MODIFIED:20230416T162909Z
UID:3656-1689102000-1689109200@www.knights12532.com
SUMMARY:General Council Meeting
DESCRIPTION:Rosary 7:15 pm meeting to follow
URL:https://www.knights12532.com/event/general-council-meeting-87/
CATEGORIES:General Council Meeting
END:VEVENT
BEGIN:VEVENT
DTSTART;TZID=America/New_York:20230725T190000
DTEND;TZID=America/New_York:20230725T203000
DTSTAMP:20260420T015923
CREATED:20230416T163001Z
LAST-MODIFIED:20230416T163001Z
UID:3658-1690311600-1690317000@www.knights12532.com
SUMMARY:Officer Meeting
DESCRIPTION:All are welcome to attend
URL:https://www.knights12532.com/event/officer-meeting-54/
END:VEVENT
BEGIN:VEVENT
DTSTART;TZID=America/New_York:20230726T170000
DTEND;TZID=America/New_York:20230726T190000
DTSTAMP:20260420T015923
CREATED:20230724T213754Z
LAST-MODIFIED:20230724T213754Z
UID:3764-1690390800-1690398000@www.knights12532.com
SUMMARY:Statue work Detail
DESCRIPTION:Work then Dinner  Hope to see you there
URL:https://www.knights12532.com/event/statue-work-detail/
END:VEVENT
BEGIN:VEVENT
DTSTART;VALUE=DATE:20230729
DTEND;VALUE=DATE:20230731
DTSTAMP:20260420T015923
CREATED:20230724T212927Z
LAST-MODIFIED:20230724T212927Z
UID:3758-1690588800-1690761599@www.knights12532.com
SUMMARY:5th Sunday Rosary
DESCRIPTION:Join us as we pray the Rosary prior to all the Masses.
URL:https://www.knights12532.com/event/5th-sunday-rosary-16/
END:VEVENT
END:VCALENDAR