BEGIN:VCALENDAR
VERSION:2.0
PRODID:-//KofC12532 - ECPv6.15.20//NONSGML v1.0//EN
CALSCALE:GREGORIAN
METHOD:PUBLISH
X-WR-CALNAME:KofC12532
X-ORIGINAL-URL:https://www.knights12532.com
X-WR-CALDESC:Events for KofC12532
REFRESH-INTERVAL;VALUE=DURATION:PT1H
X-Robots-Tag:noindex
X-PUBLISHED-TTL:PT1H
BEGIN:VTIMEZONE
TZID:America/New_York
BEGIN:DAYLIGHT
TZOFFSETFROM:-0500
TZOFFSETTO:-0400
TZNAME:EDT
DTSTART:20220313T070000
END:DAYLIGHT
BEGIN:STANDARD
TZOFFSETFROM:-0400
TZOFFSETTO:-0500
TZNAME:EST
DTSTART:20221106T060000
END:STANDARD
BEGIN:DAYLIGHT
TZOFFSETFROM:-0500
TZOFFSETTO:-0400
TZNAME:EDT
DTSTART:20230312T070000
END:DAYLIGHT
BEGIN:STANDARD
TZOFFSETFROM:-0400
TZOFFSETTO:-0500
TZNAME:EST
DTSTART:20231105T060000
END:STANDARD
BEGIN:DAYLIGHT
TZOFFSETFROM:-0500
TZOFFSETTO:-0400
TZNAME:EDT
DTSTART:20240310T070000
END:DAYLIGHT
BEGIN:STANDARD
TZOFFSETFROM:-0400
TZOFFSETTO:-0500
TZNAME:EST
DTSTART:20241103T060000
END:STANDARD
END:VTIMEZONE
BEGIN:VEVENT
DTSTART;VALUE=DATE:20231203
DTEND;VALUE=DATE:20231204
DTSTAMP:20260419T184759
CREATED:20231025T140302Z
LAST-MODIFIED:20231025T140302Z
UID:3883-1701561600-1701647999@www.knights12532.com
SUMMARY:Coffee and Donuts
DESCRIPTION:Council is hosting Coffee and Donuts\, help is appreciated
URL:https://www.knights12532.com/event/coffee-and-donuts-2/
END:VEVENT
BEGIN:VEVENT
DTSTART;TZID=America/New_York:20231212T190000
DTEND;TZID=America/New_York:20231212T210000
DTSTAMP:20260419T184759
CREATED:20231025T140407Z
LAST-MODIFIED:20231025T140407Z
UID:3885-1702407600-1702414800@www.knights12532.com
SUMMARY:General Council Meeting
DESCRIPTION:7:15 Rosary\, meeting to follow
URL:https://www.knights12532.com/event/general-council-meeting-92/
CATEGORIES:General Council Meeting
END:VEVENT
BEGIN:VEVENT
DTSTART;TZID=America/New_York:20231216T180000
DTEND;TZID=America/New_York:20231216T230000
DTSTAMP:20260419T184759
CREATED:20231025T142419Z
LAST-MODIFIED:20231025T142419Z
UID:3891-1702749600-1702767600@www.knights12532.com
SUMMARY:Assembly Christmas Gathering
DESCRIPTION:Santa Maria Assembly Christmas Gathering at St. James Parish Hall.
URL:https://www.knights12532.com/event/assembly-christmas-gathering/
LOCATION:st James Catholic Church Lititz Pa\, 505 Woodcrest Ave\, Lititz\, PA\, 17543\, United States
END:VEVENT
END:VCALENDAR