BEGIN:VCALENDAR
VERSION:2.0
PRODID:-//KofC12532 - ECPv6.15.20//NONSGML v1.0//EN
CALSCALE:GREGORIAN
METHOD:PUBLISH
X-ORIGINAL-URL:https://www.knights12532.com
X-WR-CALDESC:Events for KofC12532
REFRESH-INTERVAL;VALUE=DURATION:PT1H
X-Robots-Tag:noindex
X-PUBLISHED-TTL:PT1H
BEGIN:VTIMEZONE
TZID:America/New_York
BEGIN:DAYLIGHT
TZOFFSETFROM:-0500
TZOFFSETTO:-0400
TZNAME:EDT
DTSTART:20230312T070000
END:DAYLIGHT
BEGIN:STANDARD
TZOFFSETFROM:-0400
TZOFFSETTO:-0500
TZNAME:EST
DTSTART:20231105T060000
END:STANDARD
BEGIN:DAYLIGHT
TZOFFSETFROM:-0500
TZOFFSETTO:-0400
TZNAME:EDT
DTSTART:20240310T070000
END:DAYLIGHT
BEGIN:STANDARD
TZOFFSETFROM:-0400
TZOFFSETTO:-0500
TZNAME:EST
DTSTART:20241103T060000
END:STANDARD
BEGIN:DAYLIGHT
TZOFFSETFROM:-0500
TZOFFSETTO:-0400
TZNAME:EDT
DTSTART:20250309T070000
END:DAYLIGHT
BEGIN:STANDARD
TZOFFSETFROM:-0400
TZOFFSETTO:-0500
TZNAME:EST
DTSTART:20251102T060000
END:STANDARD
END:VTIMEZONE
BEGIN:VEVENT
DTSTART;TZID=America/New_York:20240101T080000
DTEND;TZID=America/New_York:20240101T170000
DTSTAMP:20260419T170839
CREATED:20240101T210209Z
LAST-MODIFIED:20240101T210209Z
UID:3931-1704096000-1704128400@www.knights12532.com
SUMMARY:Officers Meeting
DESCRIPTION:All members welcome\, bring your ideas\, and help focus the council
URL:https://www.knights12532.com/event/officers-meeting-37/
END:VEVENT
BEGIN:VEVENT
DTSTART;VALUE=DATE:20240107
DTEND;VALUE=DATE:20240108
DTSTAMP:20260419T170839
CREATED:20231025T140506Z
LAST-MODIFIED:20231025T140506Z
UID:3887-1704585600-1704671999@www.knights12532.com
SUMMARY:Coffee and Donuts
DESCRIPTION:Council is hosting coffee and Donuts\, help is appreciated
URL:https://www.knights12532.com/event/coffee-and-donuts-3/
END:VEVENT
BEGIN:VEVENT
DTSTART;TZID=America/New_York:20240110T191500
DTEND;TZID=America/New_York:20240110T210000
DTSTAMP:20260419T170839
CREATED:20240101T204158Z
LAST-MODIFIED:20240101T204158Z
UID:3908-1704914100-1704920400@www.knights12532.com
SUMMARY:General council Meeting
DESCRIPTION:January meeting moved to Jan 10th due to 40 hours.  Rosary 7:15 pm meeting follows.
URL:https://www.knights12532.com/event/general-council-meeting-93/
END:VEVENT
BEGIN:VEVENT
DTSTART;VALUE=DATE:20240119
DTEND;VALUE=DATE:20240120
DTSTAMP:20260419T170839
CREATED:20240101T204422Z
LAST-MODIFIED:20240101T204422Z
UID:3912-1705622400-1705708799@www.knights12532.com
SUMMARY:MARCH FOR LIFE
DESCRIPTION:We have sponsored a bus for the March for Life.  Information has been in the bulletin.  Maximum attendance would be great.  Contact Ray Horan for details
URL:https://www.knights12532.com/event/march-for-life-6/
END:VEVENT
BEGIN:VEVENT
DTSTART;TZID=America/New_York:20240123T190000
DTEND;TZID=America/New_York:20240123T203000
DTSTAMP:20260419T170839
CREATED:20240101T204302Z
LAST-MODIFIED:20240101T204302Z
UID:3910-1706036400-1706041800@www.knights12532.com
SUMMARY:Officer Meeting
DESCRIPTION:All members are welcome to attend\, bring your ideas and help guide the direction of the council
URL:https://www.knights12532.com/event/officer-meeting-59/
END:VEVENT
BEGIN:VEVENT
DTSTART;TZID=America/New_York:20240127T180000
DTEND;TZID=America/New_York:20240127T230000
DTSTAMP:20260419T170839
CREATED:20240101T204753Z
LAST-MODIFIED:20240101T204753Z
UID:3914-1706378400-1706396400@www.knights12532.com
SUMMARY:OMPH Knight at the Races
DESCRIPTION:Fundraiser for Father Daley council 4191.  Doors at 6 pm   more information at www.kofc4191.org
URL:https://www.knights12532.com/event/omph-knight-at-the-races/
LOCATION:OMPH Church\, 320 Church Av\, Ephrata\, PA\, 17522\, United States
END:VEVENT
END:VCALENDAR