BEGIN:VCALENDAR
VERSION:2.0
PRODID:-//KofC12532 - ECPv6.15.20//NONSGML v1.0//EN
CALSCALE:GREGORIAN
METHOD:PUBLISH
X-ORIGINAL-URL:https://www.knights12532.com
X-WR-CALDESC:Events for KofC12532
REFRESH-INTERVAL;VALUE=DURATION:PT1H
X-Robots-Tag:noindex
X-PUBLISHED-TTL:PT1H
BEGIN:VTIMEZONE
TZID:America/New_York
BEGIN:DAYLIGHT
TZOFFSETFROM:-0500
TZOFFSETTO:-0400
TZNAME:EDT
DTSTART:20230312T070000
END:DAYLIGHT
BEGIN:STANDARD
TZOFFSETFROM:-0400
TZOFFSETTO:-0500
TZNAME:EST
DTSTART:20231105T060000
END:STANDARD
BEGIN:DAYLIGHT
TZOFFSETFROM:-0500
TZOFFSETTO:-0400
TZNAME:EDT
DTSTART:20240310T070000
END:DAYLIGHT
BEGIN:STANDARD
TZOFFSETFROM:-0400
TZOFFSETTO:-0500
TZNAME:EST
DTSTART:20241103T060000
END:STANDARD
BEGIN:DAYLIGHT
TZOFFSETFROM:-0500
TZOFFSETTO:-0400
TZNAME:EDT
DTSTART:20250309T070000
END:DAYLIGHT
BEGIN:STANDARD
TZOFFSETFROM:-0400
TZOFFSETTO:-0500
TZNAME:EST
DTSTART:20251102T060000
END:STANDARD
END:VTIMEZONE
BEGIN:VEVENT
DTSTART;TZID=America/New_York:20240213T191500
DTEND;TZID=America/New_York:20240213T210000
DTSTAMP:20260419T152829
CREATED:20240101T204858Z
LAST-MODIFIED:20240101T204858Z
UID:3916-1707851700-1707858000@www.knights12532.com
SUMMARY:General council meeting
DESCRIPTION:Rosary 7:15 pm meeting follows
URL:https://www.knights12532.com/event/general-council-meeting-94/
END:VEVENT
BEGIN:VEVENT
DTSTART;TZID=America/New_York:20240217T180000
DTEND;TZID=America/New_York:20240217T230000
DTSTAMP:20260419T152829
CREATED:20240101T205152Z
LAST-MODIFIED:20240101T205152Z
UID:3919-1708192800-1708210800@www.knights12532.com
SUMMARY:St. James council 10827 Trivia night
DESCRIPTION:Gather up a team\, head up to St. James for a fun night of trivia.  Cost $15.00 per person.
URL:https://www.knights12532.com/event/st-james-council-10827-trivia-night/
LOCATION:st James Catholic Church Lititz Pa\, 505 Woodcrest Ave\, Lititz\, PA\, 17543\, United States
END:VEVENT
BEGIN:VEVENT
DTSTART;TZID=America/New_York:20240227T190000
DTEND;TZID=America/New_York:20240227T210000
DTSTAMP:20260419T152829
CREATED:20240101T205300Z
LAST-MODIFIED:20240101T205300Z
UID:3921-1709060400-1709067600@www.knights12532.com
SUMMARY:Officers Meeting
DESCRIPTION:All members welcome\, bring your ideas and help guide the council.
URL:https://www.knights12532.com/event/officers-meeting-36/
END:VEVENT
END:VCALENDAR