BEGIN:VCALENDAR
VERSION:2.0
PRODID:-//KofC12532 - ECPv6.15.20//NONSGML v1.0//EN
CALSCALE:GREGORIAN
METHOD:PUBLISH
X-ORIGINAL-URL:https://www.knights12532.com
X-WR-CALDESC:Events for KofC12532
REFRESH-INTERVAL;VALUE=DURATION:PT1H
X-Robots-Tag:noindex
X-PUBLISHED-TTL:PT1H
BEGIN:VTIMEZONE
TZID:America/New_York
BEGIN:DAYLIGHT
TZOFFSETFROM:-0500
TZOFFSETTO:-0400
TZNAME:EDT
DTSTART:20230312T070000
END:DAYLIGHT
BEGIN:STANDARD
TZOFFSETFROM:-0400
TZOFFSETTO:-0500
TZNAME:EST
DTSTART:20231105T060000
END:STANDARD
BEGIN:DAYLIGHT
TZOFFSETFROM:-0500
TZOFFSETTO:-0400
TZNAME:EDT
DTSTART:20240310T070000
END:DAYLIGHT
BEGIN:STANDARD
TZOFFSETFROM:-0400
TZOFFSETTO:-0500
TZNAME:EST
DTSTART:20241103T060000
END:STANDARD
BEGIN:DAYLIGHT
TZOFFSETFROM:-0500
TZOFFSETTO:-0400
TZNAME:EDT
DTSTART:20250309T070000
END:DAYLIGHT
BEGIN:STANDARD
TZOFFSETFROM:-0400
TZOFFSETTO:-0500
TZNAME:EST
DTSTART:20251102T060000
END:STANDARD
END:VTIMEZONE
BEGIN:VEVENT
DTSTART;TZID=America/New_York:20240611T191500
DTEND;TZID=America/New_York:20240611T210000
DTSTAMP:20260419T095132
CREATED:20240101T211348Z
LAST-MODIFIED:20240101T211348Z
UID:3944-1718133300-1718139600@www.knights12532.com
SUMMARY:General council meeting
DESCRIPTION:Rosary 7:15pm meeting follows
URL:https://www.knights12532.com/event/general-council-meeting-98/
END:VEVENT
BEGIN:VEVENT
DTSTART;TZID=America/New_York:20240612T170000
DTEND;TZID=America/New_York:20240612T210000
DTSTAMP:20260419T095132
CREATED:20240524T023310Z
LAST-MODIFIED:20240524T023310Z
UID:4193-1718211600-1718226000@www.knights12532.com
SUMMARY:Special Olympic Fundraiser
DESCRIPTION:Enjoy dinner at Funcks\, tip generously and support the Lancaster County Special Olympics.
URL:https://www.knights12532.com/event/special-olympic-fundraiser/
LOCATION:Funck’s Restaurant 365 W Main St\, Leola\, PA 17540\, 365 West Main St\, Leola\, PA\, 17540\, United States
END:VEVENT
BEGIN:VEVENT
DTSTART;TZID=America/New_York:20240613T180000
DTEND;TZID=America/New_York:20240613T200000
DTSTAMP:20260419T095132
CREATED:20240518T140531Z
LAST-MODIFIED:20240518T140531Z
UID:4164-1718301600-1718308800@www.knights12532.com
SUMMARY:Council Picnic
DESCRIPTION:Join us for a picnic.  6pm – 8pm at the pavilion come out and get to know your brother Knights on a more personal level.
URL:https://www.knights12532.com/event/council-picnic-2/
END:VEVENT
BEGIN:VEVENT
DTSTART;TZID=America/New_York:20240625T190000
DTEND;TZID=America/New_York:20240625T203000
DTSTAMP:20260419T095132
CREATED:20240101T211441Z
LAST-MODIFIED:20240101T211441Z
UID:3946-1719342000-1719347400@www.knights12532.com
SUMMARY:Officer Meeting
DESCRIPTION:All members are welcome to attend!
URL:https://www.knights12532.com/event/officer-meeting-61/
END:VEVENT
BEGIN:VEVENT
DTSTART;VALUE=DATE:20240629
DTEND;VALUE=DATE:20240701
DTSTAMP:20260419T095132
CREATED:20240101T211554Z
LAST-MODIFIED:20240101T211554Z
UID:3948-1719619200-1719791999@www.knights12532.com
SUMMARY:5th Sunday Rosary
DESCRIPTION:Lead or participate in the Rosary prior to all Masses this weekend.
URL:https://www.knights12532.com/event/5th-sunday-rosary-19/
CATEGORIES:Rosary
END:VEVENT
END:VCALENDAR