BEGIN:VCALENDAR
VERSION:2.0
PRODID:-//KofC12532 - ECPv6.15.20//NONSGML v1.0//EN
CALSCALE:GREGORIAN
METHOD:PUBLISH
X-ORIGINAL-URL:https://www.knights12532.com
X-WR-CALDESC:Events for KofC12532
REFRESH-INTERVAL;VALUE=DURATION:PT1H
X-Robots-Tag:noindex
X-PUBLISHED-TTL:PT1H
BEGIN:VTIMEZONE
TZID:America/New_York
BEGIN:DAYLIGHT
TZOFFSETFROM:-0500
TZOFFSETTO:-0400
TZNAME:EDT
DTSTART:20230312T070000
END:DAYLIGHT
BEGIN:STANDARD
TZOFFSETFROM:-0400
TZOFFSETTO:-0500
TZNAME:EST
DTSTART:20231105T060000
END:STANDARD
BEGIN:DAYLIGHT
TZOFFSETFROM:-0500
TZOFFSETTO:-0400
TZNAME:EDT
DTSTART:20240310T070000
END:DAYLIGHT
BEGIN:STANDARD
TZOFFSETFROM:-0400
TZOFFSETTO:-0500
TZNAME:EST
DTSTART:20241103T060000
END:STANDARD
BEGIN:DAYLIGHT
TZOFFSETFROM:-0500
TZOFFSETTO:-0400
TZNAME:EDT
DTSTART:20250309T070000
END:DAYLIGHT
BEGIN:STANDARD
TZOFFSETFROM:-0400
TZOFFSETTO:-0500
TZNAME:EST
DTSTART:20251102T060000
END:STANDARD
END:VTIMEZONE
BEGIN:VEVENT
DTSTART;TZID=America/New_York:20240813T191500
DTEND;TZID=America/New_York:20240813T203000
DTSTAMP:20260419T100023
CREATED:20240101T212118Z
LAST-MODIFIED:20240101T212118Z
UID:3955-1723576500-1723581000@www.knights12532.com
SUMMARY:General Council meeting
DESCRIPTION:Rosary 7:15pm  meeting follows
URL:https://www.knights12532.com/event/general-council-meeting-100/
END:VEVENT
BEGIN:VEVENT
DTSTART;VALUE=DATE:20240817
DTEND;VALUE=DATE:20240819
DTSTAMP:20260419T100023
CREATED:20240101T212314Z
LAST-MODIFIED:20240101T212314Z
UID:3959-1723852800-1724025599@www.knights12532.com
SUMMARY:Pig Roast weekend
DESCRIPTION:help support this major council fundraiser.
URL:https://www.knights12532.com/event/pig-roast-weekend/
END:VEVENT
BEGIN:VEVENT
DTSTART;TZID=America/New_York:20240827T190000
DTEND;TZID=America/New_York:20240827T203000
DTSTAMP:20260419T100023
CREATED:20240101T212221Z
LAST-MODIFIED:20240101T212221Z
UID:3957-1724785200-1724790600@www.knights12532.com
SUMMARY:Officers meeting
DESCRIPTION:All members are welcome!
URL:https://www.knights12532.com/event/officers-meeting-41/
END:VEVENT
BEGIN:VEVENT
DTSTART;TZID=America/New_York:20240828T180000
DTEND;TZID=America/New_York:20240828T203000
DTSTAMP:20260419T100023
CREATED:20240816T143912Z
LAST-MODIFIED:20240816T143912Z
UID:4281-1724868000-1724877000@www.knights12532.com
SUMMARY:Catholic Approach to Maternal Care with Bishop Senior
DESCRIPTION:preregistration required email tinar@pregnancylancaster.com with attendees. \nWine and Cheese starts at 6:00p.m. discussion at 6:30
URL:https://www.knights12532.com/event/catholic-approach-to-maternal-care-with-bishop-senior/
LOCATION:St. Leo the Great\,  2427 Marietta Ave\, Lancaster\, PA\, 17601\, United States
END:VEVENT
END:VCALENDAR