BEGIN:VCALENDAR
VERSION:2.0
PRODID:-//KofC12532 - ECPv6.15.20//NONSGML v1.0//EN
CALSCALE:GREGORIAN
METHOD:PUBLISH
X-ORIGINAL-URL:https://www.knights12532.com
X-WR-CALDESC:Events for KofC12532
REFRESH-INTERVAL;VALUE=DURATION:PT1H
X-Robots-Tag:noindex
X-PUBLISHED-TTL:PT1H
BEGIN:VTIMEZONE
TZID:America/New_York
BEGIN:DAYLIGHT
TZOFFSETFROM:-0500
TZOFFSETTO:-0400
TZNAME:EDT
DTSTART:20250309T070000
END:DAYLIGHT
BEGIN:STANDARD
TZOFFSETFROM:-0400
TZOFFSETTO:-0500
TZNAME:EST
DTSTART:20251102T060000
END:STANDARD
BEGIN:DAYLIGHT
TZOFFSETFROM:-0500
TZOFFSETTO:-0400
TZNAME:EDT
DTSTART:20260308T070000
END:DAYLIGHT
BEGIN:STANDARD
TZOFFSETFROM:-0400
TZOFFSETTO:-0500
TZNAME:EST
DTSTART:20261101T060000
END:STANDARD
BEGIN:DAYLIGHT
TZOFFSETFROM:-0500
TZOFFSETTO:-0400
TZNAME:EDT
DTSTART:20270314T070000
END:DAYLIGHT
BEGIN:STANDARD
TZOFFSETFROM:-0400
TZOFFSETTO:-0500
TZNAME:EST
DTSTART:20271107T060000
END:STANDARD
END:VTIMEZONE
BEGIN:VEVENT
DTSTART;TZID=America/New_York:20260208T070000
DTEND;TZID=America/New_York:20260208T130000
DTSTAMP:20260425T235342
CREATED:20260202T010929Z
LAST-MODIFIED:20260202T010929Z
UID:4797-1770534000-1770555600@www.knights12532.com
SUMMARY:Coffee and Donuts
DESCRIPTION:Help needed after all Masses for Coffee and Donuts
URL:https://www.knights12532.com/event/coffee-and-donuts-14/
END:VEVENT
BEGIN:VEVENT
DTSTART;TZID=America/New_York:20260210T190000
DTEND;TZID=America/New_York:20260210T203000
DTSTAMP:20260425T235342
CREATED:20260202T010825Z
LAST-MODIFIED:20260202T010825Z
UID:4795-1770750000-1770755400@www.knights12532.com
SUMMARY:General Council Meeting
DESCRIPTION:Rosary at 7:15pm\, meeting follows
URL:https://www.knights12532.com/event/general-council-meeting-116/
END:VEVENT
BEGIN:VEVENT
DTSTART;TZID=America/New_York:20260221T183000
DTEND;TZID=America/New_York:20260221T210000
DTSTAMP:20260425T235342
CREATED:20260202T011257Z
LAST-MODIFIED:20260202T011257Z
UID:4801-1771698600-1771707600@www.knights12532.com
SUMMARY:St James Trivia Night
DESCRIPTION:Join our brother Knights at St. James council in Lititz for a fun night of Trivia
URL:https://www.knights12532.com/event/st-james-trivia-night-2/
LOCATION:st James Catholic Church Lititz Pa\, 505 Woodcrest Ave\, Lititz\, PA\, 17543\, United States
END:VEVENT
BEGIN:VEVENT
DTSTART;TZID=America/New_York:20260222T070000
DTEND;TZID=America/New_York:20260222T130000
DTSTAMP:20260425T235342
CREATED:20260217T095330Z
LAST-MODIFIED:20260217T095330Z
UID:4830-1771743600-1771765200@www.knights12532.com
SUMMARY:Coffee and Donuts
DESCRIPTION:Help needed after all Masses
URL:https://www.knights12532.com/event/coffee-and-donuts-15/
END:VEVENT
BEGIN:VEVENT
DTSTART;TZID=America/New_York:20260224T190000
DTEND;TZID=America/New_York:20260224T200000
DTSTAMP:20260425T235342
CREATED:20260202T011039Z
LAST-MODIFIED:20260202T011039Z
UID:4799-1771959600-1771963200@www.knights12532.com
SUMMARY:Officers Meeting
DESCRIPTION:All brothers are welcome to join us for this meeting.  Come help guide the council.
URL:https://www.knights12532.com/event/officers-meeting-50/
END:VEVENT
BEGIN:VEVENT
DTSTART;VALUE=DATE:20260228
DTEND;VALUE=DATE:20260302
DTSTAMP:20260425T235342
CREATED:20260214T143643Z
LAST-MODIFIED:20260214T143643Z
UID:4821-1772236800-1772409599@www.knights12532.com
SUMMARY:Candy Sales
DESCRIPTION:Candy Sales Start\, help is needed after all Masses
URL:https://www.knights12532.com/event/candy-sales-8/
END:VEVENT
END:VCALENDAR